BEGIN:VCALENDAR
VERSION:2.0
PRODID:-//AgriSafe Network - ECPv6.15.20//NONSGML v1.0//EN
CALSCALE:GREGORIAN
METHOD:PUBLISH
X-WR-CALNAME:AgriSafe Network
X-ORIGINAL-URL:https://www.agrisafe.org
X-WR-CALDESC:Events for AgriSafe Network
REFRESH-INTERVAL;VALUE=DURATION:PT1H
X-Robots-Tag:noindex
X-PUBLISHED-TTL:PT1H
BEGIN:VTIMEZONE
TZID:America/Chicago
BEGIN:DAYLIGHT
TZOFFSETFROM:-0600
TZOFFSETTO:-0500
TZNAME:CDT
DTSTART:20240310T080000
END:DAYLIGHT
BEGIN:STANDARD
TZOFFSETFROM:-0500
TZOFFSETTO:-0600
TZNAME:CST
DTSTART:20241103T070000
END:STANDARD
BEGIN:DAYLIGHT
TZOFFSETFROM:-0600
TZOFFSETTO:-0500
TZNAME:CDT
DTSTART:20250309T080000
END:DAYLIGHT
BEGIN:STANDARD
TZOFFSETFROM:-0500
TZOFFSETTO:-0600
TZNAME:CST
DTSTART:20251102T070000
END:STANDARD
BEGIN:DAYLIGHT
TZOFFSETFROM:-0600
TZOFFSETTO:-0500
TZNAME:CDT
DTSTART:20260308T080000
END:DAYLIGHT
BEGIN:STANDARD
TZOFFSETFROM:-0500
TZOFFSETTO:-0600
TZNAME:CST
DTSTART:20261101T070000
END:STANDARD
END:VTIMEZONE
BEGIN:VEVENT
DTSTART;TZID=America/Chicago:20250923T130000
DTEND;TZID=America/Chicago:20250923T140000
DTSTAMP:20260419T151846
CREATED:20250722T213410Z
LAST-MODIFIED:20260312T145233Z
UID:24439-1758632400-1758636000@www.agrisafe.org
SUMMARY:Webinar: Strong Roots: Keeping Farming in the Family Through Health and Resilience
DESCRIPTION:Summary: A mother-daughter team (Nurse Practitioner and Agricultural Extension Agent) discusses how farm families can preserve their legacy by prioritizing mental\, emotional\, and physical health across generations. Representing 2 generations of their farming family\, they discuss chronic stressors unique to farm life\, including economic pressures and isolation. The presentation offers practical coping strategies\, promotes mental health literacy\, and emphasizes the importance of open communication\, family resilience\, and succession planning. The discussion encourages integrating the younger generation through meaningful involvement\, innovation\, and shared values\, while also connecting families to resources and community support systems. By fostering a culture of health and understanding\, the presentation empowers farm families to navigate challenges together and secure the future of their farms. \nObjectives: At the end of this webinar\, participants will : \n Recognize the vital role of family farms in sustaining local economies\, food systems\, and cultural heritage\, and identify the emotional and structural threats to farm continuity. \n Understand the ways mental health challenges\, including chronic stress\, depression\, and burnout\, affect not only individual farmers but also multigenerational family dynamics and long-term farm viability. \n Identify signs of mental health distress common in agricultural communities and explore strategies to reduce stigma and encourage early intervention and open dialogue. \n Apply simple\, effective wellness practices—such as routine\, nutrition\, rest\, spiritual grounding\, and communication tools—that can be integrated into daily farm life. \n Promote family-centered resilience by learning techniques that foster generational respect\, conflict resolution\, and shared decision-making. \n Support succession planning that includes emotional readiness\, physical capability\, and transparent communication—using available legal and financial tools. \n Connect with local and regional resources—such as cooperative extension services\, rural clinics\, faith-based groups\, and mental health hotlines—that strengthen both individual and community support networks. \nIntended audience: Farm families\, extension agents\, healthcare providers \nMeet the Presenter: Theresa G\, Long\, DNP\, FNP-BC\, Nurse Practitioner\, Riverside Medical Group and Theresa Long Pittman\, Agricultural and Natural Resources Extension Agent\, Virginia Cooperative Extension \n Register  \nTo register for this training\, you must have a free account in the AgriSafe Learning Lab. If you do not have an account\, please create one here.
URL:https://www.agrisafe.org/event/webinar-strong-roots-keeping-farming-in-the-family-through-health-and-resilience/
CATEGORIES:Cognition,Continuing Education,ERC,Health Education and Promotion,Mental Health,National Farm Safety and Health Week,Spanish Language
ATTACH;FMTTYPE=image/png:https://www.agrisafe.org/wp-content/uploads/2025/07/Tuesday-Strong-Roots_-Keeping-Farming-in-the-Family-Through-Health-and-Resilience.png
END:VEVENT
END:VCALENDAR