BEGIN:VCALENDAR
VERSION:2.0
PRODID:-//AgriSafe Network - ECPv6.15.20//NONSGML v1.0//EN
CALSCALE:GREGORIAN
METHOD:PUBLISH
X-ORIGINAL-URL:https://www.agrisafe.org
X-WR-CALDESC:Events for AgriSafe Network
REFRESH-INTERVAL;VALUE=DURATION:PT1H
X-Robots-Tag:noindex
X-PUBLISHED-TTL:PT1H
BEGIN:VTIMEZONE
TZID:America/Chicago
BEGIN:DAYLIGHT
TZOFFSETFROM:-0600
TZOFFSETTO:-0500
TZNAME:CDT
DTSTART:20240310T080000
END:DAYLIGHT
BEGIN:STANDARD
TZOFFSETFROM:-0500
TZOFFSETTO:-0600
TZNAME:CST
DTSTART:20241103T070000
END:STANDARD
BEGIN:DAYLIGHT
TZOFFSETFROM:-0600
TZOFFSETTO:-0500
TZNAME:CDT
DTSTART:20250309T080000
END:DAYLIGHT
BEGIN:STANDARD
TZOFFSETFROM:-0500
TZOFFSETTO:-0600
TZNAME:CST
DTSTART:20251102T070000
END:STANDARD
BEGIN:DAYLIGHT
TZOFFSETFROM:-0600
TZOFFSETTO:-0500
TZNAME:CDT
DTSTART:20260308T080000
END:DAYLIGHT
BEGIN:STANDARD
TZOFFSETFROM:-0500
TZOFFSETTO:-0600
TZNAME:CST
DTSTART:20261101T070000
END:STANDARD
END:VTIMEZONE
BEGIN:VEVENT
DTSTART;TZID=America/Chicago:20250923T110000
DTEND;TZID=America/Chicago:20250923T120000
DTSTAMP:20260419T164718
CREATED:20250722T212842Z
LAST-MODIFIED:20260312T145148Z
UID:24437-1758625200-1758628800@www.agrisafe.org
SUMMARY:Webinar: Changing Our Mental and Emotional Trajectory (COMET) Community Training
DESCRIPTION:Summary: COMET is a direct response to rural community members’ concerns about mental health needs. COMET is a community-based intervention to activate community members and provide them with language\, tools\, and confidence to intervene when they notice someone around them is unwell\, and before a mental health crisis occurs. COMET supports community wellness by focusing on the upstream prevention of mental and emotional health crises. \nObjectives: At the end of this webinar\, participants will be able to: \n Learn the importance of being “the other person” and the seven-component conversation guide \n Practice with tailored scenarios\, share feedback \n Participate in discussions of comfort level and motivation\, and review resources \nIntended audience: Anyone is welcome. While a range of populations can find COMET very useful\, the program is specifically designed for people living in rural communities. In this setting\, the training may also be useful for individuals looking to add a training like COMET to their own programming. \nMeet the Presenter: Maret Felzien\, MA\, Faculty\, COMET and Chad Reznicek\, MA\, LPC\, Behavioral Health State Specialist\, Colorado AgrAbility Project \n Register  \nTo register for this training\, you must have a free account in the AgriSafe Learning Lab. If you do not have an account\, please create one here.
URL:https://www.agrisafe.org/event/webinar-changing-our-mental-and-emotional-trajectory-comet-community-training/
CATEGORIES:Cognition,Continuing Education,ERC,Health Education and Promotion,Mental Health,National Farm Safety and Health Week,Spanish Language
ATTACH;FMTTYPE=image/png:https://www.agrisafe.org/wp-content/uploads/2025/07/Tuesday-COMET.png
END:VEVENT
END:VCALENDAR