BEGIN:VCALENDAR
VERSION:2.0
PRODID:-//AgriSafe Network - ECPv6.15.20//NONSGML v1.0//EN
CALSCALE:GREGORIAN
METHOD:PUBLISH
X-ORIGINAL-URL:https://www.agrisafe.org
X-WR-CALDESC:Events for AgriSafe Network
REFRESH-INTERVAL;VALUE=DURATION:PT1H
X-Robots-Tag:noindex
X-PUBLISHED-TTL:PT1H
BEGIN:VTIMEZONE
TZID:America/Chicago
BEGIN:DAYLIGHT
TZOFFSETFROM:-0600
TZOFFSETTO:-0500
TZNAME:CDT
DTSTART:20180311T080000
END:DAYLIGHT
BEGIN:STANDARD
TZOFFSETFROM:-0500
TZOFFSETTO:-0600
TZNAME:CST
DTSTART:20181104T070000
END:STANDARD
BEGIN:DAYLIGHT
TZOFFSETFROM:-0600
TZOFFSETTO:-0500
TZNAME:CDT
DTSTART:20190310T080000
END:DAYLIGHT
BEGIN:STANDARD
TZOFFSETFROM:-0500
TZOFFSETTO:-0600
TZNAME:CST
DTSTART:20191103T070000
END:STANDARD
BEGIN:DAYLIGHT
TZOFFSETFROM:-0600
TZOFFSETTO:-0500
TZNAME:CDT
DTSTART:20200308T080000
END:DAYLIGHT
BEGIN:STANDARD
TZOFFSETFROM:-0500
TZOFFSETTO:-0600
TZNAME:CST
DTSTART:20201101T070000
END:STANDARD
BEGIN:DAYLIGHT
TZOFFSETFROM:-0600
TZOFFSETTO:-0500
TZNAME:CDT
DTSTART:20210314T080000
END:DAYLIGHT
BEGIN:STANDARD
TZOFFSETFROM:-0500
TZOFFSETTO:-0600
TZNAME:CST
DTSTART:20211107T070000
END:STANDARD
BEGIN:DAYLIGHT
TZOFFSETFROM:-0600
TZOFFSETTO:-0500
TZNAME:CDT
DTSTART:20220313T080000
END:DAYLIGHT
BEGIN:STANDARD
TZOFFSETFROM:-0500
TZOFFSETTO:-0600
TZNAME:CST
DTSTART:20221106T070000
END:STANDARD
END:VTIMEZONE
BEGIN:VEVENT
DTSTART;TZID=America/Chicago:20211027T120000
DTEND;TZID=America/Chicago:20211027T133000
DTSTAMP:20260419T152211
CREATED:20210912T155115Z
LAST-MODIFIED:20211001T154018Z
UID:5135-1635336000-1635341400@www.agrisafe.org
SUMMARY:QPR
DESCRIPTION:Last updated on May 8th\, 2024 at 12:51 pm Over the last decade\, farmers and farm families have experienced increasing pressures resulting in high levels of stress\, mental health\, and suicide. QPR training teaches laypeople and professionals to recognize and respond to mental health crises using the approach of Question\, Persuade\, and Refer. This training is not recorded\, so it must be watched live. \nIn this 1.5 hour QPR training we will provide: \n\nInformation on the unique challenges farmers face that can lead to stress\, depression\, and suicide.\nExamples implementing each QPR component with someone at risk for suicide.\nInformation on how to help someone at risk of suicide.\n\nIntended Audience: Participants need to be 18 years of age or older. \nInterested in hosting a QPR training session for your organization? Contact Linda Emanuel (lemanuel@agrisafe.org) for more information! \n Register
URL:https://www.agrisafe.org/event/qpr-4/
CATEGORIES:Cognition,Mental Health,QPR
ATTACH;FMTTYPE=image/png:https://www.agrisafe.org/wp-content/uploads/2021/09/QPR-Virtual-Training-Banner.png
ORGANIZER;CN="Linda Emanuel%2C BSN%2C RN":MAILTO:info@agrisafe.org
END:VEVENT
BEGIN:VEVENT
DTSTART;TZID=America/Chicago:20210929T120000
DTEND;TZID=America/Chicago:20210929T133000
DTSTAMP:20260419T152211
CREATED:20210912T154331Z
LAST-MODIFIED:20210916T142131Z
UID:5129-1632916800-1632922200@www.agrisafe.org
SUMMARY:QPR
DESCRIPTION:Last updated on May 8th\, 2024 at 12:51 pm Over the last decade\, farmers and farm families have experienced increasing pressures resulting in high levels of stress\, mental health\, and suicide. QPR training teaches laypeople and professionals to recognize and respond to mental health crises using the approach of Question\, Persuade\, and Refer. In this 1.5 hour QPR training we will provide: \n\nInformation on the unique challenges farmers face that can lead to stress\, depression\, and suicide.\nExamples implementing each QPR component with someone at risk for suicide.\nInformation on how to help someone at risk of suicide.\n\nThis training is not recorded\, so it must be watched live. \n Register
URL:https://www.agrisafe.org/event/qpr-2/
CATEGORIES:Cognition,Mental Health,QPR
ORGANIZER;CN="Linda Emanuel%2C BSN%2C RN":MAILTO:info@agrisafe.org
END:VEVENT
BEGIN:VEVENT
DTSTART;TZID=America/Chicago:20210719T120000
DTEND;TZID=America/Chicago:20210719T133000
DTSTAMP:20260419T152211
CREATED:20210716T191203Z
LAST-MODIFIED:20210916T142113Z
UID:3568-1626696000-1626701400@www.agrisafe.org
SUMMARY:QPR
DESCRIPTION:Last updated on May 8th\, 2024 at 12:51 pm Over the last decade\, farmers and farm families have experienced increasing pressures resulting in high levels of stress\, mental health\, and suicide. QPR training teaches laypeople and professionals to recognize and respond to mental health crises using the approach of Question\, Persuade\, and Refer. In this 1.5 hour QPR training we will provide: \n\nInformation on the unique challenges farmers face that can lead to stress\, depression\, and suicide.\nExamples implementing each QPR component with someone at risk for suicide.\nInformation on how to help someone at risk of suicide.\n\nThis training is not recorded\, so it must be watched live. \n Register
URL:https://www.agrisafe.org/event/qpr/2021-07-19/
CATEGORIES:Cognition,Mental Health,QPR
ORGANIZER;CN="Linda Emanuel%2C BSN%2C RN":MAILTO:info@agrisafe.org
END:VEVENT
BEGIN:VEVENT
DTSTART;TZID=America/Chicago:20201210T120000
DTEND;TZID=America/Chicago:20201210T130000
DTSTAMP:20260419T152211
CREATED:20210713T013609Z
LAST-MODIFIED:20210713T013618Z
UID:2283-1607601600-1607605200@www.agrisafe.org
SUMMARY:Discovering the Root of your Back Story – Prevention and Understanding of Back Injuries
DESCRIPTION:Last updated on May 8th\, 2024 at 12:51 pm Back injuries are one of the most common forms of farm-related injuries\, so protecting the back is one of the most important things a producer can do to stay active on the farm. Men and women are both prone to work-related back pain and the first episode usually occurs between the ages of 20 and 40. Training will focus on effects of whole body vibration\, causes of back injuries/pain\, how to prevent back injuries/pain\, and other considerations. \nIntended Audience: This training is intended primarily for health and safety professionals including but not limited to owner/operators\, safety officers or specialists\, managers\, supervisors\, safety coordinators\, health safety and environmental interns and any person or persons who serve as safety personnel in an agricultural setting. \nObjectives: \nUpon completion of this training\, participants will be able to: \n\nIdentify causes of back injuries/pain\nExplain and utilize strategies to prevent back injuries/pain\nDescribe and utilize proper lifting techniques\nDescribe effects of whole body vibration (WBV)\nApply strategies for maintaining back health\nRecall ways to manage chronic pain\n\nLast updated on May 8th\, 2024 at 12:51 pm \n\nRegistration Instructions: \n\n\n\nIf you don’t already have a profile with AgriSafe\, please set up a free account. This free account allows you access to our many training opportunities. Once you have signed up\, you can watch this webinar on-demand. \n\n\n  \n Watch this webinar on-demand.
URL:https://www.agrisafe.org/event/discovering-the-root-of-your-back-story-prevention-and-understanding-of-back-injuries/
CATEGORIES:Fitness,Musculoskeletal,OSHA Standards
ORGANIZER;CN="Dan Neenan%2C MBA%2C Paramedic":MAILTO:info@agrisafe.org
END:VEVENT
BEGIN:VEVENT
DTSTART;TZID=America/Chicago:20190529T120000
DTEND;TZID=America/Chicago:20190529T130000
DTSTAMP:20260419T152211
CREATED:20210713T013229Z
LAST-MODIFIED:20210713T013229Z
UID:2270-1559131200-1559134800@www.agrisafe.org
SUMMARY:AgriSafe Think Tank: Improving the Health of Farmer Military Veterans
DESCRIPTION:Last updated on May 8th\, 2024 at 12:51 pm \nThis Think Tank Webinar will address the health disparities facing farmer military veterans and explore opportunities for their home communities to support their health and well being. Your help is needed to ensure that future AgriSafe programming and services meet the unique health care needs faced by farmer veterans \n  \nLast updated on May 8th\, 2024 at 12:51 pm \n\nRegistration Instructions: \n\n\n\nIf you don’t already have a profile with AgriSafe\, please set up a free account. This free account allows you access to our many training opportunities. Once you have signed up\, you can watch this webinar on-demand. \n\n \n  \n Watch this webinar on-demand.
URL:https://www.agrisafe.org/event/agrisafe-think-tank-improving-the-health-of-farmer-military-veterans/
CATEGORIES:Farmer/Worker Health,Healthcare,Veteran’s Health
ORGANIZER;CN="Knesha Rose-Davison%2C MPH%2C CPH":MAILTO:info@agrisafe.org
END:VEVENT
BEGIN:VEVENT
DTSTART;TZID=America/Chicago:20190321T120000
DTEND;TZID=America/Chicago:20190321T130000
DTSTAMP:20260419T152211
CREATED:20210713T014018Z
LAST-MODIFIED:20210713T014018Z
UID:2241-1553169600-1553173200@www.agrisafe.org
SUMMARY:Winter Farm Flood Health Threats: Risk Factors During Recovery
DESCRIPTION:Last updated on May 8th\, 2024 at 12:51 pm \nThis presentation will highlight basic precautions to prevent possible diseases and injuries during and after flooding. Floodwater can be contaminated by pollutants including sewage\, human and animal feces\, pesticides and insecticides\, fertilizers\, oil\, asbestos\, rusting building materials\, and others. \nWinter floods can heighten the risk of health threats such as mold\, tetanus bacteria\, contaminated well-water\, hypothermia and high stress. This is especially true on farms and ranches where inherent farm hazards such as machinery and equipment\, livestock\, and agricultural chemicals are displaced and co-mingle\, putting all emergency response personnel\, farm workers and family members in danger. \nLast updated on May 8th\, 2024 at 12:51 pm \n\nRegistration Instructions: \n\n\n\nIf you don’t already have a profile with AgriSafe\, please set up a free account. This free account allows you access to our many training opportunities. Once you have signed up\, you can watch this webinar on-demand. \n\n \n  \n Watch this webinar on-demand.
URL:https://www.agrisafe.org/event/winter-farm-flood-health-threats-risk-factors-during-recovery/
CATEGORIES:Hazards,Health Education and Promotion,Personal Protective Equipment
ORGANIZER;CN="Chad Roy%2C PhD%2C MSPH":MAILTO:info@agrisafe.org
END:VEVENT
END:VCALENDAR