BEGIN:VCALENDAR
VERSION:2.0
PRODID:-//AgriSafe Network - ECPv6.15.20//NONSGML v1.0//EN
CALSCALE:GREGORIAN
METHOD:PUBLISH
X-ORIGINAL-URL:https://www.agrisafe.org
X-WR-CALDESC:Events for AgriSafe Network
REFRESH-INTERVAL;VALUE=DURATION:PT1H
X-Robots-Tag:noindex
X-PUBLISHED-TTL:PT1H
BEGIN:VTIMEZONE
TZID:America/Chicago
BEGIN:DAYLIGHT
TZOFFSETFROM:-0600
TZOFFSETTO:-0500
TZNAME:CDT
DTSTART:20230312T080000
END:DAYLIGHT
BEGIN:STANDARD
TZOFFSETFROM:-0500
TZOFFSETTO:-0600
TZNAME:CST
DTSTART:20231105T070000
END:STANDARD
BEGIN:DAYLIGHT
TZOFFSETFROM:-0600
TZOFFSETTO:-0500
TZNAME:CDT
DTSTART:20240310T080000
END:DAYLIGHT
BEGIN:STANDARD
TZOFFSETFROM:-0500
TZOFFSETTO:-0600
TZNAME:CST
DTSTART:20241103T070000
END:STANDARD
BEGIN:DAYLIGHT
TZOFFSETFROM:-0600
TZOFFSETTO:-0500
TZNAME:CDT
DTSTART:20250309T080000
END:DAYLIGHT
BEGIN:STANDARD
TZOFFSETFROM:-0500
TZOFFSETTO:-0600
TZNAME:CST
DTSTART:20251102T070000
END:STANDARD
END:VTIMEZONE
BEGIN:VEVENT
DTSTART;TZID=America/Chicago:20240221T120000
DTEND;TZID=America/Chicago:20240221T130000
DTSTAMP:20260422T013537
CREATED:20240126T005224Z
LAST-MODIFIED:20240221T233635Z
UID:17783-1708516800-1708520400@www.agrisafe.org
SUMMARY:Webinar: Promoting the Practice of Presence
DESCRIPTION:Summary: To be present means to show up\, to occur\, or to exist. We must ask ourselves\, “Are we present in our daily lives?” We bring with us our experiences\, beliefs\, and values in everyday interactions that influence how we show up and the relationships we establish. This session will explore our cultural values and journey through how we can more impactfully and effectively work with those we encounter in work\, leisure\, and life. \nIntended Audience: Adult learners \nObjectives: In this session\, participants will increase their capacity to… \n\nExplain the relationship between emotional intelligence and cultural intelligence\nUnderstand factors that drive effective work across differences\nImplement strategies that promote collaborative relationships\n\n Watch the Recording Here
URL:https://www.agrisafe.org/event/webinar-promoting-the-practice-of-presence/
CATEGORIES:BIPOC Farmers,DEIA
ATTACH;FMTTYPE=image/png:https://www.agrisafe.org/wp-content/uploads/2024/01/Webinar-Promo-1.png
END:VEVENT
END:VCALENDAR