BEGIN:VCALENDAR
VERSION:2.0
PRODID:-//AgriSafe Network - ECPv6.15.20//NONSGML v1.0//EN
CALSCALE:GREGORIAN
METHOD:PUBLISH
X-ORIGINAL-URL:https://www.agrisafe.org
X-WR-CALDESC:Events for AgriSafe Network
REFRESH-INTERVAL;VALUE=DURATION:PT1H
X-Robots-Tag:noindex
X-PUBLISHED-TTL:PT1H
BEGIN:VTIMEZONE
TZID:America/Chicago
BEGIN:DAYLIGHT
TZOFFSETFROM:-0600
TZOFFSETTO:-0500
TZNAME:CDT
DTSTART:20230312T080000
END:DAYLIGHT
BEGIN:STANDARD
TZOFFSETFROM:-0500
TZOFFSETTO:-0600
TZNAME:CST
DTSTART:20231105T070000
END:STANDARD
BEGIN:DAYLIGHT
TZOFFSETFROM:-0600
TZOFFSETTO:-0500
TZNAME:CDT
DTSTART:20240310T080000
END:DAYLIGHT
BEGIN:STANDARD
TZOFFSETFROM:-0500
TZOFFSETTO:-0600
TZNAME:CST
DTSTART:20241103T070000
END:STANDARD
BEGIN:DAYLIGHT
TZOFFSETFROM:-0600
TZOFFSETTO:-0500
TZNAME:CDT
DTSTART:20250309T080000
END:DAYLIGHT
BEGIN:STANDARD
TZOFFSETFROM:-0500
TZOFFSETTO:-0600
TZNAME:CST
DTSTART:20251102T070000
END:STANDARD
END:VTIMEZONE
BEGIN:VEVENT
DTSTART;TZID=America/Chicago:20240828T120000
DTEND;TZID=America/Chicago:20240828T130000
DTSTAMP:20260419T192258
CREATED:20240731T211904Z
LAST-MODIFIED:20260312T144017Z
UID:20784-1724846400-1724850000@www.agrisafe.org
SUMMARY:Webinar: Overcoming Barriers and Understanding the Psychological Impact of Livestock Euthanasia: A Study on Spanish-Speaking Swine Caretakers’ Pig Euthanasia Practices on U.S. Farms
DESCRIPTION:Summary: The webinar will be focused on the impact of pig euthanasia on Hispanic farmworkers\, explaining the need to consider the cultural background of the people as part of effective training and welfare practices. We will delve into the importance of timely and humane euthanasia in maintaining both animal welfare and industry standards. This session will highlight the diverse demographics of the U.S. swine industry workforce\, particularly the significant presence of Latin American workers who may face unique cultural and psychological barriers.  \nParticipants will gain insights into the findings from a comprehensive study conducted across 16 farms in Iowa\, where almost 200 Hispanic caretakers were surveyed and answer that assessed their attitudes and challenges related to pig euthanasia.   \nKey discussion points will include:  \n\nThe psychological impact of euthanasia on caretakers\, with a focus on secondary traumatic stress and its higher prevalence among female workers. \nThe critical role of customized training programs is to improve the ability to identify compromised pigs and perform timely euthanasia. \nBy understanding these factors\, attendees will be better equipped to develop and implement targeted training initiatives that address cultural sensitivities\, ultimately enhancing worker satisfaction\, animal welfare\, and compliance with industry audits. \n\nIntended Audience: Swine industry professionals\, farm managers and owners\, animal welfare advocates\, agricultural trainers and educators\, human resource managers in agriculture\, veterinarians and veterinary technicians\, policymakers and regulatory bodies\, researchers and academics \nObjectives: At the end of this webinar participants will be able to: \n\nIdentify and understand the cultural and demographic barriers that Hispanic farmworkers face in performing timely and humane pig euthanasia.\nGain insights into the importance of timely euthanasia in the Common Swine Industry Audit (CSIA) context and learn strategies to enhance compliance with industry standards through improved training and practices.\nUtilize the insights from the research to improve on-farm practices\, ensuring timely and humane euthanasia processes that align with industry standards and enhance animal welfare. \n\n  \n Watch the Recording Here
URL:https://www.agrisafe.org/event/webinar-overcoming-barriers-and-understanding-the-psychological-impact-of-livestock-euthanasia-a-study-on-spanish-speaking-swine-caretakers-pig-euthanasia-practices-on-u-s-farms/
CATEGORIES:BIPOC Farmers,Mental Health,Zoonotic Diseases
ATTACH;FMTTYPE=image/png:https://www.agrisafe.org/wp-content/uploads/2024/07/Pig-farmers.png
END:VEVENT
END:VCALENDAR