BEGIN:VCALENDAR
VERSION:2.0
PRODID:-//AgriSafe Network - ECPv6.15.20//NONSGML v1.0//EN
CALSCALE:GREGORIAN
METHOD:PUBLISH
X-ORIGINAL-URL:https://www.agrisafe.org
X-WR-CALDESC:Events for AgriSafe Network
REFRESH-INTERVAL;VALUE=DURATION:PT1H
X-Robots-Tag:noindex
X-PUBLISHED-TTL:PT1H
BEGIN:VTIMEZONE
TZID:America/Chicago
BEGIN:DAYLIGHT
TZOFFSETFROM:-0600
TZOFFSETTO:-0500
TZNAME:CDT
DTSTART:20220313T080000
END:DAYLIGHT
BEGIN:STANDARD
TZOFFSETFROM:-0500
TZOFFSETTO:-0600
TZNAME:CST
DTSTART:20221106T070000
END:STANDARD
BEGIN:DAYLIGHT
TZOFFSETFROM:-0600
TZOFFSETTO:-0500
TZNAME:CDT
DTSTART:20230312T080000
END:DAYLIGHT
BEGIN:STANDARD
TZOFFSETFROM:-0500
TZOFFSETTO:-0600
TZNAME:CST
DTSTART:20231105T070000
END:STANDARD
BEGIN:DAYLIGHT
TZOFFSETFROM:-0600
TZOFFSETTO:-0500
TZNAME:CDT
DTSTART:20240310T080000
END:DAYLIGHT
BEGIN:STANDARD
TZOFFSETFROM:-0500
TZOFFSETTO:-0600
TZNAME:CST
DTSTART:20241103T070000
END:STANDARD
END:VTIMEZONE
BEGIN:VEVENT
DTSTART;TZID=America/Chicago:20231018T120000
DTEND;TZID=America/Chicago:20231018T130000
DTSTAMP:20260421T194949
CREATED:20230928T165237Z
LAST-MODIFIED:20231026T144710Z
UID:16746-1697630400-1697634000@www.agrisafe.org
SUMMARY:Webinar: The Healing Capacity of Honey Bees: Veterans Using Beekeeping as a Modality to Achieve Positive Mental Health Outcomes
DESCRIPTION:Summary: Veterans deal with a whole host of disabilities\, traumas\, and transitional issues following military service. Agriculture can serve as a solution to many veteran issues through professional training to support career goals and therapeutic activities to support overall wellness of the veteran and their families. Crosscutting programs like Heroes to Hives seek to address these multifaceted needs through professional training in beekeeping and transpersonal wellness practices within the course that seek to utilize bees and the interaction with them as modalities for positive health outcomes. In this session\, we will discuss how Heroes to Hives delivers wellness opportunities and practices to their students. \nIntended Audience: Health Care Providers\, Ag Educators\, and Veteran Service Providers \nObjectives: At the end of this webinar\, participants will be able to: \n\nParticipants will learn about the Heroes to Hives program’s integrative training program.\nParticipants will understand the value of integrating transpersonal practices into agricultural settings for wellness.\nParticipants will learn how collaboration with the VA can lead to new wellness opportunities for veterans using VA care.\nParticipants will learn about the USDA Sustainable Agriculture Research and Education program’s Professional Development grant opportunity.\n\n Watch the Recording Here
URL:https://www.agrisafe.org/event/webinar-the-healing-capacity-of-honey-bees-veterans-using-beekeeping-as-a-modality-to-achieve-positive-mental-health-outcomes/
CATEGORIES:Mental Health,Veteran’s Health
ATTACH;FMTTYPE=image/png:https://www.agrisafe.org/wp-content/uploads/2023/09/H2H-2.png
END:VEVENT
END:VCALENDAR