BEGIN:VCALENDAR
VERSION:2.0
PRODID:-//AgriSafe Network - ECPv6.15.20//NONSGML v1.0//EN
CALSCALE:GREGORIAN
METHOD:PUBLISH
X-ORIGINAL-URL:https://www.agrisafe.org
X-WR-CALDESC:Events for AgriSafe Network
REFRESH-INTERVAL;VALUE=DURATION:PT1H
X-Robots-Tag:noindex
X-PUBLISHED-TTL:PT1H
BEGIN:VTIMEZONE
TZID:America/Chicago
BEGIN:DAYLIGHT
TZOFFSETFROM:-0600
TZOFFSETTO:-0500
TZNAME:CDT
DTSTART:20210314T080000
END:DAYLIGHT
BEGIN:STANDARD
TZOFFSETFROM:-0500
TZOFFSETTO:-0600
TZNAME:CST
DTSTART:20211107T070000
END:STANDARD
BEGIN:DAYLIGHT
TZOFFSETFROM:-0600
TZOFFSETTO:-0500
TZNAME:CDT
DTSTART:20220313T080000
END:DAYLIGHT
BEGIN:STANDARD
TZOFFSETFROM:-0500
TZOFFSETTO:-0600
TZNAME:CST
DTSTART:20221106T070000
END:STANDARD
BEGIN:DAYLIGHT
TZOFFSETFROM:-0600
TZOFFSETTO:-0500
TZNAME:CDT
DTSTART:20230312T080000
END:DAYLIGHT
BEGIN:STANDARD
TZOFFSETFROM:-0500
TZOFFSETTO:-0600
TZNAME:CST
DTSTART:20231105T070000
END:STANDARD
END:VTIMEZONE
BEGIN:VEVENT
DTSTART;TZID=America/Chicago:20220629T120000
DTEND;TZID=America/Chicago:20220629T130000
DTSTAMP:20260424T110937
CREATED:20220527T203527Z
LAST-MODIFIED:20220630T154440Z
UID:8987-1656504000-1656507600@www.agrisafe.org
SUMMARY:Webinar: Women and Heat Stress
DESCRIPTION:Summary: People who work outdoors are more likely to become dehydrated and experience heat-related illness or heat stress. Although illness from exposure to heat is preventable\, thousands become sick from occupational heat exposure every year\, and some cases are fatal. Agriculture is an industry where workers have suffered heat-related illnesses. Specific groups within the agricultural community\, including pregnant women\, older workers\, and young children\, could have elevated risks related to prolonged heat and humidity exposure. However\, with proper information and preventative action\, heat-related illness can be avoided for all populations in the agricultural community. \nThis training will identify the warning signs of heat-related illness and discuss prevention strategies\, including protective clothing and equipment to protect agricultural workers from the risks associated with prolonged exposure to heat and humidity. \nThis material was produced under grant number SH-37171-SH1 from the Occupational Safety and Health Administration\, U.S. Department of Labor. It does not necessarily reflect the views or policies of the U.S. Department of Labor\, nor does mention of trade names\, commercial products\, or organizations imply endorsement by the U.S. Government. \n Watch Now  \n 
URL:https://www.agrisafe.org/event/webinar-women-and-heat-stress/
CATEGORIES:Farmer/Worker Health,Heat Related Illnesses,OSHA Standards
ATTACH;FMTTYPE=image/jpeg:https://www.agrisafe.org/wp-content/uploads/2022/05/Parkinsons-Disease-4.jpg
ORGANIZER;CN="Knesha Rose-Davison%2C MPH%2C CPH":MAILTO:info@agrisafe.org
END:VEVENT
END:VCALENDAR