BEGIN:VCALENDAR
VERSION:2.0
PRODID:-//AgriSafe Network - ECPv6.15.20//NONSGML v1.0//EN
CALSCALE:GREGORIAN
METHOD:PUBLISH
X-WR-CALNAME:AgriSafe Network
X-ORIGINAL-URL:https://www.agrisafe.org
X-WR-CALDESC:Events for AgriSafe Network
REFRESH-INTERVAL;VALUE=DURATION:PT1H
X-Robots-Tag:noindex
X-PUBLISHED-TTL:PT1H
BEGIN:VTIMEZONE
TZID:America/Chicago
BEGIN:DAYLIGHT
TZOFFSETFROM:-0600
TZOFFSETTO:-0500
TZNAME:CDT
DTSTART:20230312T080000
END:DAYLIGHT
BEGIN:STANDARD
TZOFFSETFROM:-0500
TZOFFSETTO:-0600
TZNAME:CST
DTSTART:20231105T070000
END:STANDARD
BEGIN:DAYLIGHT
TZOFFSETFROM:-0600
TZOFFSETTO:-0500
TZNAME:CDT
DTSTART:20240310T080000
END:DAYLIGHT
BEGIN:STANDARD
TZOFFSETFROM:-0500
TZOFFSETTO:-0600
TZNAME:CST
DTSTART:20241103T070000
END:STANDARD
BEGIN:DAYLIGHT
TZOFFSETFROM:-0600
TZOFFSETTO:-0500
TZNAME:CDT
DTSTART:20250309T080000
END:DAYLIGHT
BEGIN:STANDARD
TZOFFSETFROM:-0500
TZOFFSETTO:-0600
TZNAME:CST
DTSTART:20251102T070000
END:STANDARD
END:VTIMEZONE
BEGIN:VEVENT
DTSTART;TZID=America/Chicago:20240319T120000
DTEND;TZID=America/Chicago:20240319T130000
DTSTAMP:20260421T104520
CREATED:20240306T142842Z
LAST-MODIFIED:20240319T173411Z
UID:18476-1710849600-1710853200@www.agrisafe.org
SUMMARY:Webinar: Navigating the Impact of COVID-19\, Influenza\, & RSV on Agricultural Workers: A Comprehensive Overview
DESCRIPTION:Summary: COVID-19\, Influenza\, and RSV are all viruses spread by droplets and direct contact with infected people. Each virus has its specific causes\, symptoms\, severity\, and vaccines for prevention. The distinction of these viruses is critical\, especially given the multiple barriers and exposure factors for agricultural workers. This presentation will explore the risks agricultural workers face\, preventative measures\, and strategies to maintain personal and community health. \nIntended Audience: Agricultural workers and producers \nObjectives: At the end of this webinar\, participants will be able to… \n1. Identify specific symptoms of COVID-19\, Influenza\, & RSV \n2. Review current testing and treatment options for COVID-19\, Influenza\, & RSV \n3. Provide resources on workplace safety for agricultural employers and employees \n Watch the Recording Here  \nThis material was produced under grant number SH-000099-SH3 from the Occupational Safety and Health Administration\, U.S. Department of Labor. It does not necessarily reflect the views or policies of the U.S. Department of Labor\, nor does mention of trade names\, commercial products\, or organizations imply endorsement by the U.S. Government.
URL:https://www.agrisafe.org/event/webinar-navigating-the-impact-of-covid-19-influenza-rsv-on-agricultural-workers-a-comprehensive-overview/
CATEGORIES:Farmer/Worker Health,Health Education and Promotion,OSHA Standards
ATTACH;FMTTYPE=image/png:https://www.agrisafe.org/wp-content/uploads/2024/03/Farmer-Smiling.png
END:VEVENT
END:VCALENDAR