BEGIN:VCALENDAR
VERSION:2.0
PRODID:-//AgriSafe Network - ECPv6.15.20//NONSGML v1.0//EN
CALSCALE:GREGORIAN
METHOD:PUBLISH
X-ORIGINAL-URL:https://www.agrisafe.org
X-WR-CALDESC:Events for AgriSafe Network
REFRESH-INTERVAL;VALUE=DURATION:PT1H
X-Robots-Tag:noindex
X-PUBLISHED-TTL:PT1H
BEGIN:VTIMEZONE
TZID:America/Chicago
BEGIN:DAYLIGHT
TZOFFSETFROM:-0600
TZOFFSETTO:-0500
TZNAME:CDT
DTSTART:20240310T080000
END:DAYLIGHT
BEGIN:STANDARD
TZOFFSETFROM:-0500
TZOFFSETTO:-0600
TZNAME:CST
DTSTART:20241103T070000
END:STANDARD
BEGIN:DAYLIGHT
TZOFFSETFROM:-0600
TZOFFSETTO:-0500
TZNAME:CDT
DTSTART:20250309T080000
END:DAYLIGHT
BEGIN:STANDARD
TZOFFSETFROM:-0500
TZOFFSETTO:-0600
TZNAME:CST
DTSTART:20251102T070000
END:STANDARD
BEGIN:DAYLIGHT
TZOFFSETFROM:-0600
TZOFFSETTO:-0500
TZNAME:CDT
DTSTART:20260308T080000
END:DAYLIGHT
BEGIN:STANDARD
TZOFFSETFROM:-0500
TZOFFSETTO:-0600
TZNAME:CST
DTSTART:20261101T070000
END:STANDARD
END:VTIMEZONE
BEGIN:VEVENT
DTSTART;TZID=America/Chicago:20250402T100000
DTEND;TZID=America/Chicago:20250402T110000
DTSTAMP:20260423T074806
CREATED:20220620T133821Z
LAST-MODIFIED:20251203T211206Z
UID:22925-1743588000-1743591600@www.agrisafe.org
SUMMARY:Monthly Mental Health Innovations Exchange- AgriStress Response Network
DESCRIPTION:Meeting Purpose: \nThe purpose of these monthly meetings is to engage innovative ideas and strategies to serve the farming and ranching community in the area of mental health. Please extend invitations to colleagues and other professionals that are interested in this subject. \n  \n\n\n Register Here  \n  \nInterested in sharing a mental health innovation? Email Carey Portell cportell@agrisafe.org for more information on presenting at one of the AgriStress Response Network monthly meetings!
URL:https://www.agrisafe.org/event/agristress-response-network-mental-health-innovations-exchange-2024-10-02/2025-04-02/
CATEGORIES:Mental Health
ATTACH;FMTTYPE=image/png:https://www.agrisafe.org/wp-content/uploads/2022/06/Agristress-Response-Logo-transparent-background.png
END:VEVENT
BEGIN:VEVENT
DTSTART;TZID=America/Chicago:20250410T120000
DTEND;TZID=America/Chicago:20250410T130000
DTSTAMP:20260423T074806
CREATED:20250227T185833Z
LAST-MODIFIED:20260312T144441Z
UID:23514-1744286400-1744290000@www.agrisafe.org
SUMMARY:Webinar: Environmental Health Literacy and Agricultural Exposures: Where Ag Safety and Cancer Prevention Meet
DESCRIPTION:Summary: There is growing concern over the role of environmental and occupational exposures in rising cancer rates in Iowa and across the country. People employed in agriculture and related industries in rural areas may face unique environmental and occupational exposures\, besides genetic and behavioral risk factors\, that can cause cancer. \nRural barriers to accessing healthcare may compound the effects of environmental and occupational exposures in these settings. Understandable and actionable risk communications can help address existing rural cancer disparities. In this presentation\, the presenters will provide tips on how to integrate evidence-based environmental health and cancer prevention information into rural and agricultural work. Participants will learn how to better communicate risk\, answer questions\, and strengthen environmental health literacy in their communities. \nIntended Audience: Individuals with an interest in rural and agricultural communities are encouraged to attend. \nObjectives: At the end of the webinar\, participants will be able to…​ \n\nDefine environmental health literacy and its role in community health promotion and advocacy.\nIdentify evidence-based resources on environmental factors that can increase cancer risk in an agricultural setting and apply them to your own health and safety education materials.\nFind the overlap in goals and communication strategies between cancer control and agricultural safety and health professionals.\n\nMeet the Presenters: \n– Caroline Powell\, BA\, MS\, Candidate University of Iowa\, Environmental Outreach Coordinator\, Iowa Cancer Consortium \n– Audrey E. Tran Lam\, MPH\, Environmental Health Program Director\, UNI Center for Energy and Environmental Education \n\n Register  \nTo register for this training\, you must have a free account in the AgriSafe Learning Lab. If you do not have an account\, please create one here.
URL:https://www.agrisafe.org/event/webinar-environmental-health-literacy-and-agricultural-exposures-where-ag-safety-and-cancer-prevention-meet/
CATEGORIES:Farmer/Worker Health,Health Education and Promotion,Personal Protective Equipment,Pesticide & Chemical Safety
ATTACH;FMTTYPE=image/png:https://www.agrisafe.org/wp-content/uploads/2025/02/Tractor-spraying.png
END:VEVENT
BEGIN:VEVENT
DTSTART;TZID=America/Chicago:20250416T100000
DTEND;TZID=America/Chicago:20250416T113000
DTSTAMP:20260423T074806
CREATED:20250129T200220Z
LAST-MODIFIED:20250415T181629Z
UID:23318-1744797600-1744803000@www.agrisafe.org
SUMMARY:Webinar: Conversations on Access to Lethal Means (CALM) Training
DESCRIPTION:Summary: CALM (Conversations on Access to Lethal Means) is a suicide prevention training that encourages the safe storage of lethal means (firearms and medications) during a suicidal crisis. By temporarily putting time and distance between a suicidal person and highly lethal means\, a life may be saved. CALM: Counseling on Access to Lethal Means was originally created as a workshop designed for mental health professionals. \nConversations on Access to Lethal Means were developed for communities because everyone can benefit from this training. This training is not anti-gun or anti-drug and is designed to be a specific effective part of suicide prevention. \nIntended Audience: All communities of interest in suicide prevention \nObjectives: At the end of this webinar\, participants will be able to… \n\nIncrease their knowledge about suicide facts\nLearn how to inquire about the accessibility of lethal means\nLearn how to suggest safe storage\nAppraise results of lethal means reduction in countries outside the U.S.\nPractice their new skills through group discussion\n\nPresenter: Tara Haskins\, DNP\, MSN\, RN\, AHN-BC\, Total Farmer Health Director\, AgriSafe Network \n  \n Register Here  \n  \nContinuing Education Information:\nFor Multiple Disciplines: This course is jointly provided by the University of Michigan Center for Occupational Health and Safety Engineering. \n \n  \nFor Community Health Workers: CHW and/or CHW-I CEUs are available through the University of Texas at Tyler Health Science Center\, Center for Community & Rural Health Education. See individual courses for additional information.
URL:https://www.agrisafe.org/event/conversations-on-access-to-lethal-means-calm-training-2/
CATEGORIES:CALM,CHW,Continuing Education,ERC,Farmer/Worker Health,Mental Health
ATTACH;FMTTYPE=image/jpeg:https://www.agrisafe.org/wp-content/uploads/2024/05/CALM-Image-7.2.24.jpg
ORGANIZER;CN="Tara Haskins%2C DNP%2C MSN%2C RN%2C AHN-BC":MAILTO:info@agrisafe.org
END:VEVENT
BEGIN:VEVENT
DTSTART;TZID=America/Chicago:20250421T100000
DTEND;TZID=America/Chicago:20250421T133000
DTSTAMP:20260423T074806
CREATED:20250311T172528Z
LAST-MODIFIED:20250408T191930Z
UID:23597-1745229600-1745242200@www.agrisafe.org
SUMMARY:Clinician Workshop: Counseling on Access to Lethal Means (CALM)
DESCRIPTION:Summary: Counseling on Access to Lethal Means (CALM) is a powerful addition to existing strategies to reduce the risk of suicide death in at-risk people while respecting their rights and autonomy. Help keep your at-risk clients safe by learning how to collaborate with them to implement safe storage of firearms and dangerous medications. This training is listed in the Suicide Prevention Research Center’s best practice registry. The oldest and most widely-used training on lethal means safety\, CALM teaches why means matter and equips individuals with tools to intervene effectively with those at risk for suicide both upstream (before a crisis hits)\, as well as in times of crisis. This training workshop is designed specifically for clinicians and includes case studies\, breakout discussions and valuable clinical training videos. \nCost: $75 \nIntended Audience: Created for mental health clinicians\, primary care providers\, substance abuse counselors\, hotline responders\, and crisis intervention services. \nObjectives: At the end of this webinar\, participants will be able to… \n\nIncrease their knowledge about suicide facts\n\n\nLearn how to inquire about the accessibility of lethal means\n\n\nLearn how to suggest safe storage\n\n\nAppraise results of lethal means reduction in countries outside the U.S.\n\n\nPractice skills through group discussion and interactive activities.   \n\nIncrease my knowledge about suicide facts   \nThis course will only be offered live so please plan to attend during the times listed. The registration fee for this course is non-refundable. If you are unable to attend\, please email sjenkins@agrisafe.org\, and we will try to find you a spot in a future class. \nPresenters: \nOlivia Bury\, MA\, PLPC\, AgriSafe Network\, Behavioral Health Specialist \nTara Haskins\, DNP\, MSN\, RN\, AHN-BC\, AgriSafe Network\, Total Farmer Health Director \nLinda Emanuel\, BA\, RN\, AgriSafe Network\, Rural Health Liaison \n  \n Register Here  \n  \n\nIn support of improving patient care\, University of Kentucky HealthCare CECentral is jointly accredited by the Accreditation Council for Continuing Medical Education (ACCME)\, the Accreditation Council for Pharmacy Education (ACPE)\, and the American Nurses Credentialing Center (ANCC)\, to provide continuing education for the healthcare team. \nCME \nThis live activity is designated for a maximum of 3.50 AMA PRA Category 1 Credit(s)™. Physicians should claim only credit commensurate with the extent of their participation in the activity. \nCPE \nThis knowledge-based activity will award 3.50 contact hours (0.350 CEUs) of continuing pharmacy education credit in states that recognize ACPE providers. \nASWB ACE \nAs a Jointly Accredited Organization\, UK HealthCare CECentral is approved to offer social work continuing education by the Association of Social Work Boards (ASWB) Approved Continuing Education (ACE) program. Organizations\, not individual courses\, are approved under this program. State and provincial regulatory boards have the final authority to determine whether an individual course may be accepted for continuing education credit. UK HealthCare CECentral maintains responsibility for this course. Social workers completing this course receive 3.50 clinical continuing education credits. \nCNE \nThe maximum number of hours awarded for this Continuing Nursing Education activity is 3.50 nursing contact hours. \nContinuing Education for Louisiana Licensed Professional Counselors: This workshop has been approved for 3.5 CE clock hours in Diagnosis by the Louisiana Counseling Association as authorized by the Louisiana Mental Health Law (R.S. 37:1101-1123). \n 
URL:https://www.agrisafe.org/event/counseling-on-access-to-lethal-means-calm-clinician-workshop/
CATEGORIES:CALM,Continuing Education,ERC,Farmer/Worker Health,Mental Health
ATTACH;FMTTYPE=image/png:https://www.agrisafe.org/wp-content/uploads/2025/03/clinician-1.png
END:VEVENT
BEGIN:VEVENT
DTSTART;TZID=America/Chicago:20250422T120000
DTEND;TZID=America/Chicago:20250422T130000
DTSTAMP:20260423T074806
CREATED:20250221T190549Z
LAST-MODIFIED:20260413T194107Z
UID:23452-1745323200-1745326800@www.agrisafe.org
SUMMARY:Webinar: Naloxone Training: Responding to Opioid Overdose
DESCRIPTION:Summary: Overdose deaths are a leading cause of injury-related death in the United States and the majority of overdose deaths involve opioids. This epidemic is impacting communities all across the country. Naloxone is a life-saving medication that can reverse an overdose from opioids when given in time. This session is designed to prepare communities and non-medical public and safety professionals to recognize and respond to an opioid overdose. Participants will learn the warning signs of opioid overdose and how to intervene safely using naloxone. \nIntended Audience: All communities\, academia\, workplace employers and employees \nObjectives: At the end of this webinar participants will be able to… \n\nIdentify risk factors for opioid intentional and nonintentional overdose\nRecognize the signs of opioid overdose\nRespond effectively to an opioid overdose\nCorrectly administer intranasal naloxone\n\nPresenter: Tara Haskins\, DNP\, MSN\, RN\, AHN-BC\, Total Farmer Health Director\, AgriSafe Network \n  \n Register Here  \n  \nContinuing Education Information:\nFor Multiple Disciplines: This course is jointly provided by the University of Michigan Center for Occupational Health and Safety Engineering.
URL:https://www.agrisafe.org/event/webinar-naloxone-training-responding-to-opioid-overdose-2/
CATEGORIES:Continuing Education,ERC,Mental Health,Opioids
ATTACH;FMTTYPE=image/png:https://www.agrisafe.org/wp-content/uploads/2024/02/opioid-crisis.png
ORGANIZER;CN="Tara Haskins%2C DNP%2C MSN%2C RN%2C AHN-BC":MAILTO:info@agrisafe.org
END:VEVENT
BEGIN:VEVENT
DTSTART;TZID=America/Chicago:20250424T120000
DTEND;TZID=America/Chicago:20250424T130000
DTSTAMP:20260423T074806
CREATED:20250324T162136Z
LAST-MODIFIED:20260312T142733Z
UID:23711-1745496000-1745499600@www.agrisafe.org
SUMMARY:Webinar: Tick Bites\, Meat Allergy\, and Caring for Livestock: What Farmers and Ranchers Need to Know
DESCRIPTION:Summary: Alpha-gal syndrome (AGS)  is an emerging tick-borne allergy to alpha-gal\, a sugar found in mammals and products derived from them. These products include food\, drugs\, personal care and other products. Up to half a million Americans are estimated to be affected by AGS; most live in high-prevalence states in the South\, Midwest\, and East Coast. \nFarmers are at higher risk of tick bites and developing AGS. For farmers\, AGS is not just a food allergy\, it’s an occupational allergy. Reactions fluids\, waste\, and dander from livestock can make caring for them difficult. In this seminar\, we will provide an introduction to AGS\, share tips on avoiding it\, and hear from farmers and ranchers about the challenges of farming with AGS and how to manage them. \nObjectives: At the end of this webinar\, participants will understand… \n\nThe basics of alpha-gal syndrome\nWhen and how to seek a diagnosis\nHow farmers cope with AGS\nNext-level tick bite avoidance tips\n\nIntended Audience: Farmers and ranchers\, hunters\, park rangers\, foresters\, surveyors\, line workers\, gardeners\, hikers\, and other people with outdoor jobs and hobbies. \nMeet the Presenters: \n–Sharon Forsyth\, Executive Director\, Alpha-gal Alliance \n–Candice Matthis\, Co-founder\, Alpha-gal Foundation \n–Debbie Nichols\, Co-founder\, Alpha-gal Foundation \n  \n Register  \n  \nTo register for this training\, you must have a free account in the AgriSafe Learning Lab. If you do not have an account\, please create one here.
URL:https://www.agrisafe.org/event/webinar-tick-bites/
CATEGORIES:Farmer/Worker Health,Health Education and Promotion,Zoonotic Diseases
ATTACH;FMTTYPE=image/png:https://www.agrisafe.org/wp-content/uploads/2025/03/Alpha-Gal-Webinar-.png
END:VEVENT
END:VCALENDAR