BEGIN:VCALENDAR
VERSION:2.0
PRODID:-//AgriSafe Network - ECPv6.15.20//NONSGML v1.0//EN
CALSCALE:GREGORIAN
METHOD:PUBLISH
X-ORIGINAL-URL:https://www.agrisafe.org
X-WR-CALDESC:Events for AgriSafe Network
REFRESH-INTERVAL;VALUE=DURATION:PT1H
X-Robots-Tag:noindex
X-PUBLISHED-TTL:PT1H
BEGIN:VTIMEZONE
TZID:America/Chicago
BEGIN:DAYLIGHT
TZOFFSETFROM:-0600
TZOFFSETTO:-0500
TZNAME:CDT
DTSTART:20230312T080000
END:DAYLIGHT
BEGIN:STANDARD
TZOFFSETFROM:-0500
TZOFFSETTO:-0600
TZNAME:CST
DTSTART:20231105T070000
END:STANDARD
BEGIN:DAYLIGHT
TZOFFSETFROM:-0600
TZOFFSETTO:-0500
TZNAME:CDT
DTSTART:20240310T080000
END:DAYLIGHT
BEGIN:STANDARD
TZOFFSETFROM:-0500
TZOFFSETTO:-0600
TZNAME:CST
DTSTART:20241103T070000
END:STANDARD
BEGIN:DAYLIGHT
TZOFFSETFROM:-0600
TZOFFSETTO:-0500
TZNAME:CDT
DTSTART:20250309T080000
END:DAYLIGHT
BEGIN:STANDARD
TZOFFSETFROM:-0500
TZOFFSETTO:-0600
TZNAME:CST
DTSTART:20251102T070000
END:STANDARD
END:VTIMEZONE
BEGIN:VEVENT
DTSTART;VALUE=DATE:20241201
DTEND;VALUE=DATE:20241202
DTSTAMP:20260422T041229
CREATED:20210728T182243Z
LAST-MODIFIED:20241230T210200Z
UID:4007-1733011200-1733097599@www.agrisafe.org
SUMMARY:Nurse Scholar Program
DESCRIPTION:The AgriSafe Nurse Scholar program is an online learning experience taught by expert health & safety educators. The course will help nurses increase their competence in prevention\, identification\, and assessment of diseases and conditions commonly experienced by people working in agriculture. Topics covered include emerging issues\, PPE\, respiratory PPE\, allergic and non-allergic respiratory disease\, hearing protection\, dermatologic disorders\, pesticide exposure\, women’s health issues\, the opioid crisis\, zoonoses\, immigrant farmers\, safe-guarding children\, rural behavioral health\, musculoskeletal disorders\, aging\, and more! \nThe Nurse Scholar program consists of a series of webinars provided by experts in the field of agricultural safety and health. Students can view the webinars at their convenience. Participants will be required to complete all of the training\, pass a comprehensive exam\, and complete evaluations in order to receive a certificate and 23.75 hours of continuing nursing education (CNE). Join nurses from 34 states by completing this course today! \n Learn More
URL:https://www.agrisafe.org/event/nurse-scholar/
CATEGORIES:ANCC,Continuing Education
ATTACH;FMTTYPE=image/png:https://www.agrisafe.org/wp-content/uploads/2021/07/ANCC-Accredited.png
END:VEVENT
BEGIN:VEVENT
DTSTART;TZID=America/Chicago:20241203T120000
DTEND;TZID=America/Chicago:20241203T130000
DTSTAMP:20260422T041229
CREATED:20241105T220454Z
LAST-MODIFIED:20260312T144155Z
UID:22220-1733227200-1733230800@www.agrisafe.org
SUMMARY:Webinar: Resources to Support Disaster Preparedness and Response and Violence Prevention in Rural Communities
DESCRIPTION:Summary: This presentation will share information and resources about disaster preparedness and response and violence prevention in rural communities. Presenters from the Rural Health Information Hub (RHIhub) and the NORC Walsh Center for Rural Analysis will discuss the Emergency Preparedness and Response Toolkit\, Violence and Abuse topic guide\, and other prevention-related resources for rural communities and leaders\, emergency preparedness and response professionals\, healthcare professionals\, first responders\, local public health departments\, human and social services organizations\, hospitals and other healthcare facilities\, and others working to help and support rural communities recover from disasters and violence.  \n  \nIntended Audience: Rural communities and leaders\, emergency preparedness and response professionals\, healthcare professionals\, first responders\, local public health departments\, human and social services organizations\, hospitals and other healthcare facilities\, and others working to help and support rural communities recover \n  \nOutcomes: At the end of this webinar\, participants will… \n-Understand what types of information and resources are available in the Emergency Preparedness and Response Toolkit and in the Violence and Abuse Topic Guide \n-Be aware of the lessons learned and key points from a set of 31 case studies related to rural disaster response and recovery \n-Learn where to find additional resources related to violence and abuse prevention and support in rural communities \n  \nMeet the Presenters: \n     -Alana Knudson\, PhD\, Senior Fellow\, NORC at the University of Chicago Director\, NORC Walsh Center for Rural Health Analysis \n     -Makenzie Atherton\, MPH\, Content Development Coordinator\, Rural Health Information Hub \n     -Sarah Dauterive\, MLIS\, Information Specialist\, RHIhub \n  \n Watch the Recording Here
URL:https://www.agrisafe.org/event/webinar-resources-to-support-disaster-preparedness-and-response-and-violence-prevention-in-rural-communities/
CATEGORIES:Floods,Health Education and Promotion,Mental Health
ATTACH;FMTTYPE=image/png:https://www.agrisafe.org/wp-content/uploads/2024/11/Disaster-Prepardeness.png
END:VEVENT
BEGIN:VEVENT
DTSTART;TZID=America/Chicago:20241210T120000
DTEND;TZID=America/Chicago:20241210T130000
DTSTAMP:20260422T041229
CREATED:20241108T162304Z
LAST-MODIFIED:20260408T155156Z
UID:22296-1733832000-1733835600@www.agrisafe.org
SUMMARY:Webinar: Using Telehealth Counseling to Reach Agricultural Communities - A Clinician’s Perspective
DESCRIPTION:Summary: This webinar will present the usefulness of telehealth communications as a way to promote and provide mental health services within agricultural communities and the industry. This will assist in helping understand the multiple benefits of utilizing telehealth from a logistical\, financial\, and clinical perspective. And how the use of telehealth services can remove barriers that have traditionally deterred members of agricultural/rural communities from seeking mental health treatment. \nIntended Audience: Professionals and supporters who are engaged in the promotion of health and well-being for individuals and families within agricultural communities. \nOutcomes: At the end of this webinar participants will… \n\nUnderstanding what telehealth services are and how they are currently being utilized in the healthcare field.\nIdentifying different benefits of telehealth services for agricultural workers and rural communities.\nLearning how to promote telehealth services to encourage greater utilization of mental health resources.\n\nMeet the Presenter: \n– Stephen Bunnell\, LCSW\, Licensed Clinical Social Worker and Owner of Mellow Mountain Counseling PLLC \n  \n Watch the Recording Here
URL:https://www.agrisafe.org/event/webinar-using-telehealth-to-reach-agricultural-communities/
CATEGORIES:Mental Health
ATTACH;FMTTYPE=image/png:https://www.agrisafe.org/wp-content/uploads/2024/11/Telehealth.png
END:VEVENT
BEGIN:VEVENT
DTSTART;TZID=America/Chicago:20241212T110000
DTEND;TZID=America/Chicago:20241212T123000
DTSTAMP:20260422T041229
CREATED:20240925T181938Z
LAST-MODIFIED:20241018T184550Z
UID:21523-1734001200-1734006600@www.agrisafe.org
SUMMARY:QPR for Farmers and Farm Families
DESCRIPTION:What is QPR? QPR training teaches laypeople and professionals to recognize and respond to mental health crises using the approach of Question\, Persuade and Refer. \nTo attend this training participants must be 18 years of age or older. \nIn this 1.5-hour QPR training\, we will provide: \n\nInformation on the unique challenges farmers face that can lead to stress\, depression\, and suicide.\nExamples implementing each QPR component with someone at risk for suicide.\nInformation on how to help someone at risk of suicide.\n\nRegistration spots are limited\, so please only register if you can attend the event. No recording of this training will be available. Interested in hosting a QPR training session for your organization? Contact Olivia Bury (obury@agrisafe.org) for more information! \n Register
URL:https://www.agrisafe.org/event/qpr-for-farmers-and-farm-families-34/
CATEGORIES:Cognition,Mental Health,QPR
ATTACH;FMTTYPE=image/png:https://www.agrisafe.org/wp-content/uploads/2021/09/QPR-Virtual-Training-Banner.png
END:VEVENT
BEGIN:VEVENT
DTSTART;TZID=America/Chicago:20241212T120000
DTEND;TZID=America/Chicago:20241212T130000
DTSTAMP:20260422T041229
CREATED:20241108T191634Z
LAST-MODIFIED:20260408T155236Z
UID:22306-1734004800-1734008400@www.agrisafe.org
SUMMARY:Webinar: Bridging the Knowledge Gap: Pediatric Intellectual and Developmental Disabilities (IDDs)
DESCRIPTION:Summary: In this presentation\, we will provide an overview of pediatric intellectual and developmental disabilities and will explore the vital resources and supports designed to enhance the lives of individuals and their families. Our goal is to equip you with the knowledge to help families effectively navigate the educational\, financial\, and support systems both currently and as their children age. \nIntended Audience: Rural community members\, professionals working with individuals with IDD and their families\, and caregivers of children with intellectual and developmental disabilities (IDDs) \nOutcomes: At the end of this webinar participants will… \n-> Communicate an overview of pediatric intellectual and developmental disabilities. \n-> Discuss school services and community-based resources available for children with developmental disabilities. \n-> Identify ways to help prepare individuals and families for transition into the adult world. \nMeet the Presenters: \n– Jennifer Cervantes\, LCSW-S\, Director of Community Outreach and Education\, Baylor College of Medicine at Texas Children’s Hospital \n– Dinah Godwin\, LCSW-S\, Director of Social Work Services\, Baylor College of Medicine at Texas Children’s Hospital \n  \n Watch the Recording Here
URL:https://www.agrisafe.org/event/webinar-bridging-the-knowledge-gap-pediatric-intellectual-and-developmental-disabilities-idds/
CATEGORIES:Mental Health,Youth Safety and Health
ATTACH;FMTTYPE=image/png:https://www.agrisafe.org/wp-content/uploads/2024/11/Bridging-the-Gap-Webinar.png
END:VEVENT
BEGIN:VEVENT
DTSTART;VALUE=DATE:20241229
DTEND;VALUE=DATE:20241230
DTSTAMP:20260422T041229
CREATED:20221130T142321Z
LAST-MODIFIED:20250102T192416Z
UID:13091-1735430400-1735516799@www.agrisafe.org
SUMMARY:FarmResponse
DESCRIPTION:FarmResponse® is an On-Demand 3.5-hour continuing education course developed by national experts from the AgriStress Response® Network. AgriSafe’s FarmResponse course provides the full range of competencies necessary to provide appropriate mental healthcare for agricultural producers and their families. This knowledge is critical for a healthcare professional to effectively care for a farmer’s total health. \n\nPeople that live in or are licensed to practice in certain states are eligible to take FarmResponse for free. Review the states currently participating and submit an inquiry form to take FarmResponse for free! \n\n\n\n Learn More
URL:https://www.agrisafe.org/event/farmresponse/
CATEGORIES:ANCC,Continuing Education,ERC,Mental Health
END:VEVENT
END:VCALENDAR