BEGIN:VCALENDAR
VERSION:2.0
PRODID:-//AgriSafe Network - ECPv6.15.20//NONSGML v1.0//EN
CALSCALE:GREGORIAN
METHOD:PUBLISH
X-ORIGINAL-URL:https://www.agrisafe.org
X-WR-CALDESC:Events for AgriSafe Network
REFRESH-INTERVAL;VALUE=DURATION:PT1H
X-Robots-Tag:noindex
X-PUBLISHED-TTL:PT1H
BEGIN:VTIMEZONE
TZID:America/Chicago
BEGIN:DAYLIGHT
TZOFFSETFROM:-0600
TZOFFSETTO:-0500
TZNAME:CDT
DTSTART:20230312T080000
END:DAYLIGHT
BEGIN:STANDARD
TZOFFSETFROM:-0500
TZOFFSETTO:-0600
TZNAME:CST
DTSTART:20231105T070000
END:STANDARD
BEGIN:DAYLIGHT
TZOFFSETFROM:-0600
TZOFFSETTO:-0500
TZNAME:CDT
DTSTART:20240310T080000
END:DAYLIGHT
BEGIN:STANDARD
TZOFFSETFROM:-0500
TZOFFSETTO:-0600
TZNAME:CST
DTSTART:20241103T070000
END:STANDARD
BEGIN:DAYLIGHT
TZOFFSETFROM:-0600
TZOFFSETTO:-0500
TZNAME:CDT
DTSTART:20250309T080000
END:DAYLIGHT
BEGIN:STANDARD
TZOFFSETFROM:-0500
TZOFFSETTO:-0600
TZNAME:CST
DTSTART:20251102T070000
END:STANDARD
END:VTIMEZONE
BEGIN:VEVENT
DTSTART;TZID=America/Chicago:20241008T120000
DTEND;TZID=America/Chicago:20241008T130000
DTSTAMP:20260421T072423
CREATED:20240916T165055Z
LAST-MODIFIED:20260408T155036Z
UID:21408-1728388800-1728392400@www.agrisafe.org
SUMMARY:Webinar: Sleepless in America: A health and safety approach to rest
DESCRIPTION:Summary: How did you sleep last night? 1/3 of US adults are not getting the recommended 7+ hours of sleep each night. That may sound minor\, but once you realize that insufficient sleep is associated with increased obesity\, high blood pressure\, diabetes\, mental illness\, and affects overall safety\, it becomes a little more significant. Through this program we can directly impact health and safety with tangible information to help participants sleep better\, tonight! \nIntended Audience: Anyone who sleeps! \nOutcomes: At the end of this webinar participants will… \n\nLearn research-based facts about why sleep matters\, what happens during sleep cycles\, current sleep recommendations\, daily habits that interfere with a good night’s sleep\, and the detrimental effects a lack of sleep can cause.\nDiscover new sleep tips and tricks to customize their own routine for better sleep.\n\nMeet the Presenters: \n– Hannah Guenther\, MS\, CPH\, Rural Health Extension Educator \n–Jordan Luxa\, MS\, RD\, Food\, Nutrition and Health Extension Educator  \n  \n Watch the Recording
URL:https://www.agrisafe.org/event/webinar-sleepless-in-america/
CATEGORIES:Mental Health,Sleep
ATTACH;FMTTYPE=image/png:https://www.agrisafe.org/wp-content/uploads/2024/05/sleep-webinar.png
END:VEVENT
BEGIN:VEVENT
DTSTART;TZID=America/Chicago:20241024T120000
DTEND;TZID=America/Chicago:20241024T130000
DTSTAMP:20260421T072423
CREATED:20240927T162535Z
LAST-MODIFIED:20260410T204757Z
UID:21551-1729771200-1729774800@www.agrisafe.org
SUMMARY:Webinar: Suicide Prevention in Religious Communities - The Present and Future
DESCRIPTION:Summary: This webinar will present research findings in the areas of suicide prevention\, intervention\, and postvention in religious communities. Both robust research findings and preliminary findings will be presented. For example\, religious service attendance is associated with lower suicide risk but social support in religious communities accounts for only about a quarter of the association between religious service attendance and health. Additional risks and protections in religious communities will be presented. \nIntended Audience: Attendees should have an interest in the unique role of religious communities in suicide prevention. \nOutcomes: At the end of this webinar participants will… \n\n\nList differences between suicide prevention\, intervention and postvention.\nList three unique protective roles religious communities play in suicide prevention\, intervention and postvention.\nList three risks for suicide that may be found in religious communities and ways to decrease these risks.\n\n\n\nMeet the Presenters: \nKaren Mason\, Ph.D.\, Professor of Counseling and Psychology\, Gordon-Conwell Theological Seminary \nMelinda Moore\, Ph.D\, Associate Professor\, Eastern Kentucky University \n  \n  \n Watch the Recording  \n  \n\n  \nContinuing Education: The University of Cincinnati\, Department of Environmental and Public Health Sciences\, Education and Research Center offers 1.0 contact hours for this activity. Upon completing the evaluation\, learners will receive a certificate of completion. This course can meet continuing education requirements for a variety of professionals including: BGC criteria for IH/CIH professionals\, BCSP criteria for safety professionals\, CPH criteria for public health professionals. Please contact your accrediting agency regarding questions about receiving credits for this activity. \n\n  \n 
URL:https://www.agrisafe.org/event/webinar-the-present-and-future-of-suicide-prevention-research-in-religious-communities/
CATEGORIES:Continuing Education,ERC,Mental Health,Spirituality
ATTACH;FMTTYPE=image/png:https://www.agrisafe.org/wp-content/uploads/2024/09/praise-hands.png
END:VEVENT
BEGIN:VEVENT
DTSTART;TZID=America/Chicago:20241024T150000
DTEND;TZID=America/Chicago:20241024T163000
DTSTAMP:20260421T072423
CREATED:20240925T180840Z
LAST-MODIFIED:20241018T184649Z
UID:21519-1729782000-1729787400@www.agrisafe.org
SUMMARY:QPR for Farmers and Farm Families
DESCRIPTION:What is QPR? QPR training teaches laypeople and professionals to recognize and respond to mental health crises using the approach of Question\, Persuade and Refer. \nTo attend this training participants must be 18 years of age or older. \nIn this 1.5-hour QPR training\, we will provide: \n\nInformation on the unique challenges farmers face that can lead to stress\, depression\, and suicide.\nExamples implementing each QPR component with someone at risk for suicide.\nInformation on how to help someone at risk of suicide.\n\nRegistration spots are limited\, so please only register if you can attend the event. No recording of this training will be available. Interested in hosting a QPR training session for your organization? Contact Olivia Bury (obury@agrisafe.org) for more information! \n Register
URL:https://www.agrisafe.org/event/qpr-for-farmers-and-farm-families-32/
CATEGORIES:Cognition,Mental Health,QPR
ATTACH;FMTTYPE=image/png:https://www.agrisafe.org/wp-content/uploads/2021/09/QPR-Virtual-Training-Banner.png
END:VEVENT
END:VCALENDAR