BEGIN:VCALENDAR
VERSION:2.0
PRODID:-//AgriSafe Network - ECPv6.15.20//NONSGML v1.0//EN
CALSCALE:GREGORIAN
METHOD:PUBLISH
X-ORIGINAL-URL:https://www.agrisafe.org
X-WR-CALDESC:Events for AgriSafe Network
REFRESH-INTERVAL;VALUE=DURATION:PT1H
X-Robots-Tag:noindex
X-PUBLISHED-TTL:PT1H
BEGIN:VTIMEZONE
TZID:America/Chicago
BEGIN:DAYLIGHT
TZOFFSETFROM:-0600
TZOFFSETTO:-0500
TZNAME:CDT
DTSTART:20230312T080000
END:DAYLIGHT
BEGIN:STANDARD
TZOFFSETFROM:-0500
TZOFFSETTO:-0600
TZNAME:CST
DTSTART:20231105T070000
END:STANDARD
BEGIN:DAYLIGHT
TZOFFSETFROM:-0600
TZOFFSETTO:-0500
TZNAME:CDT
DTSTART:20240310T080000
END:DAYLIGHT
BEGIN:STANDARD
TZOFFSETFROM:-0500
TZOFFSETTO:-0600
TZNAME:CST
DTSTART:20241103T070000
END:STANDARD
BEGIN:DAYLIGHT
TZOFFSETFROM:-0600
TZOFFSETTO:-0500
TZNAME:CDT
DTSTART:20250309T080000
END:DAYLIGHT
BEGIN:STANDARD
TZOFFSETFROM:-0500
TZOFFSETTO:-0600
TZNAME:CST
DTSTART:20251102T070000
END:STANDARD
END:VTIMEZONE
BEGIN:VEVENT
DTSTART;TZID=America/Chicago:20240605T100000
DTEND;TZID=America/Chicago:20240605T110000
DTSTAMP:20260423T103036
CREATED:20220620T133821Z
LAST-MODIFIED:20220620T133821Z
UID:19199-1717581600-1717585200@www.agrisafe.org
SUMMARY:Monthly Mental Health Innovations Exchange- AgriStress Response Network
DESCRIPTION:Meeting Purpose: \nThe purpose of these monthly meetings is to engage innovative ideas and strategies to serve the farming and ranching community in the area of mental health. Please extend invitations to colleagues and other professionals that are interested in this subject. \n  \n\n\n Register Here  \n  \nInterested in sharing a mental health innovation? Email Carey Portell cportell@agrisafe.org for more information on presenting at one of the AgriStress Response Network monthly meetings!
URL:https://www.agrisafe.org/event/agristress-response-network-mental-health-innovations-exchange/2024-06-05/
CATEGORIES:Mental Health
ATTACH;FMTTYPE=image/png:https://www.agrisafe.org/wp-content/uploads/2022/06/Agristress-Response-Logo-transparent-background.png
END:VEVENT
BEGIN:VEVENT
DTSTART;TZID=America/Chicago:20240605T150000
DTEND;TZID=America/Chicago:20240605T160000
DTSTAMP:20260423T103036
CREATED:20240524T202953Z
LAST-MODIFIED:20240727T191224Z
UID:19226-1717599600-1717603200@www.agrisafe.org
SUMMARY:Webinar: A Conversation on Cultivating LGBTQ+ Safe Spaces for Ag Youth
DESCRIPTION:Summary: It is important for agricultural educators to create inclusive and safe learning environments for all youth. This includes taking intentional steps to make LGBTQ+ youth feel like there is a space for them in the agriculture industry\, 4-H\, and FFA. But it’s not always easy to know where to start. \nYou can take your first step by joining us for “A Conversation on Cultivating LGBTQ+ Safe Spaces for Ag Youth.” This webinar is intended to equip ag educators with practical strategies and insights to foster inclusivity\, understanding\, and equity in their programs. Implementing this knowledge will enable teachers and leaders to best support all students. This increased support will go on to draw in even more students to join the program! (Increased inclusivity = increased # of members!) \n  \nWhy are we talking about LGBTQ+ youth in agriculture? \n\nJune is Pride Month\, a time to celebrate diversity and the LGBTQ+ community.\n45% of LGBTQ youth seriously considered attempting suicide in 2022 – but those who felt affirmed and supported at school had lower rates of acting on those thoughts (source: The Trevor Project).\nEveryone has a place in the agricultural industry and deserves to feel like they belong.\nBy cultivating an inclusive environment and safe spaces for LGBTQ+ youth in ag\, we can increase positive health outcomes for that population as well as increase the number of youth who plan to go into the ag industry in the future!\n\n  \nIntended Audience: Ag educators\, teachers\, parents\, community members \n  \nObjectives: At the end of this webinar\, participants will be able to… \n\nHave a better understanding of LGBTQ+ youth and their experiences\nFeel confident in helping LGBTQ+ youth to feel like they have a space where they belong in agriculture\nBe prepared to create LGBTQ+ safe spaces in the ag education classroom\nBe able to find and share resources in the local community to support LGBTQ+ youth\n\n  \nSpecial thanks to the Cultivating Change Foundation (CCF) for working with AgriSafe to make this webinar a reality! CCF is a nonprofit whose goal is to “value and elevate LGBTQ+ agriculturists through advocacy\, education\, and community.” \n  \n Watch the Recording Here  \n 
URL:https://www.agrisafe.org/event/webinar-a-conversation-on-cultivating-lgbtq-safe-spaces-for-ag-youth/
CATEGORIES:DEIA,Youth Safety and Health
ATTACH;FMTTYPE=image/png:https://www.agrisafe.org/wp-content/uploads/2024/05/June-5-webinar.png
END:VEVENT
BEGIN:VEVENT
DTSTART;TZID=America/Chicago:20240606T120000
DTEND;TZID=America/Chicago:20240606T130000
DTSTAMP:20260423T103036
CREATED:20240513T192051Z
LAST-MODIFIED:20240607T150529Z
UID:19087-1717675200-1717678800@www.agrisafe.org
SUMMARY:Webinar: Combating Heat and Cold Stress for Forestry Workers
DESCRIPTION:Summary: Forestry workers may be subject to extreme heat and cold. Working outdoors makes people more likely to become dehydrated and experience heat-related illness or heat stress. High temperatures reduce work capacity and may lead to heat stress and dehydration. Although exposure to heat stress is preventable\, thousands become sick from occupational heat exposure every year\, and some cases are fatal.  Similarly\, cold weather can reduce dexterity\, blood flow\, muscle strength\, and balance. Hypothermia\, frostbite\, trench foot\, and chilblains are all illnesses and injuries caused by cold stress. However\, forestry workers can avoid heat-related illness and cold stress with proper information and preventative action. This presentation will explore both weather-related conditions and their impact on outdoor workers. \nIntended Audience: This course is intended for workers in forestry and logging\, including fallers\, first-line supervisors/managers of forestry workers\, logging equipment operators\, sawing machine setters\, operators and tenders\, and truck drivers. \nObjectives: After the training\, participants will be able to… \n\nDefine Heat Stress\, Cold Stress\, and their related conditions.\nIdentify vulnerable populations and critical warning signs for interventions.\nShare essential resources for Workplace Safety Practices.\n\n Watch the Recording Here  \nThis material was produced under grant #SH-000099-SH3 from the Occupational Safety and Health Administration\, U.S. Department of Labor. It does not necessarily reflect the views or policies of the U.S. Department of Labor\, nor does mention of trade names\, commercial products\, or organizations imply endorsement by the U.S. Government.
URL:https://www.agrisafe.org/event/webinar-combating-heat-and-cold-stress-for-forestry-workers-2/
CATEGORIES:Forestry,Heat Related Illnesses,OSHA Standards
ATTACH;FMTTYPE=image/png:https://www.agrisafe.org/wp-content/uploads/2024/03/forestry-heatcold-stress.png
ORGANIZER;CN="Knesha Rose-Davison%2C MPH%2C CPH":MAILTO:info@agrisafe.org
END:VEVENT
BEGIN:VEVENT
DTSTART;TZID=America/Chicago:20240612T120000
DTEND;TZID=America/Chicago:20240612T130000
DTSTAMP:20260423T103036
CREATED:20240508T174531Z
LAST-MODIFIED:20260408T153904Z
UID:19045-1718193600-1718197200@www.agrisafe.org
SUMMARY:Webinar: Emergency Ready- Hazardous Materials Down on the Farm: Playbook of Strategies for Farm and Ranch Families
DESCRIPTION:Summary: Hazardous materials lurk around many corners of farm shops\, buildings\, and barns. The health impacts of organic and inorganic exposures can be mild to devastating. Be prepared and be ready to handle identifiable and nonidentifiable materials during everyday farm and ranch work as well as during emergencies. In this training\, we will discuss action steps\, strategies\, and resources to protect individuals working and living on the ranch and farm. \nIntended Audience: Agricultural Producers\, Agricultural Managers\, Farmworkers\, Rural EMT and Firefighters \nObjectives: At the end of this webinar participants will be able to: \n\nIdentify hazardous material exposures in farm shops\, buildings\, and barns.\nUnderstand the implications of common agriculture hazardous exposures.\nSelect the correct PPE (Personal Protective Equipment) to use when working with hazardous materials.\n\n Watch the Recording Here
URL:https://www.agrisafe.org/event/webinar-emergency-ready-hazardous-materials-down-on-the-farm-playbook-of-strategies-for-farm-and-ranch-families/
CATEGORIES:Farmer/Worker Health,Hazards,Personal Protective Equipment
ATTACH;FMTTYPE=image/png:https://www.agrisafe.org/wp-content/uploads/2024/05/Hazards.png
ORGANIZER;CN="Linda Emanuel%2C BSN%2C RN":MAILTO:info@agrisafe.org
END:VEVENT
BEGIN:VEVENT
DTSTART;TZID=America/Chicago:20240613T120000
DTEND;TZID=America/Chicago:20240613T133000
DTSTAMP:20260423T103036
CREATED:20240506T170019Z
LAST-MODIFIED:20240506T170044Z
UID:19002-1718280000-1718285400@www.agrisafe.org
SUMMARY:QPR for Farmers and Farm Families
DESCRIPTION:What is QPR? QPR training teaches laypeople and professionals to recognize and respond to mental health crises using the approach of Question\, Persuade and Refer. \nTo attend this training participants must be 18 years of age or older. \nIn this 1.5-hour QPR training\, we will provide:\n– Information on the unique challenges farmers face that can lead to stress\, depression\, and suicide.\n– Examples implementing each QPR component with someone at risk for suicide.\n– Information on how to help someone at risk of suicide. \nRegistration spots are limited\, so please only register if you can attend the event. No recording of this training will be available. Interested in hosting a QPR training session for your organization? Contact Olivia Bury (obury@agrisafe.org) for more information! \n Register
URL:https://www.agrisafe.org/event/qpr-for-farmers-and-farm-families-29/
CATEGORIES:Cognition,Mental Health,QPR
ATTACH;FMTTYPE=image/png:https://www.agrisafe.org/wp-content/uploads/2021/09/QPR-Virtual-Training-Banner.png
END:VEVENT
BEGIN:VEVENT
DTSTART;TZID=America/Chicago:20240627T120000
DTEND;TZID=America/Chicago:20240627T130000
DTSTAMP:20260423T103036
CREATED:20240530T161609Z
LAST-MODIFIED:20240613T172829Z
UID:19276-1719489600-1719493200@www.agrisafe.org
SUMMARY:Exploring the Impact of Sleep in Rural and Agricultural Communities (Cost: $30\, FREE for premium members)
DESCRIPTION:Summary: In this webinar\, participants will gain insights into the critical role of sleep and its function in maintaining physical\, mental\, and emotional health. The presentation will review the impact of sleep disorders\, common sleep conditions\, and the serious health effects of sleep deprivation\, including increased risks for injury and chronic health conditions. Participants will also learn about healthy sleep practices\, focusing on lifestyle factors that enhance sleep quality and practical strategies for improving sleep. \nIntended Audience: This presentation is relevant to everyone\, especially those working in rural and agricultural communities. \nObjectives: At the end of this webinar participants will have a better understanding of: \n\nThe importance of sleep and the critical role sleep plays in maintaining physical\, mental\, and emotional health.\nCommon sleep disorders\, their symptoms\, and effects on daily functioning\nThe impact of sleep disorders\nHealth effects of sleep deprivation\nHealthy sleep practices and recommendations to enhance sleep quality   \n\nThere is a registration fee for non-members! \nAgriSafe Premium Members: FREE \nNon-members/individuals with a Basic AgriSafe account: $30 \n  Learn more about our membership options here!  \n  \nThis webinar is free for AgriSafe paid members and will be hosted in the AgriSafe Learning Lab. Non-members or individuals holding a basic AgriSafe account can register for a $30 fee. AgriSafe will be hosting quarterly free-for-member webinars. If you do not currently have an account you will need to create an account to register for this webinar. \n Register Here
URL:https://www.agrisafe.org/event/exploring-the-impact-of-sleep-in-rural-and-agricultural-communities-cost-30-free-for-premium-members/
CATEGORIES:Farmer/Worker Health,Health Education and Promotion,Mental Health,Sleep
ATTACH;FMTTYPE=image/png:https://www.agrisafe.org/wp-content/uploads/2024/05/sleep-webinar.png
END:VEVENT
END:VCALENDAR