BEGIN:VCALENDAR
VERSION:2.0
PRODID:-//AgriSafe Network - ECPv6.15.20//NONSGML v1.0//EN
CALSCALE:GREGORIAN
METHOD:PUBLISH
X-ORIGINAL-URL:https://www.agrisafe.org
X-WR-CALDESC:Events for AgriSafe Network
REFRESH-INTERVAL;VALUE=DURATION:PT1H
X-Robots-Tag:noindex
X-PUBLISHED-TTL:PT1H
BEGIN:VTIMEZONE
TZID:America/Chicago
BEGIN:DAYLIGHT
TZOFFSETFROM:-0600
TZOFFSETTO:-0500
TZNAME:CDT
DTSTART:20230312T080000
END:DAYLIGHT
BEGIN:STANDARD
TZOFFSETFROM:-0500
TZOFFSETTO:-0600
TZNAME:CST
DTSTART:20231105T070000
END:STANDARD
BEGIN:DAYLIGHT
TZOFFSETFROM:-0600
TZOFFSETTO:-0500
TZNAME:CDT
DTSTART:20240310T080000
END:DAYLIGHT
BEGIN:STANDARD
TZOFFSETFROM:-0500
TZOFFSETTO:-0600
TZNAME:CST
DTSTART:20241103T070000
END:STANDARD
BEGIN:DAYLIGHT
TZOFFSETFROM:-0600
TZOFFSETTO:-0500
TZNAME:CDT
DTSTART:20250309T080000
END:DAYLIGHT
BEGIN:STANDARD
TZOFFSETFROM:-0500
TZOFFSETTO:-0600
TZNAME:CST
DTSTART:20251102T070000
END:STANDARD
END:VTIMEZONE
BEGIN:VEVENT
DTSTART;TZID=America/Chicago:20240306T120000
DTEND;TZID=America/Chicago:20240306T130000
DTSTAMP:20260423T115147
CREATED:20231211T150406Z
LAST-MODIFIED:20240306T194408Z
UID:17306-1709726400-1709730000@www.agrisafe.org
SUMMARY:Webinar: Zoonotic Disease and Pregnancy: A Deeper Dive
DESCRIPTION:Summary: Zoonotic Diseases are transmitted between farm animals and humans and can pose additional risks to those who are pregnant. According to the World Health Organization\, over half of all human pathogens are zoonotic and have represented nearly all emerging pathogens in the past decade. Farmers and farmworkers have a higher risk of contracting zoonotic diseases because of the frequency of their animal exposure. \nPrevention is the best defense. Understanding how the disease transmission process works\, building a team\, and effectively communicating within that team is essential in preventing the spread of zoonotic disease. Women working in agriculture should be aware of the following special considerations during pregnancy: which animals are common carriers of zoonotic disease\, symptoms of the disease(s)\, prevention measures\, and pregnancy risks. \nIntended Audience:  Supervisor or Managers: This training is intended primarily for health and safety professionals\, including but not limited to owner/operators\, safety officers or specialists\, managers\, supervisors\, safety coordinators\, health safety and environmental interns\, and any person or persons who serve as safety personnel in an agricultural setting. \nProducers: This training is intended primarily for agricultural producers\, including but not limited to farmers\, ranchers\, and any person or persons involved in some combination of raising field crops\, orchards\, vineyards\, horticulture\, or other livestock. \nObjectives: At the end of this webinar\, participants will be able to… \n\nDefine zoonotic disease and identify various modes of transmission.\nIdentify a minimum of four significant zoonotic diseases affecting the production agricultural population.\nDiscuss warning signs and symptoms of major zoonotic diseases which have adverse effects on reproductive health.\nLocate at least three recommended educational resources for training an agricultural workforce.\n\nThis material was produced under grant number SH-05068-SH8 from the Occupational Safety and Health Administration\, U.S. Department of Labor. It does not necessarily reflect the views or policies of the U.S. Department of Labor\, nor does mention of trade names\, commercial products\, or organizations imply endorsement by the U.S. Government. Revisions were made to this material under grant number SH-36995-HA1 from the Occupational Safety and Health Administration\, U.S. Department of Labor. \n Watch the Recording Here
URL:https://www.agrisafe.org/event/webinar-zoonotic-disease-and-pregnancy-a-deeper-dive-6/
CATEGORIES:OSHA Standards,Women's Health,Zoonotic Diseases
ATTACH;FMTTYPE=image/png:https://www.agrisafe.org/wp-content/uploads/2023/12/Woman-with-Cows.png
ORGANIZER;CN="Alberta Longone-Messer%2C RNC%2C PPCNP-BC":MAILTO:info@agrisafe.org
END:VEVENT
BEGIN:VEVENT
DTSTART;TZID=America/Chicago:20240307T120000
DTEND;TZID=America/Chicago:20240307T130000
DTSTAMP:20260423T115147
CREATED:20240223T142954Z
LAST-MODIFIED:20260413T194331Z
UID:18301-1709812800-1709816400@www.agrisafe.org
SUMMARY:Webinar: Naloxone Training: Responding to Opioid Overdose (Cost: $30\, FREE for premium members)
DESCRIPTION:Summary: Overdose deaths are a leading cause of injury-related death in the United States and the majority of overdose deaths involve opioids. This epidemic is impacting communities all across the country. Naloxone is a life-saving medication that can reverse an overdose from opioids when given in time. This session is designed to prepare communities and non-medical public and safety professionals to recognize and respond to an opioid overdose. Participants will learn the warning signs of opioid overdose and how to intervene safely using naloxone. \nIntended Audience: All communities\, academia\, workplace employers and employees \nObjectives: At the end of this webinar participants will be able to… \n\nIdentify risk factors for opioid intentional and nonintentional overdose\nRecognize the signs of opioid overdose\nRespond effectively to an opioid overdose\nCorrectly administer intranasal naloxone\n\nThere is a registration fee for non-members!  \nAgriSafe Premium Members: FREE \nNon-members/individuals with a Basic AgriSafe account: $30 \n  Learn more about our membership options here!  \nThis webinar is free for AgriSafe paid members and will be hosted in the AgriSafe Learning Lab. Non-members or individuals holding a basic AgriSafe account can register for a $30 fee. AgriSafe will be hosting quarterly free for-member webinars. Currently\, individuals can take out an individual nonprofit membership for only $75\, giving you access to our member-only webinars for a year! If you do not currently have an account you will need to create an account to register for this webinar. \n Watch the Recording Here
URL:https://www.agrisafe.org/event/webinar-naloxone-training-responding-to-opioid-overdose/
CATEGORIES:Mental Health,Opioids
ATTACH;FMTTYPE=image/png:https://www.agrisafe.org/wp-content/uploads/2024/02/opioid-crisis.png
ORGANIZER;CN="Tara Haskins%2C DNP%2C MSN%2C RN%2C AHN-BC":MAILTO:info@agrisafe.org
END:VEVENT
BEGIN:VEVENT
DTSTART;TZID=America/Chicago:20240312T150000
DTEND;TZID=America/Chicago:20240312T160000
DTSTAMP:20260423T115147
CREATED:20240227T191617Z
LAST-MODIFIED:20240313T205905Z
UID:18387-1710255600-1710259200@www.agrisafe.org
SUMMARY:Webinar: Cultivating a Healthy Mind - Mental Wellness for Youth Train the Trainer
DESCRIPTION:Summary: Stigma exists across all age groups for those struggling with mental health. Navigation of the teen years in everyday situations can create angst and uncomfortable feelings that are difficult to express. Adding mental illness and mental crisis to a teen or young adult’s typical growth and development makes struggling with emotions\, relationships\, academic success\, and safety more challenging. According to the CDC\, rates of depression and anxiety climb significantly during the ages of 12-17. Suicide is the second leading cause of death of youths in the United States. This module opens an introductory discussion of mental health among teens and young adults with guidance from an adult educator. Focus is placed on decreasing stigma\, improving mental health literacy\, and positive coping skills for teens and young adults. The module showcases a high school agricultural student’s understanding of the agricultural mental health crisis\, helping to frame mental health distress to academic and future career success. \nObjectives: After the module\, teens and young adults will be able to…. \n\nUnderstand the relationship of mental health to physical health and academic or career success\nRecognize basic signs or symptoms that present when young adults experience mental stress\nIdentify healthy and unhealthy coping behaviors when faced with mental distress\nCommunicate their concerns when suspecting they or someone they know is experiencing a mental health crisis\n\nIntended Audience: This Train the Trainer course is designed for teachers\, Extension staff\, 4H and FFA leaders and others who work with young adults. \n Watch the Recording Here
URL:https://www.agrisafe.org/event/cultivating-a-healthy-mind-mental-wellness-for-youth-train-the-trainer/
CATEGORIES:Cognition,Health Education and Promotion,Mental Health,Youth Safety and Health
ORGANIZER;CN="Tara Haskins%2C DNP%2C MSN%2C RN%2C AHN-BC":MAILTO:info@agrisafe.org
END:VEVENT
BEGIN:VEVENT
DTSTART;TZID=America/Chicago:20240313T120000
DTEND;TZID=America/Chicago:20240313T133000
DTSTAMP:20260423T115147
CREATED:20231122T203958Z
LAST-MODIFIED:20240313T211519Z
UID:17120-1710331200-1710336600@www.agrisafe.org
SUMMARY:QPR for Farmers and Farm Families
DESCRIPTION:What is QPR? QPR training teaches laypeople and professionals to recognize and respond to mental health crises using the approach of Question\, Persuade and Refer. \nTo attend this training participants must be 18 years of age or older. \nIn this 1.5-hour QPR training\, we will provide:\n– Information on the unique challenges farmers face that can lead to stress\, depression\, and suicide.\n– Examples implementing each QPR component with someone at risk for suicide.\n– Information on how to help someone at risk of suicide. \nRegistration spots are limited\, so please only register if you can attend the event. No recording of this training will be available. Interested in hosting a QPR training session for your organization? Contact Tara Haskins (thaskins@agrisafe.org) for more information! \n Upcoming Dates
URL:https://www.agrisafe.org/event/qpr-for-farmers-and-farm-families-26/
CATEGORIES:Cognition,Mental Health,QPR
ATTACH;FMTTYPE=image/png:https://www.agrisafe.org/wp-content/uploads/2021/09/QPR-Virtual-Training-Banner.png
END:VEVENT
BEGIN:VEVENT
DTSTART;TZID=America/Chicago:20240313T150000
DTEND;TZID=America/Chicago:20240313T160000
DTSTAMP:20260423T115147
CREATED:20240228T001039Z
LAST-MODIFIED:20240313T211431Z
UID:18393-1710342000-1710345600@www.agrisafe.org
SUMMARY:Webinar: Invest in Your Health - Cover Up! A Train the Trainer Program
DESCRIPTION:Summary: Agriculture is ranked as one of the most dangerous occupations and involves workers and families of all ages\, but injuries can be prevented if we use the right protective equipment for the job. This program will present an overview of common exposures in farming and ranching. Students can discuss those exposures and determine the appropriate protective gear for each scenario. In addition\, there is one case study presenting common multiple exposures that young people experience are included for discussion. A video is also included for classroom use. \nIntended Audience: This Train the Trainer course is designed for teachers\, Extension staff\, 4H and FFA leaders\, and others who work with young adults. \nObjectives: After attending the training\, participants/educators will be able to… \n\nReview indicators related to the need for and use of personal protective equipment (PPE) in agriculture\nSelect decision-making activities designed for classroom timeframes\nIdentify safety and health resources for use in educational settings\n\n Watch the Recording Here
URL:https://www.agrisafe.org/event/train-the-trainer-cover-up-head-to-toe-personal-protective-equipment-2/
CATEGORIES:Farmer/Worker Health,Hazards,Hearing Loss Prevention,Personal Protective Equipment,Respiratory Health,Youth Safety and Health
ATTACH;FMTTYPE=image/jpeg:https://www.agrisafe.org/wp-content/uploads/2022/04/half-mask-opt.jpg
ORGANIZER;CN="Charlotte Halverson%2C RN%2C BSN%2C COHN-S":MAILTO:info@agrisafe.org
END:VEVENT
BEGIN:VEVENT
DTSTART;TZID=America/Chicago:20240314T120000
DTEND;TZID=America/Chicago:20240314T130000
DTSTAMP:20260423T115147
CREATED:20240208T210759Z
LAST-MODIFIED:20240315T134508Z
UID:17958-1710417600-1710421200@www.agrisafe.org
SUMMARY:Webinar: Mental Health and Suicide on US Farms: Muckville Movie Viewing and Conversation
DESCRIPTION:Join AgriSafe for a viewing of the Muckville documentary (approximately 20 minutes) followed by a live question and answer session with Chris and Eve Pawelski\, and film director Jeff Mertz. \nChris almost ran out of time. As a 4th-generation onion farmer on the post-glacial black dirt of Goshen\, NY\, Chris is just one of millions of farmers in America facing the unnecessarily Sisyphusian task of earning a living. “Muckville” takes us on a journey through time on the Pawelski farm\, from Polish immigration in the early 20th century\, through the onset of climate change-driven crop failures in the 1990s and subsequent pitfalls of US agriculture policy\, to Chris’s resulting existential crisis and suicidal ideation. \nThis short documentary provides rare insight into the ongoing mental health epidemic on American farms\, and paints a delicate and emotional portrait of resilience and love amid unbeatable odds. Directed\, photographed\, and edited by Jeff Mertz / Moonbow Imaging. \nThis session has already occurred and was not recorded. You can view the Muckville documentary by clicking the button below (you will need to create a free profile on Hudsy to view the film). \n View the Film Here
URL:https://www.agrisafe.org/event/webinar-mental-health-and-suicide-on-us-farms-muckville-movie-viewing-and-conversation/
CATEGORIES:Mental Health
ATTACH;FMTTYPE=image/jpeg:https://www.agrisafe.org/wp-content/uploads/2024/02/Chris-and-Eve-rotated.jpg
END:VEVENT
BEGIN:VEVENT
DTSTART;TZID=America/Chicago:20240314T150000
DTEND;TZID=America/Chicago:20240314T160000
DTSTAMP:20260423T115147
CREATED:20240228T001825Z
LAST-MODIFIED:20240701T210622Z
UID:18399-1710428400-1710432000@www.agrisafe.org
SUMMARY:Webinar: Invest in Your Health- Stay Cool! Prevention of Heat Related Illness in Agriculture Train the Trainer
DESCRIPTION:[Illustration: Word cloud\, with the most prominent phrase being “heat wave\,” along with dozens of varying sizes of words and phrases\, including\, “infant heat stroke\,” “elderly\,” and “heat index.”] \nSummary: Agriculture is ranked as one of the most dangerous occupations and involves workers and family members of all ages. Heat-related illness occurs when the body’s temperature gets too high and the body’s ability to dissipate heat through sweating and other methods is overcome. Several conditions can result from this such as heat cramps\, heat exhaustion\, or heatstroke. In 2014\, 253\,000 young workers between the ages of 16-23 were employed in agriculture. In production agriculture\, it is common to work in a hot environment and/ or in direct sunlight. Every year\, thousands of workers become sick from exposure to heat\, and some even die. Heat-related illnesses\, while potentially deadly\, are easily preventable. \nIntended Audience: This Train the Trainer course is designed for teachers\, Extension staff\, 4H and FFA leaders and others who work with young adults. \nObjectives: At the end of this webinar participants will be able to… \n\nIdentify the various types of heat-related illnesses\nIdentify warning signs of life-threatening exposures\nLearn immediate care procedures\nAccess educational resources\n\n Watch the Recording Here
URL:https://www.agrisafe.org/event/invest-in-your-health-stay-cool-prevention-of-heat-related-illness-in-agriculture-2/
CATEGORIES:Hazards,Health Education and Promotion,Heat Related Illnesses,Youth Safety and Health
ORGANIZER;CN="Knesha Rose-Davison%2C MPH%2C CPH":MAILTO:info@agrisafe.org
END:VEVENT
BEGIN:VEVENT
DTSTART;TZID=America/Chicago:20240319T120000
DTEND;TZID=America/Chicago:20240319T130000
DTSTAMP:20260423T115147
CREATED:20240306T142842Z
LAST-MODIFIED:20240319T173411Z
UID:18476-1710849600-1710853200@www.agrisafe.org
SUMMARY:Webinar: Navigating the Impact of COVID-19\, Influenza\, & RSV on Agricultural Workers: A Comprehensive Overview
DESCRIPTION:Summary: COVID-19\, Influenza\, and RSV are all viruses spread by droplets and direct contact with infected people. Each virus has its specific causes\, symptoms\, severity\, and vaccines for prevention. The distinction of these viruses is critical\, especially given the multiple barriers and exposure factors for agricultural workers. This presentation will explore the risks agricultural workers face\, preventative measures\, and strategies to maintain personal and community health. \nIntended Audience: Agricultural workers and producers \nObjectives: At the end of this webinar\, participants will be able to… \n1. Identify specific symptoms of COVID-19\, Influenza\, & RSV \n2. Review current testing and treatment options for COVID-19\, Influenza\, & RSV \n3. Provide resources on workplace safety for agricultural employers and employees \n Watch the Recording Here  \nThis material was produced under grant number SH-000099-SH3 from the Occupational Safety and Health Administration\, U.S. Department of Labor. It does not necessarily reflect the views or policies of the U.S. Department of Labor\, nor does mention of trade names\, commercial products\, or organizations imply endorsement by the U.S. Government.
URL:https://www.agrisafe.org/event/webinar-navigating-the-impact-of-covid-19-influenza-rsv-on-agricultural-workers-a-comprehensive-overview/
CATEGORIES:Farmer/Worker Health,Health Education and Promotion,OSHA Standards
ATTACH;FMTTYPE=image/png:https://www.agrisafe.org/wp-content/uploads/2024/03/Farmer-Smiling.png
END:VEVENT
BEGIN:VEVENT
DTSTART;TZID=America/Chicago:20240320T120000
DTEND;TZID=America/Chicago:20240320T130000
DTSTAMP:20260423T115147
CREATED:20231211T150606Z
LAST-MODIFIED:20240320T215016Z
UID:17308-1710936000-1710939600@www.agrisafe.org
SUMMARY:Webinar: Talking About Ticks- Lyme Disease
DESCRIPTION:Summary: As people spend more time outdoors\, so do many insects and pests. Among them are ticks\, which are small bloodsucking arachnids. The deer tick (also known as the black-legged tick) is found mainly in the Eastern and upper Midwestern regions of the U.S. It can cause conditions such as Lyme disease – the most common vector-borne disease in the United States. This webinar will cover the things you need to know to prevent tick bites when working outdoors\, how to remove a tick if bitten\, as well as the symptoms that can result from tick bites that may indicate Lyme Disease. \nIntended Audience: This course is intended for Ag professionals\, educators\, and individuals involved in working and recreation outdoors. \nObjectives: At the end of this webinar\, participants will be able to: \n\nGain an understanding of tick-borne disease control measures to reduce exposure risks among ag workers.\nDescribe Lyme Disease and its regional variation.\nDescribe symptoms of the different types of Lyme Disease.\nIdentify workers’ rights and employers’ responsibilities for the workplace.\n\n Watch the Recording Here  \nThis material was produced under grant number SH-36995-HA1 from the Occupational Safety and Health Administration\, U.S. Department of Labor. It does not necessarily reflect the views or policies of the U.S. Department of Labor\, nor does mention of trade names\, commercial products\, or organizations imply endorsement by the U.S. Government.
URL:https://www.agrisafe.org/event/webinar-talking-about-ticks-lyme-disease-6/
CATEGORIES:Farmer/Worker Health,Health Education and Promotion,OSHA Standards,Zoonotic Diseases
ATTACH;FMTTYPE=image/jpeg:https://www.agrisafe.org/wp-content/uploads/2022/11/lyme-disease-.jpeg
ORGANIZER;CN="Laura Wheeler%2C LMT%2C RYT":MAILTO:info@agrisafe.org
END:VEVENT
BEGIN:VEVENT
DTSTART;TZID=America/Chicago:20240321T120000
DTEND;TZID=America/Chicago:20240321T130000
DTSTAMP:20260423T115147
CREATED:20240216T224646Z
LAST-MODIFIED:20240321T212736Z
UID:18159-1711022400-1711026000@www.agrisafe.org
SUMMARY:Webinar: Stress Control Strategies for the Forestry and Timber Workforce
DESCRIPTION:Summary: Stress can directly impact safety. Whether managing forestry wildfires or working long strenuous days harvesting and hauling timber\, the forestry and logging workforce face unique situations that can predispose stress and challenges to mental well-being. The agriculture\, forestry\, fishing\, and hunting (AgFF) industries has one of highest percentages of deaths by suicide. Key factors contributing to despair and distress include financial losses\, chronic illness or pain\, a sense of work-life imbalance\, and lack of mental health support. And it is common to encounter circumstances beyond their control\, such as unpredictable weather patterns\, rapidly changing prices\, and long workdays sometimes in isolation. Perceived lack of control can lead to helplessness and hopelessness\, anxiety\, depression\, substance use and suicide. This session will explore the topic with a review of specific risk factors\, and discuss ways to support this workforce in an unpredictable environment. \nIntended Audience: This course is intended for workers in forestry and logging\, including fallers\, first-line supervisors/managers of forestry workers\, logging equipment operators\, sawing machine setters\, operators and tenders\, and truck drivers. \nObjectives: At the conclusion of the training\, participants will be able to… \n\nIdentify the factors that contribute to stress overload in the forestry and timber harvesting occupations.\nRelate the effects of stress overload to the safety of the work site and personal life.\nIdentify effective strategies for effective stress management to improve safety and quality of life.\n\n Watch the Recording Here  \nThis material was produced under grant number SH-39184-SH2 from the Occupational Safety and Health Administration\, U.S. Department of Labor. It does not necessarily reflect the views or policies of the U.S. Department of Labor\, nor does mention of trade names\, commercial products\, or organizations imply endorsement by the U.S. Government.
URL:https://www.agrisafe.org/event/webinar-stress-control-strategies-for-the-forestry-and-timber-workforce-2/
CATEGORIES:Forestry,OSHA Standards
ATTACH;FMTTYPE=image/png:https://www.agrisafe.org/wp-content/uploads/2023/08/forestry-worker.png
ORGANIZER;CN="Tara Haskins%2C DNP%2C MSN%2C RN%2C AHN-BC":MAILTO:info@agrisafe.org
END:VEVENT
BEGIN:VEVENT
DTSTART;TZID=America/Chicago:20240327T120000
DTEND;TZID=America/Chicago:20240327T130000
DTSTAMP:20260423T115147
CREATED:20240216T223558Z
LAST-MODIFIED:20240327T184218Z
UID:18155-1711540800-1711544400@www.agrisafe.org
SUMMARY:Webinar: Protecting Ag Employees from Infectious Diseases in the Post-COVID Era
DESCRIPTION:Summary: In the wake of the global impact of severe acute respiratory syndrome coronavirus 2 (SARS-CoV-2) and the ensuing coronavirus disease 19 (COVID-19)\, the urgency to safeguard agricultural employees from infectious diseases has become paramount. Acknowledging the rapid and profound effects of the pandemic on a global scale\, particularly its impact on individuals engaged in essential agricultural work\, there is a heightened need to implement robust measures to mitigate the heightened risk of adverse health and economic consequences among this workforce. Addressing the challenges posed by the post-COVID era\, it is imperative to adapt and enhance workplace safety protocols to ensure the well-being of agricultural workers\, recognizing their critical role in sustaining essential food production. \nThis presentation aims to emphasize proactive measures that employers can implement to minimize the transmission of infectious diseases. Key focus areas will encompass education and training\, the proper utilization of personal protective equipment\, adherence to rigorous hygiene practices\, effective sanitation and disinfection protocols\, robust communication and outreach strategies\, well-prepared emergency response plans\, and the incorporation of cultural sensitivity considerations. Employers can create safer and healthier work environments by addressing these comprehensive elements. \nIntended Audience: Farm/Ranch owners and operators\, health and safety professionals\, and anyone who serves as safety personnel in an agricultural setting. \nObjectives: After the program\, participants will be able to… \n\nDevelop a comprehensive understanding of infectious disease control measures to mitigate exposure risks for agricultural workers and employers.\nFormulate an infectious disease assessment and control plan by incorporating guidelines provided by the CDC.\nDemonstrate awareness of the effectiveness of vaccines in preventing infectious diseases within the agricultural workplace.\n\n Watch the Recording Here  \nThis material was produced under grant number SH-000099-SH3 from the Occupational Safety and Health Administration\, U.S. Department of Labor. It does not necessarily reflect the views or policies of the U.S. Department of Labor\, nor does mention of trade names\, commercial products\, or organizations imply endorsement by the U.S. Government.
URL:https://www.agrisafe.org/event/webinar-protecting-ag-employees-from-infectious-diseases-in-the-post-covid-era/
CATEGORIES:Farmer/Worker Health,Health Education and Promotion,OSHA Standards
ATTACH;FMTTYPE=image/png:https://www.agrisafe.org/wp-content/uploads/2024/02/Group-of-people-riding-horses.png
END:VEVENT
END:VCALENDAR