BEGIN:VCALENDAR
VERSION:2.0
PRODID:-//AgriSafe Network - ECPv6.15.20//NONSGML v1.0//EN
CALSCALE:GREGORIAN
METHOD:PUBLISH
X-WR-CALNAME:AgriSafe Network
X-ORIGINAL-URL:https://www.agrisafe.org
X-WR-CALDESC:Events for AgriSafe Network
REFRESH-INTERVAL;VALUE=DURATION:PT1H
X-Robots-Tag:noindex
X-PUBLISHED-TTL:PT1H
BEGIN:VTIMEZONE
TZID:America/Chicago
BEGIN:DAYLIGHT
TZOFFSETFROM:-0600
TZOFFSETTO:-0500
TZNAME:CDT
DTSTART:20220313T080000
END:DAYLIGHT
BEGIN:STANDARD
TZOFFSETFROM:-0500
TZOFFSETTO:-0600
TZNAME:CST
DTSTART:20221106T070000
END:STANDARD
BEGIN:DAYLIGHT
TZOFFSETFROM:-0600
TZOFFSETTO:-0500
TZNAME:CDT
DTSTART:20230312T080000
END:DAYLIGHT
BEGIN:STANDARD
TZOFFSETFROM:-0500
TZOFFSETTO:-0600
TZNAME:CST
DTSTART:20231105T070000
END:STANDARD
BEGIN:DAYLIGHT
TZOFFSETFROM:-0600
TZOFFSETTO:-0500
TZNAME:CDT
DTSTART:20240310T080000
END:DAYLIGHT
BEGIN:STANDARD
TZOFFSETFROM:-0500
TZOFFSETTO:-0600
TZNAME:CST
DTSTART:20241103T070000
END:STANDARD
END:VTIMEZONE
BEGIN:VEVENT
DTSTART;TZID=America/Chicago:20231004T120000
DTEND;TZID=America/Chicago:20231004T130000
DTSTAMP:20260424T123529
CREATED:20230725T172755Z
LAST-MODIFIED:20231005T144131Z
UID:15822-1696420800-1696424400@www.agrisafe.org
SUMMARY:Webinar: Musculoskeletal & Ergonomic Safety for Forest Workers
DESCRIPTION:Summary: Forest workers face unique ergonomic challenges due to their exposure to extreme environmental conditions\, heavy workload\, and dangerous tools and machines. The forest sector has one of the highest rates of Musculoskeletal Disorders (MSDs)\, almost 100 times higher than the industrial targets the National Institute for Occupational Safety & Health (NIOSH) set. This program is intended to help forest workers identify ergonomic issues leading to musculoskeletal injuries and discover resources to aid in injury treatment and prevention. \nObjectives: At the end of the webinar\, participants will be able to… \n1. Identify work site hazards and potential resulting musculoskeletal injuries. \n2. Identify three initiatives aimed at reducing risks related to musculoskeletal injuries. \n3. Locate evidence-based resources in the forestry health and safety field that address ergonomic security. \nIntended Audience: This course is intended for workers in forestry and logging\, including fallers\, first-line supervisors/managers of forestry workers\, logging equipment operators\, sawing machine setters\, operators and tenders\, and truck drivers. \n Watch the Recording Here  \nThis material was produced under grant number SH-39184-SH2 from the Occupational Safety and Health Administration\, U.S. Department of Labor. It does not necessarily reflect the views or policies of the U.S. Department of Labor\, nor does mention of trade names\, commercial products\, or organizations imply endorsement by the U.S. Government.
URL:https://www.agrisafe.org/event/webinar-musculoskeletal-ergonomic-safety-for-forest-workers-2/
CATEGORIES:Forestry,OSHA Standards
ATTACH;FMTTYPE=image/png:https://www.agrisafe.org/wp-content/uploads/2023/04/marketing-image-32.png
END:VEVENT
BEGIN:VEVENT
DTSTART;TZID=America/Chicago:20231010T130000
DTEND;TZID=America/Chicago:20231010T143000
DTSTAMP:20260424T123529
CREATED:20230719T175214Z
LAST-MODIFIED:20231013T222440Z
UID:15715-1696942800-1696948200@www.agrisafe.org
SUMMARY:QPR for Farmers and Farm Families
DESCRIPTION:What is QPR? QPR training teaches laypeople and professionals to recognize and respond to mental health crises using the approach of Question\, Persuade and Refer. \nTo attend this training participants must be 18 years of age or older. \nIn this 1.5-hour QPR training\, we will provide:\n– Information on the unique challenges farmers face that can lead to stress\, depression\, and suicide.\n– Examples implementing each QPR component with someone at risk for suicide.\n– Information on how to help someone at risk of suicide. \nRegistration spots are limited\, so please only register if you can attend the event. No recording of this training will be available. Interested in hosting a QPR training session for your organization? Contact Tara Haskins (thaskins@agrisafe.org) for more information! \n Upcoming Training Dates
URL:https://www.agrisafe.org/event/qpr-for-farmers-and-farm-families-21/
CATEGORIES:Cognition,Mental Health,QPR
ATTACH;FMTTYPE=image/png:https://www.agrisafe.org/wp-content/uploads/2021/09/QPR-Virtual-Training-Banner.png
END:VEVENT
BEGIN:VEVENT
DTSTART;TZID=America/Chicago:20231011T120000
DTEND;TZID=America/Chicago:20231011T130000
DTSTAMP:20260424T123529
CREATED:20230725T172611Z
LAST-MODIFIED:20231211T145224Z
UID:15820-1697025600-1697029200@www.agrisafe.org
SUMMARY:Webinar: Preventing Workplace Violence for Forestry Workers
DESCRIPTION:Summary: Forestry and logging workers are exposed to a range of biological hazards\, extreme weather\, accidents\, and – especially for women– assault. Workplace violence is violence or the threat of violence against workers. This training will review the many forms of workplace violence among co-workers\, including sexual harassment. The federal Occupational Safety and Health Act (OSH Act) states that “each employer shall furnish to each of his employees’ employment and a place of employment which are free from recognized hazards that are causing or are likely to cause death or serious physical harm to his employees.” In this presentation\, AgriSafe will focus on educating forestry employees and their employers on reporting violent incidents to authorities\, informing employees of their legal rights\, and safe work practices. \nIntended Audience: This course is intended for workers in forestry and logging\, including fallers\, first-line supervisors/managers of forestry workers\, logging equipment operators\, sawing machine setters\, operators and tenders\, and truck drivers. \nObjectives: At the end of this webinar\, participants will be able to understand… \n1. The scope and nature of workplace violence occurring in the forestry sector today. \n2. Employers’ responsibilities in addressing workplace violence and implementing preventive measures. \n3. Effective strategies and interventions can make the workplace safer and more responsive to employee victims. \n Watch the Recording Here  \nThis material was produced under grant number SH-39184-SH2 from the Occupational Safety and Health Administration\, U.S. Department of Labor. It does not necessarily reflect the views or policies of the U.S. Department of Labor\, nor does mention of trade names\, commercial products\, or organizations imply endorsement by the U.S. Government.
URL:https://www.agrisafe.org/event/webinar-preventing-workplace-violence-for-forestry-workers-3/
CATEGORIES:Forestry,OSHA Standards
ATTACH;FMTTYPE=image/png:https://www.agrisafe.org/wp-content/uploads/2023/03/Untitled-design-50.png
ORGANIZER;CN="Knesha Rose-Davison%2C MPH%2C CPH":MAILTO:info@agrisafe.org
END:VEVENT
BEGIN:VEVENT
DTSTART;TZID=America/Chicago:20231018T120000
DTEND;TZID=America/Chicago:20231018T130000
DTSTAMP:20260424T123529
CREATED:20230928T165237Z
LAST-MODIFIED:20231026T144710Z
UID:16746-1697630400-1697634000@www.agrisafe.org
SUMMARY:Webinar: The Healing Capacity of Honey Bees: Veterans Using Beekeeping as a Modality to Achieve Positive Mental Health Outcomes
DESCRIPTION:Summary: Veterans deal with a whole host of disabilities\, traumas\, and transitional issues following military service. Agriculture can serve as a solution to many veteran issues through professional training to support career goals and therapeutic activities to support overall wellness of the veteran and their families. Crosscutting programs like Heroes to Hives seek to address these multifaceted needs through professional training in beekeeping and transpersonal wellness practices within the course that seek to utilize bees and the interaction with them as modalities for positive health outcomes. In this session\, we will discuss how Heroes to Hives delivers wellness opportunities and practices to their students. \nIntended Audience: Health Care Providers\, Ag Educators\, and Veteran Service Providers \nObjectives: At the end of this webinar\, participants will be able to: \n\nParticipants will learn about the Heroes to Hives program’s integrative training program.\nParticipants will understand the value of integrating transpersonal practices into agricultural settings for wellness.\nParticipants will learn how collaboration with the VA can lead to new wellness opportunities for veterans using VA care.\nParticipants will learn about the USDA Sustainable Agriculture Research and Education program’s Professional Development grant opportunity.\n\n Watch the Recording Here
URL:https://www.agrisafe.org/event/webinar-the-healing-capacity-of-honey-bees-veterans-using-beekeeping-as-a-modality-to-achieve-positive-mental-health-outcomes/
CATEGORIES:Mental Health,Veteran’s Health
ATTACH;FMTTYPE=image/png:https://www.agrisafe.org/wp-content/uploads/2023/09/H2H-2.png
END:VEVENT
BEGIN:VEVENT
DTSTART;TZID=America/Chicago:20231026T120000
DTEND;TZID=America/Chicago:20231026T130000
DTSTAMP:20260424T123529
CREATED:20231006T165400Z
LAST-MODIFIED:20241127T155610Z
UID:16877-1698321600-1698325200@www.agrisafe.org
SUMMARY:Webinar: A Review of the Literature for Forestry Health and Safety: The Last Ten Years
DESCRIPTION:Summary: Foresters and loggers work in the most hazardous industries with high job-related injury\, illness\, and fatality rates. This workforce faces unique environmental exposures\, ergonomic challenges\, and health disparities across all ages. The last comprehensive literature review in forestry health and safety for NIOSH was completed in 2012. Under a NIOSH IPA project\, AgriSafe conducted a forestry health and safety literature review for publications from 2012 to 2022.  \nThe objectives of this review were: \n\nUncover the health and safety issues currently facing the forestry and logging workforce.\nIdentify any new trends or topics in the literature.\nIdentify areas of training and health needs.\nIdentify healthcare access issues impacting the forestry workforce.\n\nFinal results of this project will be shared with the audience. Findings in this project will contribute to NIOSH’s priorities for forestry occupational health and safety and the literature. The literature review will inform and prioritize future forestry training needs through AgriSafe’s OSHA forestry training projects. \nObjectives: At the end of this webinar\, participants will be able to: \n\nSummarize the findings of the literature review.\nIdentify areas of training and health needs in health and safety for forestry workers.\n\nIntended Audience: This course is intended for agricultural safety/forestry professionals working in the industry\, extension\, academia\, or safety centers and workers in forestry and logging\, including logging owners and first-line supervisors/managers of forestry workers. \n Watch the Recording Here
URL:https://www.agrisafe.org/event/webinar-a-review-of-the-literature-for-forestry-health-and-safety-the-last-ten-years/
CATEGORIES:Forestry
ATTACH;FMTTYPE=image/jpeg:https://www.agrisafe.org/wp-content/uploads/2023/10/Logs-with-Douglas-Fir-Background-scaled.jpg
ORGANIZER;CN="Knesha Rose-Davison%2C MPH%2C CPH":MAILTO:info@agrisafe.org
END:VEVENT
END:VCALENDAR