BEGIN:VCALENDAR
VERSION:2.0
PRODID:-//AgriSafe Network - ECPv6.15.20//NONSGML v1.0//EN
CALSCALE:GREGORIAN
METHOD:PUBLISH
X-ORIGINAL-URL:https://www.agrisafe.org
X-WR-CALDESC:Events for AgriSafe Network
REFRESH-INTERVAL;VALUE=DURATION:PT1H
X-Robots-Tag:noindex
X-PUBLISHED-TTL:PT1H
BEGIN:VTIMEZONE
TZID:America/Chicago
BEGIN:DAYLIGHT
TZOFFSETFROM:-0600
TZOFFSETTO:-0500
TZNAME:CDT
DTSTART:20220313T080000
END:DAYLIGHT
BEGIN:STANDARD
TZOFFSETFROM:-0500
TZOFFSETTO:-0600
TZNAME:CST
DTSTART:20221106T070000
END:STANDARD
BEGIN:DAYLIGHT
TZOFFSETFROM:-0600
TZOFFSETTO:-0500
TZNAME:CDT
DTSTART:20230312T080000
END:DAYLIGHT
BEGIN:STANDARD
TZOFFSETFROM:-0500
TZOFFSETTO:-0600
TZNAME:CST
DTSTART:20231105T070000
END:STANDARD
BEGIN:DAYLIGHT
TZOFFSETFROM:-0600
TZOFFSETTO:-0500
TZNAME:CDT
DTSTART:20240310T080000
END:DAYLIGHT
BEGIN:STANDARD
TZOFFSETFROM:-0500
TZOFFSETTO:-0600
TZNAME:CST
DTSTART:20241103T070000
END:STANDARD
END:VTIMEZONE
BEGIN:VEVENT
DTSTART;TZID=America/Chicago:20230906T110000
DTEND;TZID=America/Chicago:20230906T123000
DTSTAMP:20260424T123512
CREATED:20230719T174943Z
LAST-MODIFIED:20230906T155845Z
UID:15713-1693998000-1694003400@www.agrisafe.org
SUMMARY:QPR for Farmers and Farm Families
DESCRIPTION:What is QPR? QPR training teaches laypeople and professionals to recognize and respond to mental health crises using the approach of Question\, Persuade and Refer. \nTo attend this training participants must be 18 years of age or older. \nIn this 1.5-hour QPR training\, we will provide:\n– Information on the unique challenges farmers face that can lead to stress\, depression\, and suicide.\n– Examples implementing each QPR component with someone at risk for suicide.\n– Information on how to help someone at risk of suicide. \nRegistration spots are limited\, so please only register if you can attend the event. No recording of this training will be available. Interested in hosting a QPR training session for your organization? Contact Tara Haskins (thaskins@agrisafe.org) for more information! \n Upcoming Training Dates
URL:https://www.agrisafe.org/event/qpr-for-farmers-and-farm-families-20/
CATEGORIES:Cognition,Mental Health,QPR
ATTACH;FMTTYPE=image/png:https://www.agrisafe.org/wp-content/uploads/2021/09/QPR-Virtual-Training-Banner.png
END:VEVENT
BEGIN:VEVENT
DTSTART;TZID=America/Chicago:20230927T120000
DTEND;TZID=America/Chicago:20230927T130000
DTSTAMP:20260424T123512
CREATED:20230824T183557Z
LAST-MODIFIED:20241204T214044Z
UID:16363-1695816000-1695819600@www.agrisafe.org
SUMMARY:Webinar: Stress Control Strategies for the Forestry and Timber Workforce
DESCRIPTION:Summary: Stress can directly impact safety. Whether managing forestry wildfires or working long strenuous days harvesting and hauling timber\, the forestry and logging workforce face unique situations that can predispose workers to stress and challenges to mental well-being. The agriculture\, forestry\, fishing\, and hunting (AgFF) industries has one of highest percentages of deaths by suicide. Key factors contributing to despair and distress include financial losses\, chronic illness or pain\, a sense of work-life imbalance\, and lack of mental health support. And it is common to encounter circumstances beyond their control\, such as unpredictable weather patterns\, rapidly changing prices\, and long workdays sometimes in isolation. Perceived lack of control can lead to helplessness and hopelessness\, anxiety\, depression\, substance use and suicide. This session will explore the topic with a review of specific risk factors\, and it will discuss ways to support this workforce in an unpredictable environment. \nIntended Audience: This course is intended for workers in forestry and logging\, including fallers\, first-line supervisors/managers of forestry workers\, logging equipment operators\, sawing machine setters\, operators and tenders\, and truck drivers. \nObjectives: At the conclusion of the training\, participants will be able to: \n\nIdentify the factors that contribute to stress overload in the forestry and timber harvesting occupations.\nRelate the effects of stress overload to the safety of the work site and personal life.\nIdentify strategies for effective stress management to improve safety and quality of life.\n\n Watch the Recording Here  \nThis material was produced under grant number SH-39184-SH2 from the Occupational Safety and Health Administration\, U.S. Department of Labor. It does not necessarily reflect the views or policies of the U.S. Department of Labor\, nor does mention of trade names\, commercial products\, or organizations imply endorsement by the U.S. Government.
URL:https://www.agrisafe.org/event/webinar-stress-control-strategies-for-the-forestry-and-timber-workforce/
CATEGORIES:Forestry,OSHA Standards
ATTACH;FMTTYPE=image/png:https://www.agrisafe.org/wp-content/uploads/2023/08/forestry-worker.png
ORGANIZER;CN="Tara Haskins%2C DNP%2C MSN%2C RN%2C AHN-BC":MAILTO:info@agrisafe.org
END:VEVENT
END:VCALENDAR