BEGIN:VCALENDAR
VERSION:2.0
PRODID:-//AgriSafe Network - ECPv6.15.20//NONSGML v1.0//EN
CALSCALE:GREGORIAN
METHOD:PUBLISH
X-WR-CALNAME:AgriSafe Network
X-ORIGINAL-URL:https://www.agrisafe.org
X-WR-CALDESC:Events for AgriSafe Network
REFRESH-INTERVAL;VALUE=DURATION:PT1H
X-Robots-Tag:noindex
X-PUBLISHED-TTL:PT1H
BEGIN:VTIMEZONE
TZID:America/Chicago
BEGIN:DAYLIGHT
TZOFFSETFROM:-0600
TZOFFSETTO:-0500
TZNAME:CDT
DTSTART:20210314T080000
END:DAYLIGHT
BEGIN:STANDARD
TZOFFSETFROM:-0500
TZOFFSETTO:-0600
TZNAME:CST
DTSTART:20211107T070000
END:STANDARD
BEGIN:DAYLIGHT
TZOFFSETFROM:-0600
TZOFFSETTO:-0500
TZNAME:CDT
DTSTART:20220313T080000
END:DAYLIGHT
BEGIN:STANDARD
TZOFFSETFROM:-0500
TZOFFSETTO:-0600
TZNAME:CST
DTSTART:20221106T070000
END:STANDARD
BEGIN:DAYLIGHT
TZOFFSETFROM:-0600
TZOFFSETTO:-0500
TZNAME:CDT
DTSTART:20230312T080000
END:DAYLIGHT
BEGIN:STANDARD
TZOFFSETFROM:-0500
TZOFFSETTO:-0600
TZNAME:CST
DTSTART:20231105T070000
END:STANDARD
END:VTIMEZONE
BEGIN:VEVENT
DTSTART;TZID=America/Chicago:20220919T120000
DTEND;TZID=America/Chicago:20220919T130000
DTSTAMP:20260424T092111
CREATED:20220715T150405Z
LAST-MODIFIED:20220919T183101Z
UID:10095-1663588800-1663592400@www.agrisafe.org
SUMMARY:Webinar: Crashes Involving Agricultural Vehicles in the Southwest Region
DESCRIPTION:Crashes Involving Agricultural Vehicles in the Southwest Region\nSummary: Motor vehicle crashes are among the top reasons that workers are injured in agriculture. From an occupational safety and health perspective\, rural roadways present unique challenges to stakeholders engaged in crash and injury prevention. This session provides an overview of the key issues relevant to rural roadway safety within the context of agricultural vehicles and logging trucks and proven methods for reducing rural roadway crashes and their severity. In addition\, the magnitude of the crash problem and trends will be presented for the Southwest Region (i.e.\, AR\, LA\, NM\, OK\, and TX) using data from the Southwest Agricultural Crash Surveillance System (SW AgCRASH). \nIntended Audience: health and safety professionals\, farmers\, ranchers\, ag workers\, healthcare providers\, and others interested in rural roadway safety \nObjectives: At the end of this webinar\, participants will be able to…\n– Describe the frequency of crashes involving agricultural vehicles in the Southwest Regional over time.\n– Identify the top factors contributing to roadway crashes involving agricultural vehicles in the Southwest Region.\n– Identity potential countermeasures or ways to reduce crashes involving agricultural vehicles or their severity. \n Watch Now  \n 
URL:https://www.agrisafe.org/event/webinar-crashes-involving-agricultural-vehicles-in-the-southwest-region/
CATEGORIES:Farm Machinery & Tractor Safety,Hazards,National Farm Safety and Health Week
ATTACH;FMTTYPE=image/jpeg:https://www.agrisafe.org/wp-content/uploads/2022/07/SW-AgCrash-1.jpeg
END:VEVENT
BEGIN:VEVENT
DTSTART;TZID=America/Chicago:20220919T140000
DTEND;TZID=America/Chicago:20220919T150000
DTSTAMP:20260424T092111
CREATED:20220715T145012Z
LAST-MODIFIED:20220919T201346Z
UID:10065-1663596000-1663599600@www.agrisafe.org
SUMMARY:Webinar: ATV-UTV Safety for Women
DESCRIPTION:ATV-UTV Safety for Women\nSummary: Agriculture ranks among the most hazardous industries. Farmers are at very high risk for fatal and nonfatal injuries\, and farming is one of few industries in which family members (who often share the work and live on the premises) are also at risk for fatal and nonfatal injuries. ATVs and UTVs are found on all types of farms; they are useful for agricultural work\, but they also pose serious hazards to operators and passengers. Studies indicate that injured ATV/UTV passengers are more commonly female and youth and that helmet use is significantly lower for passengers. The focus of the training would be on ATV/UTV maintenance and safety features\, personal protective equipment (PPE)\, load and weight considerations\, operation on public roadways\, as well as employee training and considerations for working alone. \nIntended Audience: Producers- This training is intended primarily for agricultural producers\, including but not limited to farmers\, ranchers\, and any person or persons involved in some combination of raising field crops\, orchards\, vineyards\, poultry\, or other livestock. \nThis material was produced under grant number SH-05068-SH8 from the Occupational Safety and Health Administration\, U.S. Department of Labor. It does not necessarily reflect the views or policies of the U.S. Department of Labor\, nor does mention of trade names\, commercial products\, or organizations imply endorsement by the U.S. Government. \n Watch Now  \n 
URL:https://www.agrisafe.org/event/webinar-atv-utv-safety-for-women-3/
CATEGORIES:Farm Machinery & Tractor Safety,Hazards,National Farm Safety and Health Week,OSHA Standards
ATTACH;FMTTYPE=image/jpeg:https://www.agrisafe.org/wp-content/uploads/2022/07/1.jpg
ORGANIZER;CN="Dan Neenan%2C MBA%2C Paramedic":MAILTO:info@agrisafe.org
END:VEVENT
BEGIN:VEVENT
DTSTART;TZID=America/Chicago:20220920T120000
DTEND;TZID=America/Chicago:20220920T130000
DTSTAMP:20260424T092111
CREATED:20220715T151357Z
LAST-MODIFIED:20220920T203411Z
UID:10104-1663675200-1663678800@www.agrisafe.org
SUMMARY:Webinar: Putting Time and Distance Between Someone at Risk of Suicide and Lethal Means: An Overview of the CALM Workshop
DESCRIPTION:Putting Time and Distance Between Someone at Risk of Suicide and Lethal Means: An Overview of the CALM Workshop\nSummary: Suicide is a leading cause of death in many communities and impacts hundreds of people. Creating mechanisms to put time and distance between someone struggling with a mental health concern and lethal means is an important part of creating hope and healing. \nObjectives: At the end of this webinar\, participants will be able to…\n– Suicide risk and protective factors in rural\, ranching\, and farming communities\n– Why safe storage protocols matter in suicide safety planning\n– Overview of the Counseling on Access to Lethal Means approach \n Watch Now  \n 
URL:https://www.agrisafe.org/event/webinar-putting-time-and-distance-between-someone-at-risk-of-suicide-and-lethal-means-an-overview-of-the-calm-workshop/
CATEGORIES:Mental Health,National Farm Safety and Health Week
ATTACH;FMTTYPE=image/png:https://www.agrisafe.org/wp-content/uploads/2022/07/NFSHW-Promo-Images-6.png
END:VEVENT
BEGIN:VEVENT
DTSTART;TZID=America/Chicago:20220920T140000
DTEND;TZID=America/Chicago:20220920T150000
DTSTAMP:20260424T092111
CREATED:20220715T152731Z
LAST-MODIFIED:20240701T211636Z
UID:10108-1663682400-1663686000@www.agrisafe.org
SUMMARY:Webinar: Heat and Wildfire Smoke Exposure Among Agricultural Workers: Examining Exposure Risk and Potential Strategies to Protect Workers
DESCRIPTION:Heat and Wildfire Smoke Exposure Among Agricultural Workers: Examining Exposure Risk and Potential Strategies to Protect Workers \nSummary: Heat and wildfire smoke has become a persistent health threat for agriculture workers. This webinar will focus on understanding the risks of exposure to wildfire smoke and heat and potential strategies for protecting agricultural workers. In addition\, participants will learn about a unique research partnership utilized to co-develop and communicate safety and health information to agricultural workers. \nIntended Audience: Agricultural farmers\, ranchers\, supervisors\, farmworkers\, farmworker organizations\, health and safety professionals\, trainers\, promotores\, rural healthcare providers\, extension agents\, and others who work in agriculture. \nObjectives: At the end of this webinar\, participants will be able to: \n• Describe the risk factors for exposure to heat and wildfire smoke to farmworkers.\n• Describe solutions to prevent heat-related illness that can be implemented in agricultural work environments.\n• List best practices for protecting agricultural workers’ health during wildfire conditions.\n• Learn how partnerships with community-based organizations can help communicate safety and health messages to     agricultural communities. \n Watch Now  \n 
URL:https://www.agrisafe.org/event/webinar-heat-and-wildfire-smoke-exposure-among-agricultural-workers-examining-exposure-risk-and-potential-strategies-to-protect-workers/
CATEGORIES:Heat Related Illnesses,National Farm Safety and Health Week
END:VEVENT
BEGIN:VEVENT
DTSTART;TZID=America/Chicago:20220921T120000
DTEND;TZID=America/Chicago:20220921T130000
DTSTAMP:20260424T092111
CREATED:20220715T153450Z
LAST-MODIFIED:20240730T142440Z
UID:10112-1663761600-1663765200@www.agrisafe.org
SUMMARY:Webinar: Protecting and Promoting the Health of Young Agricultural Workers: The Role of Employers and Supervisors
DESCRIPTION:Protecting and Promoting the Health of Young Agricultural Workers: The Role of Employers and Supervisors\nSummary: There are many benefits for hiring youth in agriculture\, including the development of job skills\, increased self-esteem\, responsibility\, and earned income. However\, adolescents and young adults working in agriculture (under 25 years old) are at increased risk for occupational injuries. In addition to traditional workplace hazards\, developmental differences (both physical and cognitive)\, inexperience\, fatigue\, and distracted behaviors increase the risk of injury. Employers and supervisors play an active role in protecting these workers. Communicating effectively with young workers about health and safety hazards that impact injury risk is key to protecting this population. This webinar will describe specific skills and practices that can be implemented in the workplace\, on family farms\, and in agricultural classrooms. Intended Audience: Employers\, Parents\, Educators \nObjectives: At the end of this webinar\, participants will be able to: \n\nIdentify risk factors that increase injury risk among adolescents and young adults.\nRecognize the role that supervisors (i.e.\, employers\, parents\, educators) play in protecting young workers.\nIdentify resources that can be used to address both traditional and non-traditional workplace hazards.\nApply communication skills and workplace practices that can be utilized in the workplace\, on the family farm\, or in agricultural classrooms.\n\n Watch Now  \n 
URL:https://www.agrisafe.org/event/webinar-protecting-and-promoting-the-health-of-young-agricultural-workers-the-role-of-employers-and-supervisors/
CATEGORIES:National Farm Safety and Health Week,Youth Safety and Health
END:VEVENT
BEGIN:VEVENT
DTSTART;TZID=America/Chicago:20220921T140000
DTEND;TZID=America/Chicago:20220921T150000
DTSTAMP:20260424T092111
CREATED:20220715T154210Z
LAST-MODIFIED:20260312T143403Z
UID:10115-1663768800-1663772400@www.agrisafe.org
SUMMARY:Webinar: Farm Youth Mental Health: What We Know and How to Help
DESCRIPTION:Farm Youth Mental Health: What We Know and How to Help\nSummary: Caring for both the physical and emotional health of our next generation is crucial. From adapting to changes to feeling overwhelmed\, like adults\, children also experience stress and anxiety; however\, they may be unsure of what they are feeling and how to respond. During this webinar\, we will take a closer look at the status of farm youth mental health. We will recognize causes of stress among youth living in farming and rural communities and highlight the resources available to assist families. \nIntended Audience: Extension\, practitioners\, educators\, farming/rural families\, etc. \nObjectives: At the end of this webinar\, participants will be able to: \n\nDescribe the status of farm youth’s mental health including the prevalence of anxiety and depression.\nRecognize common and unique reasons or causes of stress among youth living in farming and rural communities.\nIdentify mental health and wellness resources available to assist farm families and where to locate them.\n\n Watch Now  \n 
URL:https://www.agrisafe.org/event/webinar-farm-youth-mental-health-what-we-know-and-how-to-help/
CATEGORIES:Mental Health,National Farm Safety and Health Week,Youth Safety and Health
END:VEVENT
BEGIN:VEVENT
DTSTART;TZID=America/Chicago:20220922T120000
DTEND;TZID=America/Chicago:20220922T130000
DTSTAMP:20260424T092111
CREATED:20220715T155744Z
LAST-MODIFIED:20220922T185318Z
UID:10119-1663848000-1663851600@www.agrisafe.org
SUMMARY:Webinar: Roundtable Discussion: Grain Bin Safety
DESCRIPTION:Roundtable Discussion: Grain Bin Safety\nSummary: Grain Bin Safety week started in 2014 as an advocacy program to educate farmers and agricultural workers on safe practices in working in and around grain storage facilities. The program works on both sides of the issue by promoting a zero-entry mentality and then working with agribusiness to provide Grain Rescue tubes and training to Fire departments across the country. Since 2014 we have delivered 207 Grain rescue tubes in 31 States and this year will be adding 58 Rescue tubes. Learn about the program and how you could become involved. \n Watch Now  \n 
URL:https://www.agrisafe.org/event/webinar-roundtable-discussion-grain-bin-safety/
CATEGORIES:Grain and Confined Space Safety,National Farm Safety and Health Week
ORGANIZER;CN="Dan Neenan%2C MBA%2C Paramedic":MAILTO:info@agrisafe.org
END:VEVENT
BEGIN:VEVENT
DTSTART;TZID=America/Chicago:20220922T140000
DTEND;TZID=America/Chicago:20220922T150000
DTSTAMP:20260424T092111
CREATED:20220715T161827Z
LAST-MODIFIED:20220922T203540Z
UID:10124-1663855200-1663858800@www.agrisafe.org
SUMMARY:Webinar: Confined Space: Grain Bin Entry
DESCRIPTION:Confined Space: Grain Bin Entry\nSummary: The Confined Space Grain Safety program is intended for workers and managers in agriculture. This includes Coop’s\, farm operators\, employees\, and agriculture business owners. The major focus of the program is on safety in confined space work areas. \nObjectives: At the end of the presentation\, participants will be able to…\n1. Be able to identify hazards associated with confined space work.\n2. Understand the process for confined space entry and lock-out/tag-out procedures.\n3. Understand monitoring the air quality in a Confined Space.\n4. Understand the harnesses that need to be worn during an entry\n5. Understand the job responsibilities of a confined space attendant\n6. Know where to look for OSHA references and resources related to confined space entry in the grain industry. \n  \n Watch Now  \n 
URL:https://www.agrisafe.org/event/webinar-confined-space-grain-bin-entry/
CATEGORIES:Grain and Confined Space Safety,National Farm Safety and Health Week
ORGANIZER;CN="Dan Neenan%2C MBA%2C Paramedic":MAILTO:info@agrisafe.org
END:VEVENT
BEGIN:VEVENT
DTSTART;TZID=America/Chicago:20220923T140000
DTEND;TZID=America/Chicago:20220923T150000
DTSTAMP:20260424T092111
CREATED:20220715T164016Z
LAST-MODIFIED:20260413T201532Z
UID:10134-1663941600-1663945200@www.agrisafe.org
SUMMARY:Webinar: ¡Basta! Working Together to Prevent Sexual Harassment in the Agricultural Workplace
DESCRIPTION:!Basta! Working Together to Prevent Sexual Harassment in the Agricultural Workplace\nSummary: Workplace sexual harassment (WSH) in agriculture is a persistent and pervasive problem that threatens employees’ safety and well-being and damages organizational climate and trajectory. Until recently\, tailored trainings about WSH and resources specific to the agricultural sector and its audiences were lacking. Over the past several years\, researchers and partners with the Pacific Northwest Agriculture Safety and Health (PNASH) Center in Washington State have worked with a number of agricultural and industry stakeholders (e.g. farmworkers\, growers\, government leaders and agencies\, legal experts\, advocates\, etc.)\, to explore the nature of WSH and to develop relative education\, resources\, and training. \nWhile education alone will not stop WSH\, it’s an important strategy in a multi-faceted approach to prevention. In this webinar\, participants will be introduced to The Basta! Prevent Sexual Harassment in Agriculture training\, toolkit\, and video. The Basta! training uses an evidence-based\, community-engaged approach to help employees\, HR staff\, and growers prevent and address sexual harassment in the agricultural workplace. \n  \n Watch Now  \n 
URL:https://www.agrisafe.org/event/webinar-basta-working-together-to-prevent-sexual-harassment-in-the-agricultural-workplace/
CATEGORIES:National Farm Safety and Health Week,Women's Health
ORGANIZER;CN="Dennise Drury%2C MPH Outreach and Education Specialist Pacific Northwest Agriculture Safety and Health Center (PNASH)":MAILTO:info@agrisafe.org
END:VEVENT
BEGIN:VEVENT
DTSTART;TZID=America/Chicago:20220926T120000
DTEND;TZID=America/Chicago:20220926T130000
DTSTAMP:20260424T092111
CREATED:20220831T145044Z
LAST-MODIFIED:20220930T145824Z
UID:11276-1664193600-1664197200@www.agrisafe.org
SUMMARY:Webinar: Zoonotic Disease and Pregnancy: A Deeper Dive
DESCRIPTION:Summary: Zoonotic Diseases are transmitted between farm animals and humans and can pose additional risks to those who are pregnant. According to the World Health Organization\, more than half of all human pathogens are zoonotic and have represented nearly all emerging pathogens during the past decade. Farmers and farmworkers have higher levels of risk for contracting zoonotic diseases because of the frequency of their exposure to animals. Prevention is the best defense. Understanding how the disease transmission process works\, building a team\, and effectively communicating within that team is essential in preventing the spread of zoonotic disease. Women working in agriculture should be aware of the following special considerations during pregnancy: which animals are common carriers of zoonotic disease\, symptoms of the disease(s)\, prevention measures\, and pregnancy risks. \nIntended Audience: Supervisor or Managers: This training is intended primarily for health and safety professionals including but not limited to owner/operators\, safety officers or specialists\, managers\, supervisors\, safety coordinators\, health safety and environmental interns\, and any person or persons who serve as safety personnel in an agricultural setting. Producers: This training is intended primarily for agricultural producers including but not limited to farmers\, ranchers\, and any person or persons involved in some combination of raising field crops\, orchards\, vineyards\, horticulture\, or other livestock. \nThis material was produced under grant number SH-05068-SH8 from the Occupational Safety and Health Administration\, U.S. Department of Labor. It does not necessarily reflect the views or policies of the U.S. Department of Labor\, nor does mention of trade names\, commercial products\, or organizations imply endorsement by the U.S. Government. Revisions were made to this material under grant number SH-36995-HA1 from the Occupational Safety and Health Administration\, U.S. Department of Labor. \n Watch Now  \n 
URL:https://www.agrisafe.org/event/webinar-zoonotic-disease-and-pregnancy-a-deeper-dive-2/
CATEGORIES:OSHA Standards,Pesticide & Chemical Safety,Women's Health,Zoonotic Diseases
ORGANIZER;CN="Knesha Rose-Davison%2C MPH%2C CPH":MAILTO:info@agrisafe.org
END:VEVENT
BEGIN:VEVENT
DTSTART;TZID=America/Chicago:20220928T110000
DTEND;TZID=America/Chicago:20220928T160000
DTSTAMP:20260424T092111
CREATED:20220804T201136Z
LAST-MODIFIED:20220822T182815Z
UID:9828-1664362800-1664380800@www.agrisafe.org
SUMMARY:2022 Safety and Health Workshop for Youth Working in Ag
DESCRIPTION:Join us the National Children’s Center…for this virtual workshop and learn how you can help safeguard youth who work on farms and ranches. Sessions will focus on the benefits and risks to youth working in agriculture\, illness and injury prevention strategies\, youth mental health\, and parent/supervisor information and training. Use what you learn to develop and enhance childhood agricultural safety strategies for your organization. \n Learn More \n Register Now
URL:https://www.agrisafe.org/event/2022-safety-and-health-workshop-youth/
CATEGORIES:Youth Safety and Health
END:VEVENT
BEGIN:VEVENT
DTSTART;TZID=America/Chicago:20220929T120000
DTEND;TZID=America/Chicago:20220929T123000
DTSTAMP:20260424T092111
CREATED:20220915T203317Z
LAST-MODIFIED:20220924T011205Z
UID:11985-1664452800-1664454600@www.agrisafe.org
SUMMARY:Launching the 24/7 AgriStress Helpline in Your State
DESCRIPTION:Farmers and ranchers in multiple states can now access a crisis service helpline 24/7 staffed by trained professionals. The AgriStress Helpline is an evidence-based suicide prevention lifeline designed for agricultural communities. Attend this 30 min webinar to learn how to implement the AgriStress Helpline in your state. \nParticipants will learn how: \n\nthis innovative crisis model serves a critical unmet need.\nthe fee structure is determined.\nto prepare for a 30-day launch.\nthe partnerships are structured and customized to meet the unique needs of agricultural producers in each state.\n\n Register
URL:https://www.agrisafe.org/event/launching-helpline-in-your-state/
CATEGORIES:Mental Health
ORGANIZER;CN="Natalie Roy%2C MPH":MAILTO:info@agrisafe.org
END:VEVENT
END:VCALENDAR