BEGIN:VCALENDAR
VERSION:2.0
PRODID:-//AgriSafe Network - ECPv6.15.20//NONSGML v1.0//EN
CALSCALE:GREGORIAN
METHOD:PUBLISH
X-ORIGINAL-URL:https://www.agrisafe.org
X-WR-CALDESC:Events for AgriSafe Network
REFRESH-INTERVAL;VALUE=DURATION:PT1H
X-Robots-Tag:noindex
X-PUBLISHED-TTL:PT1H
BEGIN:VTIMEZONE
TZID:America/Chicago
BEGIN:DAYLIGHT
TZOFFSETFROM:-0600
TZOFFSETTO:-0500
TZNAME:CDT
DTSTART:20210314T080000
END:DAYLIGHT
BEGIN:STANDARD
TZOFFSETFROM:-0500
TZOFFSETTO:-0600
TZNAME:CST
DTSTART:20211107T070000
END:STANDARD
BEGIN:DAYLIGHT
TZOFFSETFROM:-0600
TZOFFSETTO:-0500
TZNAME:CDT
DTSTART:20220313T080000
END:DAYLIGHT
BEGIN:STANDARD
TZOFFSETFROM:-0500
TZOFFSETTO:-0600
TZNAME:CST
DTSTART:20221106T070000
END:STANDARD
BEGIN:DAYLIGHT
TZOFFSETFROM:-0600
TZOFFSETTO:-0500
TZNAME:CDT
DTSTART:20230312T080000
END:DAYLIGHT
BEGIN:STANDARD
TZOFFSETFROM:-0500
TZOFFSETTO:-0600
TZNAME:CST
DTSTART:20231105T070000
END:STANDARD
END:VTIMEZONE
BEGIN:VEVENT
DTSTART;TZID=America/Chicago:20220504T123000
DTEND;TZID=America/Chicago:20220504T131500
DTSTAMP:20260425T072518
CREATED:20220421T162153Z
LAST-MODIFIED:20220505T190357Z
UID:8463-1651667400-1651670100@www.agrisafe.org
SUMMARY:Webinar: Ag Worker Health and Avian Influenza
DESCRIPTION:Summary: Avian Influenza is a disease caused by viruses that can infect birds and people. Avian influenza viruses are routinely present in wild bird species and can be transmitted to backyard and commercial poultry\, but very rarely to people. This presentation will focus on understanding the current state of the avian influenza outbreak in the US and provide recommendations for personal protective equipment for people who work with poultry and poultry products. \nObjectives: At the end of this presentation\, participants will be able to… \n\nDescribe avian influenza and how it can be transmitted between birds\nIdentify appropriate personal protective equipment (PPE) to use when working with exposed or ill animals\nRecognize the human signs and symptoms that may indicate an avian influenza exposure\nAccess evidence-based health & safety resources focused on safe practices when working around potential animal-borne diseases\n\nIntended Audience: Ag producers\, farmers\, poultry workers\, veterinarians\, healthcare providers\, and anyone with exposure to poultry or other birds \nThis webinar is offered in English with Spanish interpretation\, provided courtesy of the National Center for Farmworker Health \n  \n Watch the Recording Here  \n  \n\n 
URL:https://www.agrisafe.org/event/webinar-ag-worker-health-and-avian-influenza/
CATEGORIES:Farmer/Worker Health,Zoonotic Diseases
ATTACH;FMTTYPE=image/jpeg:https://www.agrisafe.org/wp-content/uploads/2022/04/turkey.jpg
ORGANIZER;CN="Chad Roy%2C PhD%2C MSPH":MAILTO:info@agrisafe.org
END:VEVENT
BEGIN:VEVENT
DTSTART;TZID=America/Chicago:20220505T120000
DTEND;TZID=America/Chicago:20220505T133000
DTSTAMP:20260425T072518
CREATED:20220330T162113Z
LAST-MODIFIED:20220418T145517Z
UID:7683-1651752000-1651757400@www.agrisafe.org
SUMMARY:QPR for Farmers and Farm Families
DESCRIPTION:What is QPR? QPR training teaches laypeople and professionals to recognize and respond to mental health crises using the approach of Question\, Persuade and Refer. \nTo attend this training participants must be 18 years of age or older. \nIn this 1.5-hour QPR training\, we will provide:\n– Information on the unique challenges farmers face that can lead to stress\, depression\, and suicide.\n– Examples implementing each QPR component with someone at risk for suicide.\n– Information on how to help someone at risk of suicide. \nRegistration spots are limited\, so please only register if you can attend the event. No recording of this training will be available. Interested in hosting a QPR training session for your organization? Contact Olivia Bury (obury@agrisafe.org) for more information! \n Register
URL:https://www.agrisafe.org/event/webinar-qpr-for-farmers-and-farm-families-participants-must-reside-in-iowa-kansas-nebraska-pennsylvania-south-dakota-virginia-or-wyoming-4/
CATEGORIES:Cognition,Mental Health,QPR
ATTACH;FMTTYPE=image/png:https://www.agrisafe.org/wp-content/uploads/2021/09/QPR-Virtual-Training-Banner.png
END:VEVENT
BEGIN:VEVENT
DTSTART;TZID=America/Chicago:20220512T100000
DTEND;TZID=America/Chicago:20220512T113000
DTSTAMP:20260425T072518
CREATED:20220330T171151Z
LAST-MODIFIED:20220601T134903Z
UID:7685-1652349600-1652355000@www.agrisafe.org
SUMMARY:QPR for Farmers and Farm Families
DESCRIPTION:What is QPR? QPR training teaches laypeople and professionals to recognize and respond to mental health crises using the approach of Question\, Persuade and Refer. \nTo attend this training participants must be 18 years of age or older. \nIn this 1.5-hour QPR training\, we will provide:\n– Information on the unique challenges farmers face that can lead to stress\, depression\, and suicide.\n– Examples implementing each QPR component with someone at risk for suicide.\n– Information on how to help someone at risk of suicide. \nRegistration spots are limited\, so please only register if you can attend the event. No recording of this training will be available. Interested in hosting a QPR training session for your organization? Contact Olivia Bury (obury@agrisafe.org) for more information! \n See a list of our upcoming QPR training dates here!
URL:https://www.agrisafe.org/event/webinar-qpr-for-farmers-and-farm-families-participants-must-reside-in-iowa-kansas-nebraska-pennsylvania-south-dakota-virginia-or-wyoming-5/
CATEGORIES:Cognition,Mental Health,QPR
ATTACH;FMTTYPE=image/png:https://www.agrisafe.org/wp-content/uploads/2021/09/QPR-Virtual-Training-Banner.png
END:VEVENT
BEGIN:VEVENT
DTSTART;VALUE=DATE:20220515
DTEND;VALUE=DATE:20220522
DTSTAMP:20260425T072518
CREATED:20220517T185530Z
LAST-MODIFIED:20220517T185746Z
UID:8716-1652572800-1653177599@www.agrisafe.org
SUMMARY:National Farmworker Women's Health Week
DESCRIPTION:WHAT IS NFWHW? \nNational Farmworker Women’s Health Week is a public awareness campaign aimed at increasing public consciousness and understanding of the health risks farmworker women face\, and as an extension\, their families from working in the fields. \n\nWHEN IS NFWHW? \nNFWHW will be celebrated from May 15-21\, 2022. \n\nNFWHW PURPOSE \n\nRaise awareness about the amazing contributions farmworker women have given to society while facing daily challenges due to inequity in access to health\, wage\, education\, and more.\nRaise awareness and provide education on the devastating health effects that farmworker women face due to pesticide exposure\, especially during pregnancy. It may lead to miscarriages\, preterm births\, low birth weight\, birth defects\, and earning problems in children.\n\n\nNFWHW GOAL \nThe goal is to create a lasting conversation about the health issues facing farmworker women as well as support for programs and efforts that work to educate and mitigate those health problems\, thus improving overall farmworker women’s health education via a virtual format. \n Learn More Here  \n 
URL:https://www.agrisafe.org/event/national-farmworker-womens-health-week-may-15-21/
CATEGORIES:Health Education and Promotion
END:VEVENT
BEGIN:VEVENT
DTSTART;TZID=America/Chicago:20220519T120000
DTEND;TZID=America/Chicago:20220519T133000
DTSTAMP:20260425T072518
CREATED:20220330T171822Z
LAST-MODIFIED:20220601T134836Z
UID:7687-1652961600-1652967000@www.agrisafe.org
SUMMARY:QPR for Farmers and Farm Families
DESCRIPTION:What is QPR? QPR training teaches laypeople and professionals to recognize and respond to mental health crises using the approach of Question\, Persuade and Refer. \nTo attend this training participants must be 18 years of age or older. \nIn this 1.5-hour QPR training\, we will provide:\n– Information on the unique challenges farmers face that can lead to stress\, depression\, and suicide.\n– Examples implementing each QPR component with someone at risk for suicide.\n– Information on how to help someone at risk of suicide. \nRegistration spots are limited\, so please only register if you can attend the event. No recording of this training will be available. Interested in hosting a QPR training session for your organization? Contact Olivia Bury (obury@agrisafe.org) for more information! \n See a list of our upcoming QPR training dates here!
URL:https://www.agrisafe.org/event/webinar-qpr-for-farmers-and-farm-families-participants-must-reside-in-iowa-kansas-nebraska-pennsylvania-south-dakota-virginia-or-wyoming-6/
CATEGORIES:Cognition,Mental Health,QPR
ATTACH;FMTTYPE=image/png:https://www.agrisafe.org/wp-content/uploads/2021/09/QPR-Virtual-Training-Banner.png
END:VEVENT
BEGIN:VEVENT
DTSTART;TZID=America/Chicago:20220526T120000
DTEND;TZID=America/Chicago:20220526T133000
DTSTAMP:20260425T072518
CREATED:20220330T172007Z
LAST-MODIFIED:20220601T134417Z
UID:7689-1653566400-1653571800@www.agrisafe.org
SUMMARY:QPR for Farmers and Farm Families
DESCRIPTION:What is QPR? QPR training teaches laypeople and professionals to recognize and respond to mental health crises using the approach of Question\, Persuade and Refer. \nTo attend this training participants must be 18 years of age or older. \nIn this 1.5-hour QPR training\, we will provide:\n– Information on the unique challenges farmers face that can lead to stress\, depression\, and suicide.\n– Examples implementing each QPR component with someone at risk for suicide.\n– Information on how to help someone at risk of suicide. \nRegistration spots are limited\, so please only register if you can attend the event. No recording of this training will be available. Interested in hosting a QPR training session for your organization? Contact Olivia Bury (obury@agrisafe.org) for more information! \n See a list of our upcoming QPR training dates here!
URL:https://www.agrisafe.org/event/webinar-qpr-for-farmers-and-farm-families-participants-must-reside-in-iowa-kansas-nebraska-pennsylvania-south-dakota-virginia-or-wyoming-7/
CATEGORIES:Cognition,Mental Health,QPR
ATTACH;FMTTYPE=image/png:https://www.agrisafe.org/wp-content/uploads/2021/09/QPR-Virtual-Training-Banner.png
END:VEVENT
END:VCALENDAR