BEGIN:VCALENDAR
VERSION:2.0
PRODID:-//AgriSafe Network - ECPv6.15.20//NONSGML v1.0//EN
CALSCALE:GREGORIAN
METHOD:PUBLISH
X-WR-CALNAME:AgriSafe Network
X-ORIGINAL-URL:https://www.agrisafe.org
X-WR-CALDESC:Events for AgriSafe Network
REFRESH-INTERVAL;VALUE=DURATION:PT1H
X-Robots-Tag:noindex
X-PUBLISHED-TTL:PT1H
BEGIN:VTIMEZONE
TZID:America/Chicago
BEGIN:DAYLIGHT
TZOFFSETFROM:-0600
TZOFFSETTO:-0500
TZNAME:CDT
DTSTART:20210314T080000
END:DAYLIGHT
BEGIN:STANDARD
TZOFFSETFROM:-0500
TZOFFSETTO:-0600
TZNAME:CST
DTSTART:20211107T070000
END:STANDARD
BEGIN:DAYLIGHT
TZOFFSETFROM:-0600
TZOFFSETTO:-0500
TZNAME:CDT
DTSTART:20220313T080000
END:DAYLIGHT
BEGIN:STANDARD
TZOFFSETFROM:-0500
TZOFFSETTO:-0600
TZNAME:CST
DTSTART:20221106T070000
END:STANDARD
BEGIN:DAYLIGHT
TZOFFSETFROM:-0600
TZOFFSETTO:-0500
TZNAME:CDT
DTSTART:20230312T080000
END:DAYLIGHT
BEGIN:STANDARD
TZOFFSETFROM:-0500
TZOFFSETTO:-0600
TZNAME:CST
DTSTART:20231105T070000
END:STANDARD
END:VTIMEZONE
BEGIN:VEVENT
DTSTART;VALUE=DATE:20220404
DTEND;VALUE=DATE:20220411
DTSTAMP:20260425T075528
CREATED:20210719T202415Z
LAST-MODIFIED:20210726T201623Z
UID:3644-1649030400-1649635199@www.agrisafe.org
SUMMARY:National Public Health Week
DESCRIPTION:During the first full week of April each year\, the American Public Health Association brings together communities across the United States to observe National Public Health Week as a time to recognize the contributions of public health and highlight issues that are important to improving our nation’s health. For over 25 years\, APHA has served as the organizer of NPHW. APHA champions the health of all the people and all communities. \n 
URL:https://www.agrisafe.org/event/national-public-health-week/
CATEGORIES:Farmer/Worker Health
ATTACH;FMTTYPE=image/jpeg:https://www.agrisafe.org/wp-content/uploads/2021/07/NPHW-2c.jpg
END:VEVENT
BEGIN:VEVENT
DTSTART;TZID=America/Chicago:20220407T120000
DTEND;TZID=America/Chicago:20220407T133000
DTSTAMP:20260425T075528
CREATED:20220330T155448Z
LAST-MODIFIED:20220408T125449Z
UID:7671-1649332800-1649338200@www.agrisafe.org
SUMMARY:QPR for Farmers and Farm Families
DESCRIPTION:What is QPR? QPR training teaches laypeople and professionals to recognize and respond to mental health crises using the approach of Question\, Persuade and Refer. \nTo attend this training participants must be 18 years of age or older. \nIn this 1.5-hour QPR training\, we will provide:\n– Information on the unique challenges farmers face that can lead to stress\, depression\, and suicide.\n– Examples implementing each QPR component with someone at risk for suicide.\n– Information on how to help someone at risk of suicide. \nRegistration spots are limited\, so please only register if you can attend the event. No recording of this training will be available. Interested in hosting a QPR training session for your organization? Contact Olivia Bury (obury@agrisafe.org) for more information!
URL:https://www.agrisafe.org/event/qpr-8/
CATEGORIES:Cognition,Mental Health,QPR
ATTACH;FMTTYPE=image/png:https://www.agrisafe.org/wp-content/uploads/2021/09/QPR-Virtual-Training-Banner.png
END:VEVENT
BEGIN:VEVENT
DTSTART;TZID=America/Chicago:20220412T120000
DTEND;TZID=America/Chicago:20220412T130000
DTSTAMP:20260425T075528
CREATED:20220315T222033Z
LAST-MODIFIED:20241127T140820Z
UID:7187-1649764800-1649768400@www.agrisafe.org
SUMMARY:Webinar: Tools to Help Manage Financial Risk for Livestock Producers
DESCRIPTION:Summary: Changing climate\, market conditions\, and many other factors impact the work and health of livestock producers\, ranchers\, and farmers. When a natural disaster is added on top of other stressors\, support from a variety of sources is needed. This webinar will focus on the USDA Disaster Assistance Programs available to support producers who are raising livestock. \nObjectives: At the end of this webinar\, participants will be able to: \n\nUnderstand the options available to livestock producers through USDA Disaster Assistance programs\nExplore the timeline and process requirements for participation in these programs\nSummarize the program benefits to farmer/rancher mental and financial health\n\nIntended Audience: Livestock producers\, ranchers\, farmers\, ag safety and health professionals \n Watch the Recording Here  \n  \n  \n 
URL:https://www.agrisafe.org/event/webinar-tools-to-help-manage-financial-risk-for-livestock-producers/
CATEGORIES:Finances,Mental Health
ATTACH;FMTTYPE=image/jpeg:https://www.agrisafe.org/wp-content/uploads/2022/03/Cattle-Grazing.jpg
ORGANIZER;CN="Jack Field%2C Risk Advisor%2C CKP Insurance":MAILTO:jfield@ckpinsurance.com
END:VEVENT
BEGIN:VEVENT
DTSTART;TZID=America/Chicago:20220414T100000
DTEND;TZID=America/Chicago:20220414T113000
DTSTAMP:20260425T075528
CREATED:20220330T155756Z
LAST-MODIFIED:20220413T184936Z
UID:7677-1649930400-1649935800@www.agrisafe.org
SUMMARY:QPR for Farmers and Farm Families
DESCRIPTION:What is QPR? QPR training teaches laypeople and professionals to recognize and respond to mental health crises using the approach of Question\, Persuade and Refer. \nTo attend this training participants must be 18 years of age or older. \nIn this 1.5-hour QPR training\, we will provide:\n– Information on the unique challenges farmers face that can lead to stress\, depression\, and suicide.\n– Examples implementing each QPR component with someone at risk for suicide.\n– Information on how to help someone at risk of suicide. \nRegistration spots are limited\, so please only register if you can attend the event. No recording of this training will be available. Interested in hosting a QPR training session for your organization? Contact Olivia Bury (obury@agrisafe.org) for more information! \n Register
URL:https://www.agrisafe.org/event/webinar-qpr-for-farmers-and-farm-families-participants-must-reside-in-iowa-kansas-nebraska-pennsylvania-south-dakota-virginia-or-wyoming/
CATEGORIES:Cognition,Mental Health,QPR
ATTACH;FMTTYPE=image/png:https://www.agrisafe.org/wp-content/uploads/2021/09/QPR-Virtual-Training-Banner.png
ORGANIZER;CN="Linda Emanuel%2C BSN%2C RN":MAILTO:info@agrisafe.org
END:VEVENT
BEGIN:VEVENT
DTSTART;TZID=America/Chicago:20220420T120000
DTEND;TZID=America/Chicago:20220420T130000
DTSTAMP:20260425T075528
CREATED:20220401T153006Z
LAST-MODIFIED:20220422T123902Z
UID:7916-1650456000-1650459600@www.agrisafe.org
SUMMARY:Webinar: ATV-UTV Safety for Women
DESCRIPTION:ATV-UTV Safety for Women\nSummary: Agriculture ranks among the most hazardous industries. Farmers are at very high risk for fatal and nonfatal injuries\, and farming is one of few industries in which family members (who often share the work and live on the premises) are also at risk for fatal and nonfatal injuries. ATVs and UTVs are found on all types of farms; they are useful for agricultural work\, but they also pose serious hazards to operators and passengers. Studies indicate that injured ATV/UTV passengers are more commonly female and youth and that helmet use is significantly lower for passengers. The focus of the training would be on ATV/UTV maintenance and safety features\, personal protective equipment (PPE)\, load and weight considerations\, operation on public roadways\, as well as employee training and considerations for working alone. \nIntended Audience: Producers- This training is intended primarily for agricultural producers\, including but not limited to farmers\, ranchers\, and any person or persons involved in some combination of raising field crops\, orchards\, vineyards\, poultry\, or other livestock. \nThis material was produced under grant number SH-05068-SH8 from the Occupational Safety and Health Administration\, U.S. Department of Labor. It does not necessarily reflect the views or policies of the U.S. Department of Labor\, nor does mention of trade names\, commercial products\, or organizations imply endorsement by the U.S. Government. \n Watch Now
URL:https://www.agrisafe.org/event/webinar-atv-utv-safety-for-women/
CATEGORIES:Farm Machinery & Tractor Safety,Hazards,OSHA Standards
ATTACH;FMTTYPE=image/jpeg:https://www.agrisafe.org/wp-content/uploads/2022/04/Pictures-12.jpg
ORGANIZER;CN="Dan Neenan%2C MBA%2C Paramedic":MAILTO:info@agrisafe.org
END:VEVENT
BEGIN:VEVENT
DTSTART;TZID=America/Chicago:20220421T120000
DTEND;TZID=America/Chicago:20220421T133000
DTSTAMP:20260425T075528
CREATED:20220330T161721Z
LAST-MODIFIED:20220418T145415Z
UID:7679-1650542400-1650547800@www.agrisafe.org
SUMMARY:QPR for Farmers and Farm Families
DESCRIPTION:What is QPR? QPR training teaches laypeople and professionals to recognize and respond to mental health crises using the approach of Question\, Persuade and Refer. \nTo attend this training participants must be 18 years of age or older. \nIn this 1.5-hour QPR training\, we will provide:\n– Information on the unique challenges farmers face that can lead to stress\, depression\, and suicide.\n– Examples implementing each QPR component with someone at risk for suicide.\n– Information on how to help someone at risk of suicide. \nRegistration spots are limited\, so please only register if you can attend the event. No recording of this training will be available. Interested in hosting a QPR training session for your organization? Contact Olivia Bury (obury@agrisafe.org) for more information! \n Register
URL:https://www.agrisafe.org/event/webinar-qpr-for-farmers-and-farm-families-participants-must-reside-in-iowa-kansas-nebraska-pennsylvania-south-dakota-virginia-or-wyoming-2/
CATEGORIES:Cognition,Mental Health,QPR
ATTACH;FMTTYPE=image/png:https://www.agrisafe.org/wp-content/uploads/2021/09/QPR-Virtual-Training-Banner.png
END:VEVENT
BEGIN:VEVENT
DTSTART;TZID=America/Chicago:20220428T100000
DTEND;TZID=America/Chicago:20220428T113000
DTSTAMP:20260425T075528
CREATED:20220330T161833Z
LAST-MODIFIED:20220418T145436Z
UID:7681-1651140000-1651145400@www.agrisafe.org
SUMMARY:QPR for Farmers and Farm Families
DESCRIPTION:What is QPR? QPR training teaches laypeople and professionals to recognize and respond to mental health crises using the approach of Question\, Persuade and Refer. \nTo attend this training participants must be 18 years of age or older. \nIn this 1.5-hour QPR training\, we will provide:\n– Information on the unique challenges farmers face that can lead to stress\, depression\, and suicide.\n– Examples implementing each QPR component with someone at risk for suicide.\n– Information on how to help someone at risk of suicide. \nRegistration spots are limited\, so please only register if you can attend the event. No recording of this training will be available. Interested in hosting a QPR training session for your organization? Contact Olivia Bury (obury@agrisafe.org) for more information! \n Register
URL:https://www.agrisafe.org/event/webinar-qpr-for-farmers-and-farm-families-participants-must-reside-in-iowa-kansas-nebraska-pennsylvania-south-dakota-virginia-or-wyoming-3/
CATEGORIES:Cognition,Mental Health,QPR
ATTACH;FMTTYPE=image/png:https://www.agrisafe.org/wp-content/uploads/2021/09/QPR-Virtual-Training-Banner.png
ORGANIZER;CN="Amanda Stone%2C PhD":MAILTO:info@agrisafe.org
END:VEVENT
END:VCALENDAR