BEGIN:VCALENDAR
VERSION:2.0
PRODID:-//AgriSafe Network - ECPv6.15.20//NONSGML v1.0//EN
CALSCALE:GREGORIAN
METHOD:PUBLISH
X-ORIGINAL-URL:https://www.agrisafe.org
X-WR-CALDESC:Events for AgriSafe Network
REFRESH-INTERVAL;VALUE=DURATION:PT1H
X-Robots-Tag:noindex
X-PUBLISHED-TTL:PT1H
BEGIN:VTIMEZONE
TZID:America/Chicago
BEGIN:DAYLIGHT
TZOFFSETFROM:-0600
TZOFFSETTO:-0500
TZNAME:CDT
DTSTART:20200308T080000
END:DAYLIGHT
BEGIN:STANDARD
TZOFFSETFROM:-0500
TZOFFSETTO:-0600
TZNAME:CST
DTSTART:20201101T070000
END:STANDARD
BEGIN:DAYLIGHT
TZOFFSETFROM:-0600
TZOFFSETTO:-0500
TZNAME:CDT
DTSTART:20210314T080000
END:DAYLIGHT
BEGIN:STANDARD
TZOFFSETFROM:-0500
TZOFFSETTO:-0600
TZNAME:CST
DTSTART:20211107T070000
END:STANDARD
BEGIN:DAYLIGHT
TZOFFSETFROM:-0600
TZOFFSETTO:-0500
TZNAME:CDT
DTSTART:20220313T080000
END:DAYLIGHT
BEGIN:STANDARD
TZOFFSETFROM:-0500
TZOFFSETTO:-0600
TZNAME:CST
DTSTART:20221106T070000
END:STANDARD
END:VTIMEZONE
BEGIN:VEVENT
DTSTART;VALUE=DATE:20210920
DTEND;VALUE=DATE:20210926
DTSTAMP:20260423T034918
CREATED:20210702T150908Z
LAST-MODIFIED:20210929T173341Z
UID:2682-1632096000-1632614399@www.agrisafe.org
SUMMARY:National Farm Safety and Health Week
DESCRIPTION:AgriSafe will be hosting a variety of webinars during National Farm Safety and Health Week. Click on the event title for more information and to register. \n For media inquiries\, email Knesha Rose-Davison  \nMonday\, September 20th : \n\nWhat’s New in Tractor and Agricultural Vehicle Safety (The recording is now available!)\nRural Road Safety: A Shared Responsibility (The recording is now available!)\n\nTuesday\, September 21st: \n\nA Look at Stress and Mental Health During COVID-19 and the Impacts on Farmers and Other Sectors (The recording is now available\, free Continuing Education for multiple disciplines is also available!)\nFood in the Field (The recording is now available!)\n\nWednesday\, September 22nd: \n\nDeveloping and Implementing a Pilot Agricultural Community Suicide Prevention Program for Farmers and Farm Families (The recording is now available!)\nPediatric Farm-Related Injuries: Safeguarding Children Who Visit or Live on Farms (The recording is now available!)\n\nThursday\, September 23rd: \n\nAnhydrous Ammonia Safety for Farmworkers (The recording is now available!)\nBest Personal Protective Equipment (PPE) to Protect Your Lungs (The recording is now available!)\n\nFriday\, September 24th: \n\nStepping Boldly into Tough Conversations (The recording is now available\, free Continuing Education for multiple disciplines is also available!)\nZoonotic Disease and Pregnancy: A Deeper Dive (The recording is now available!)
URL:https://www.agrisafe.org/event/national-farm-safety-and-health-week/
CATEGORIES:National Farm Safety and Health Week
ATTACH;FMTTYPE=image/png:https://www.agrisafe.org/wp-content/uploads/2021/07/Screen-Shot-2021-09-29-at-12.32.40-PM.png
END:VEVENT
BEGIN:VEVENT
DTSTART;TZID=America/Chicago:20210920T120000
DTEND;TZID=America/Chicago:20210920T130000
DTSTAMP:20260423T034918
CREATED:20210825T222226Z
LAST-MODIFIED:20210921T181104Z
UID:4961-1632139200-1632142800@www.agrisafe.org
SUMMARY:NFSHW 2021: What’s New in Tractor and Agricultural Vehicle Safety
DESCRIPTION:Summary: Tractors have traditionally been a leading cause of fatal and nonfatal injuries on and around farms and ranches. Other agricultural vehicles are adding to this trend. This webinar will cover the basic hazards associated with agricultural tractors and agricultural vehicles and how to prevent injuries from these hazards. \nIntended Audience: Safety professionals\, educators\, students\, ag workers\, ag business employees\, and health care workers \nObjectives: At the end of this webinar\, participants will be able to…. \n\nParticipants will understand the hazards associated with agricultural tractors and vehicles.\nParticipants will learn ways to reduce the hazards associated with agricultural tractors and vehicles.\nParticipants will learn where to find resources for teaching and training on the topic of agricultural tractors and vehicle safety.\n\nPresenter: Aaron M. Yoder\, Ph.D.\, Associate Professor\, University of Nebraska Medical Center \n Watch the Recording Here  \n 
URL:https://www.agrisafe.org/event/nfshw-2021-whats-new-in-tractor-and-agricultural-vehicle-safety/
CATEGORIES:Farm Machinery & Tractor Safety,National Farm Safety and Health Week
ATTACH;FMTTYPE=image/png:https://www.agrisafe.org/wp-content/uploads/2021/08/NFSHW-2021-logo-.png
ORGANIZER;CN="Aaron M. Yoder%2C PhD":MAILTO:info@agrisafe.org
END:VEVENT
BEGIN:VEVENT
DTSTART;TZID=America/Chicago:20210921T140000
DTEND;TZID=America/Chicago:20210921T150000
DTSTAMP:20260423T034918
CREATED:20210825T222143Z
LAST-MODIFIED:20210922T124211Z
UID:4957-1632232800-1632236400@www.agrisafe.org
SUMMARY:NFSHW 2021: Food in the Field
DESCRIPTION:Summary: With 18+ hour workdays\, the stress of the weather\, dealing with markets and policies\, and limited nutritious\, one-handed dining options\, it is easy to put healthy eating on the back burner during the busy seasons of harvest and planting. Food in the Field is an online nutrition program seeking to nutritiously feed those who feed us in the field and everywhere in between. This webinar will cover valuable tools to help you plan ahead for the busy seasons as well as research supporting the role of nutrition in mental health and wellbeing. \nIntended Audience: Farmers and their families\, anyone interested in learning about a healthy eating pattern \nObjectives: At the end of this webinar\, participants will be able to….\n1. Identify how to implement small shifts towards a healthy eating pattern\n2. Utilize tools to create a healthy food environment at home and during the busy seasons of harvest and planting\n3. Understand the research supporting diet’s role in reducing depression symptoms \nPresenters:\n-Hannah Guenther\, Food\, Nutrition\, and Health Extension Educator\, Nebraska Extension\n-Tara Dunker\, Food\, Nutrition\, and Health Extension Educator\, Nebraska Extension \n Watch the Recording Here  \n 
URL:https://www.agrisafe.org/event/nfshw-2021-food-in-the-field/
CATEGORIES:Diet,Farmer/Worker Health,Health Education and Promotion,National Farm Safety and Health Week
ATTACH;FMTTYPE=image/png:https://www.agrisafe.org/wp-content/uploads/2021/08/NFSHW-2021-logo-.png
END:VEVENT
BEGIN:VEVENT
DTSTART;TZID=America/Chicago:20210922T120000
DTEND;TZID=America/Chicago:20210922T130000
DTSTAMP:20260423T034918
CREATED:20210825T222130Z
LAST-MODIFIED:20210922T215721Z
UID:4970-1632312000-1632315600@www.agrisafe.org
SUMMARY:NFSHW 2021: Developing and Implementing a Pilot Agricultural Community Suicide Prevention Program for Farmers and Farm Families
DESCRIPTION:Summary: This presentation describes a pilot community-based suicide prevention program. Eighteen trainers from various farmer-connected groups such as commodity groups\, equipment dealers\, farm safety trainers\, teachers\, ministers\, and rural health nurses obtained credentials as QPR (Question-Persuade-Refer) trainers. Over 450 persons were trained from these constituent groups in an 8-month period of time using training materials customized for the farming community. Using a Community of Practice framework challenges and successes in establishing mutual engagement\, joint enterprise\, a shared repertoire\, and meaning in practice. Program revisions and the next steps forward are discussed. \nIntended Audience: Agricultural Safety & Health Professionals\, Rural Community healthcare workers\, social service professionals\, Agricultural Extension \nObjectives: At the end of this webinar\, participants will be able to….\n1. Identify unique emotional stressors for farmers and farm families\n2. Understand the basic tenets and approach of the QPR Suicide Prevention Program and adaptions that are appropriate for implementation with farmers and farm families\n3. Understand useful strategies for identifying community partners to build coalitions to support farmer and farm families to access and utilize support services.\n4. Identify elements of the Community of Practice framework for application to the development of community-based farmer mental health support networks. \nPresenter: Joan Mazur\, Ph.D.\, Deputy Director\, Southeast Center for Agricultural Health & Injury Prevention\, University of KY\, College of Agriculture\, Food & Environment. \n Watch the Recording Here  \n 
URL:https://www.agrisafe.org/event/nfshw-2021-developing-and-implementing-a-pilot-agricultural-community-suicide-prevention-program-for-farmers-and-farm-families/
CATEGORIES:Mental Health,National Farm Safety and Health Week
ATTACH;FMTTYPE=image/png:https://www.agrisafe.org/wp-content/uploads/2021/08/NFSHW-2021-logo-.png
ORGANIZER;CN="Joan M. Mazur%2C PhD":MAILTO:info@agrisafe.org
END:VEVENT
BEGIN:VEVENT
DTSTART;TZID=America/Chicago:20210922T140000
DTEND;TZID=America/Chicago:20210922T150000
DTSTAMP:20260423T034918
CREATED:20210825T222016Z
LAST-MODIFIED:20210922T215754Z
UID:4974-1632319200-1632322800@www.agrisafe.org
SUMMARY:NFSHW 2021: Pediatric Farm-Related Injuries: Safeguarding Children Who Visit or Live on Farms
DESCRIPTION:Summary: Injuries are the most common cause of death for children and adolescents\, and farms and ranches present many unique hazards to youth. During this presentation\, we will discuss many of these including augers\, grain bins\, gravity boxes\, tractors\, power take-offs (PTOs)\, manure pits\, chemical exposures\, animals\, and gasoline-powered pressure sprayers. One of the most common causes of serious injuries and deaths to youth on farms and ranches are the use of off-road vehicles (ORVs) like all-terrain vehicles (ATVs)\, utility task vehicles (UTVs)\, and recreational off-highway vehicles (ROVs). The safety concerns and prevention strategies related to ORVs will be a featured segment of the presentation. A general overview of how the growth and development of youth affect the risk of injury\, and the role healthcare providers can assume to impact injury prevention will be discussed. \nIntended Audience: Anyone working with youth in agriculture\, and rural healthcare providers \nObjectives: At the end of this webinar\, participants will be able to…\n1. Name at least four specific safety hazards on farms and express how one might counsel families to prevent injuries from those hazards.\n2. Describe what a PTO is and how one avoids injuries associated with them.\n3. State at least two ways to prevent injury when operating tractors.\n4. Convey how one would attempt the rescue of someone caught in a grain bin\, or manage an extremity caught in an auger.\n5. Explain at least three reasons why off-road vehicles like all-terrain vehicles and utility task vehicles are not designed to be used on roads. \nPresenter: Charles Jennissen\, MD\, Clinical Professor\, University of Iowa Carver College of Medicine \n Watch the Recording Here  \n 
URL:https://www.agrisafe.org/event/nfshw-2021-pediatric-farm-related-injuries-safeguarding-children-who-visit-or-live-on-farms/
CATEGORIES:Health Education and Promotion,National Farm Safety and Health Week,Youth Safety and Health
ATTACH;FMTTYPE=image/png:https://www.agrisafe.org/wp-content/uploads/2021/08/NFSHW-2021-logo-.png
END:VEVENT
BEGIN:VEVENT
DTSTART;TZID=America/Chicago:20210923T120000
DTEND;TZID=America/Chicago:20210923T130000
DTSTAMP:20260423T034918
CREATED:20210825T222108Z
LAST-MODIFIED:20220119T230336Z
UID:4940-1632398400-1632402000@www.agrisafe.org
SUMMARY:NFSHW 2021: Anhydrous Ammonia Safety for Farmworkers
DESCRIPTION:Summary: Anhydrous ammonia (NH3) is an effective nitrogen crop fertilizer used throughout the Midwest and beyond.  Anhydrous ammonia is potentially dangerous\, as it seeks water from the nearest source\, which may be the human body – especially the eyes\, lungs\, and skin because of their high moisture content.  Few problems occur when anhydrous ammonia is handled properly and applied as intended.  However\, it is important for all individuals working with this type of fertilizer to understand the potential health risks\, necessary safety precautions\, and proper response in the event of exposure. \nPersonal protective equipment (PPE) is one of the last lines of defense for workers against Anhydrous Ammonia injuries. Women in all industries\, including agriculture\, have trouble finding and purchasing respiratory protective equipment that fits and is safe/comfortable to wear. The National Safety Council\, in a 2019 publication of Safety and Health\, reported OSHA documentation indicating the lack of a full range of PPE\, as well as\, employers’ limited knowledge of PPE designed for women – as some of the reasons for the difficulty.  The focus of the training is on anhydrous ammonia safety during transport and application\, including the anatomy of the nurse tank and toolbar\, safety inspection processes\, hitching\, and unhitching safety\, personal protective equipment (PPE)\, rural roadway safety\, and first aid/emergency procedures.  Hazard communication and emergency action plans will also be addressed. \nIntended Audience: Farm/Ranch owners and operators\, health and safety professionals\, safety officers or specialists\, managers\, supervisors\, safety coordinators\, health safety and environmental interns\, and any person or persons who serve as safety personnel in an agricultural setting. \nObjectives: At the end of this webinar\, participants will be able to…\n1. Choose appropriate personal protective equipment (PPE)\n2. Make use of a safety inspection process\n3. Describe safety measures to follow during anhydrous transport and application\n4. Plan and utilize basic first aid/emergency procedures \nPresenter: Dan Neenan\, MBA\, Paramedic\, Manager\, National Education Center for Agricultural Safety (NECAS) \n Watch the Recording Here  \nThis material was produced under grant number SH-99084-SH0 from the Occupational Safety and Health Administration\, U.S. Department of Labor. It does not necessarily reflect the views or policies of the U.S. Department of Labor\, nor does mention of trade names\, commercial products\, or organizations imply endorsement by the U.S. Government.
URL:https://www.agrisafe.org/event/nfshw-2021-anhydrous-ammonia-safety-for-farmworkers/
CATEGORIES:Hazards,National Farm Safety and Health Week,OSHA Standards,Personal Protective Equipment,Pesticide & Chemical Safety
ATTACH;FMTTYPE=image/png:https://www.agrisafe.org/wp-content/uploads/2021/08/NFSHW-2021-logo-.png
ORGANIZER;CN="Dan Neenan%2C MBA%2C Paramedic":MAILTO:info@agrisafe.org
END:VEVENT
BEGIN:VEVENT
DTSTART;TZID=America/Chicago:20210923T140000
DTEND;TZID=America/Chicago:20210923T150000
DTSTAMP:20260423T034918
CREATED:20210825T222055Z
LAST-MODIFIED:20240724T135146Z
UID:4934-1632405600-1632409200@www.agrisafe.org
SUMMARY:NFSHW 2021: Best Personal Protective Equipment (PPE) to Protect Your Lungs
DESCRIPTION:Summary: Respiratory protection strategies for women working in agriculture can be a challenge. Purchasing respiratory protective equipment and achieving proper fit is often difficult. This one-hour webinar program will address dangerous exposures in agricultural work and the importance of respiratory protective equipment for women. It will include training tips and evidence-based resources for use in clinical practice and worker education \nIntended Audience: The primary audience for this program will be rural health care providers\, educators\, and agribusiness safety managers \nObjectives: At the end of this webinar\, participants will be able to: \n\nList at least three sources of common agricultural respiratory hazards.\nIdentify appropriate respiratory protection equipment for women working in agriculture.\nAccess a minimum of three evidence-based resources for use in respiratory health and safety education for women working in agricultural environments.\n\nPresenter: Charlotte Halverson\, RN\, BSN\, COHN-S\, Clinical Director\, AgriSafe Network \n Watch the Recording Here \nThis material was produced under grant number SH-05172-SH9 from the Occupational Safety and Health Administration\, U.S. Department of Labor. It does not necessarily reflect the views or policies of the U.S. Department of Labor\, nor does mention of trade names\, commercial products\, or organizations imply endorsement by the U.S. Government.
URL:https://www.agrisafe.org/event/nfshw-2021-best-personal-protective-equipment-ppe-to-protect-your-lungs/
CATEGORIES:Hazards,National Farm Safety and Health Week,OSHA Standards,Personal Protective Equipment,Respiratory Health,Social,Women's Health
ORGANIZER;CN="Charlotte Halverson%2C RN%2C BSN%2C COHN-S":MAILTO:info@agrisafe.org
END:VEVENT
BEGIN:VEVENT
DTSTART;TZID=America/Chicago:20210924T120000
DTEND;TZID=America/Chicago:20210924T130000
DTSTAMP:20260423T034918
CREATED:20210825T222044Z
LAST-MODIFIED:20240425T172742Z
UID:4978-1632484800-1632488400@www.agrisafe.org
SUMMARY:NFSHW 2021: Stepping Boldly into Tough Conversations
DESCRIPTION:Summary: Difficult conversations are something that people rarely look forward to. The reality is ignoring a situation and hoping that it will resolve itself\, rarely works. Join us on September 24th to learn how to confidently step into a tough conversation and promote open communication. \nIntended Audience: Anyone who wants to be more effective when faced with a tough conversation. \nObjectives: At the end of the webinar\, participants will be able to…\n1. Identify talking points before you start talking.\n2. Create a communication safe zone.\n3. Establish agreements and accountability. \nPresenter: Rena Striegel\, MBA\, President\, Transition Point Business Advisors \nContinuing Education is available for this webinar! The Midwest Center for Occupational Health and Safety offers 0.1 CEU or 1.0 contact hours of participation. This course is eligible for 1.0 CPH Recertification Credits and is sponsored by the University of Minnesota School of Public Health\, an approved provider of CPH Recertification Credits by the National Board of Public Health Examiners. The following groups of professionals have been able to use these CEUs in the past; Industrial Hygiene (CIH)\, Certified Public Health Professional (CPH)\, Certified Safety Professional (CSP)\, Nursing (RN\, LPN)\, Social Work (LSW)\, Occupational Therapy (OT)\, Physical Therapy (PT)\, Audiology (ABA)\, and others. Please contact your accrediting agency regarding any questions about receiving credits. \n Watch the Recording Here  \n 
URL:https://www.agrisafe.org/event/nfshw-2021-stepping-boldly-into-tough-conversations/
CATEGORIES:Mental Health,National Farm Safety and Health Week,Social,Women's Health
ATTACH;FMTTYPE=image/png:https://www.agrisafe.org/wp-content/uploads/2021/08/NFSHW-2021-logo-.png
END:VEVENT
BEGIN:VEVENT
DTSTART;TZID=America/Chicago:20210924T140000
DTEND;TZID=America/Chicago:20210924T150000
DTSTAMP:20260423T034918
CREATED:20210825T221944Z
LAST-MODIFIED:20211117T204359Z
UID:4944-1632492000-1632495600@www.agrisafe.org
SUMMARY:NFSHW 2021: Zoonotic Disease and Pregnancy: A Deeper Dive
DESCRIPTION:Summary: Zoonotic Diseases are transmitted between farm animals and humans and can pose additional risks to those who are pregnant. Farmers and farmworkers have higher levels of risk for contracting zoonotic diseases because of the frequency of their exposure to animals. Understanding how the disease transmission process works\, building a team\, and effectively communicating within that team is essential in preventing the spread of zoonotic disease. Women working in agriculture should be aware of the following special considerations during pregnancy\, which animals are common carriers of zoonotic disease\, symptoms of the disease(s)\, prevention measures\, and pregnancy risks. \nIntended Audience: Supervisor or Managers: This training is intended primarily for health and safety professionals including but not limited to owner/operators\, safety officers or specialists\, managers\, supervisors\, safety coordinators\, health safety and environmental interns\, and any person or persons who serve as safety personnel in an agricultural setting. \nObjectives: At the end of this webinar\, participants will be able to…\n1. Define zoonotic disease and identify various modes of transmission\n2. Identify a minimum of four significant zoonotic diseases affecting the production agricultural population\n3. Discuss warning signs and symptoms of major zoonotic diseases which have adverse effects on reproductive health\n4. Locate a minimum of three recommended educational resources for use in training an agricultural workforce \nPresenter: Knesha Rose-Davison\, MPH\, Public Health Program Director\, AgriSafe Network \n Watch the Recording Here \n  \nThis material was produced under grant number SH-05068-SH8 from the Occupational Safety and Health Administration\, U.S. Department of Labor. It does not necessarily reflect the views or policies of the U.S. Department of Labor\, nor does mention of trade names\, commercial products\, or organizations imply endorsement by the U.S. Government.
URL:https://www.agrisafe.org/event/nfshw-2021-zoonotic-disease-and-pregnancy-a-deeper-dive/
CATEGORIES:Farmer/Worker Health,Hazards,Mental Health,National Farm Safety and Health Week,OSHA Standards,Pesticide & Chemical Safety,Women's Health,Zoonotic Diseases
ATTACH;FMTTYPE=image/png:https://www.agrisafe.org/wp-content/uploads/2021/08/NFSHW-2021-logo-.png
ORGANIZER;CN="Knesha Rose-Davison%2C MPH%2C CPH":MAILTO:info@agrisafe.org
END:VEVENT
BEGIN:VEVENT
DTSTART;TZID=America/Chicago:20210929T120000
DTEND;TZID=America/Chicago:20210929T133000
DTSTAMP:20260423T034918
CREATED:20210912T154331Z
LAST-MODIFIED:20210916T142131Z
UID:5129-1632916800-1632922200@www.agrisafe.org
SUMMARY:QPR
DESCRIPTION:Over the last decade\, farmers and farm families have experienced increasing pressures resulting in high levels of stress\, mental health\, and suicide. QPR training teaches laypeople and professionals to recognize and respond to mental health crises using the approach of Question\, Persuade\, and Refer. In this 1.5 hour QPR training we will provide: \n\nInformation on the unique challenges farmers face that can lead to stress\, depression\, and suicide.\nExamples implementing each QPR component with someone at risk for suicide.\nInformation on how to help someone at risk of suicide.\n\nThis training is not recorded\, so it must be watched live. \n Register
URL:https://www.agrisafe.org/event/qpr-2/
CATEGORIES:Cognition,Mental Health,QPR
ORGANIZER;CN="Linda Emanuel%2C BSN%2C RN":MAILTO:info@agrisafe.org
END:VEVENT
END:VCALENDAR