BEGIN:VCALENDAR
VERSION:2.0
PRODID:-//AgriSafe Network - ECPv6.15.20//NONSGML v1.0//EN
CALSCALE:GREGORIAN
METHOD:PUBLISH
X-WR-CALNAME:AgriSafe Network
X-ORIGINAL-URL:https://www.agrisafe.org
X-WR-CALDESC:Events for AgriSafe Network
REFRESH-INTERVAL;VALUE=DURATION:PT1H
X-Robots-Tag:noindex
X-PUBLISHED-TTL:PT1H
BEGIN:VTIMEZONE
TZID:America/Chicago
BEGIN:DAYLIGHT
TZOFFSETFROM:-0600
TZOFFSETTO:-0500
TZNAME:CDT
DTSTART:20200308T080000
END:DAYLIGHT
BEGIN:STANDARD
TZOFFSETFROM:-0500
TZOFFSETTO:-0600
TZNAME:CST
DTSTART:20201101T070000
END:STANDARD
BEGIN:DAYLIGHT
TZOFFSETFROM:-0600
TZOFFSETTO:-0500
TZNAME:CDT
DTSTART:20210314T080000
END:DAYLIGHT
BEGIN:STANDARD
TZOFFSETFROM:-0500
TZOFFSETTO:-0600
TZNAME:CST
DTSTART:20211107T070000
END:STANDARD
BEGIN:DAYLIGHT
TZOFFSETFROM:-0600
TZOFFSETTO:-0500
TZNAME:CDT
DTSTART:20220313T080000
END:DAYLIGHT
BEGIN:STANDARD
TZOFFSETFROM:-0500
TZOFFSETTO:-0600
TZNAME:CST
DTSTART:20221106T070000
END:STANDARD
END:VTIMEZONE
BEGIN:VEVENT
DTSTART;TZID=America/Chicago:20210219T120000
DTEND;TZID=America/Chicago:20210219T130000
DTSTAMP:20260422T115057
CREATED:20210713T012756Z
LAST-MODIFIED:20210713T012803Z
UID:2232-1613736000-1613739600@www.agrisafe.org
SUMMARY:Tools for Healthcare Professionals Working in Agricultural Communities
DESCRIPTION:Summary: In this webinar\, attendees will learn about tools they can make use to enhance healthcare services for their farming and ranching patients. Alex Cavanaugh from the Rural Health Information Hub (RHIhub) will provide a general overview of services including: Rural Response Issue Guides for COVID-19\, Farmer Mental Health and Suicide Prevention resources\, and the Agricultural Health and Safety Topic Guide. Sarah Dauterive of AgriSafe Network will introduce MedlinePlus and its uses for healthcare professionals. \nObjectives: At the conclusion of the program\, participants will be able to… \n\nRecognize RHIhub as a resource for understanding rural health and Ag issues\nNavigate the RHIhub for specific materials to respond to rural health needs\nIncrease understanding of MedlinePlus features and how to use them\n\nIntended Audience: Healthcare Professionals working with farmers and ranchers \n  \n\n\nRegistration Instructions: \n\n\n\nIf you don’t already have a profile with AgriSafe\, please set up a free account. This free account allows you access to our many training opportunities. Once you have signed up\, you can watch this webinar on-demand. \n\n\n  \n Watch this webinar on-demand.
URL:https://www.agrisafe.org/event/tools-for-healthcare-professionals-working-in-agricultural-communities/
CATEGORIES:Farmer/Worker Health,Health Education and Promotion,Healthcare
END:VEVENT
BEGIN:VEVENT
DTSTART;TZID=America/Chicago:20210225T120000
DTEND;TZID=America/Chicago:20210225T130000
DTSTAMP:20260422T115057
CREATED:20210713T003928Z
LAST-MODIFIED:20240424T160000Z
UID:2268-1614254400-1614258000@www.agrisafe.org
SUMMARY:Talking to Farmers About Pain
DESCRIPTION:The occupational hazards that farmers face put them at greater risk for acute and chronic pain as a result of ergonomic repetition\, accident\, or surgical procedure. Addressing specific occupational sources of pain and what activities the pain inhibits are crucial to improving treatment. This module will focus on how to transform the conversation between provider and patient to improve health outcomes and patient satisfaction. \nAt the end of the presentation\, participants will be able to: \n1.  Understand the prevalence of occupational hazards amongst farming occupations.\n2.  Recognize occupational implications as they relate to acute and chronic pain.\n3.  Gain strategies to improve provider-patient conversations about occupational farmer pain.\n4.  Identify patient resources to aid in facilitating candid discussion about pain. \n  \n\n\nRegistration Instructions: \n\n\n\nIf you don’t already have a profile with AgriSafe\, please set up a free account. This free account allows you access to our many training opportunities. Once you have signed up\, you can watch this webinar on-demand. \n\n \n  \n Watch this webinar on-demand.
URL:https://www.agrisafe.org/event/talking-to-farmers-about-pain/
CATEGORIES:Cognition,Farmer/Worker Health,Mental Health,Musculoskeletal,Opioids
ORGANIZER;CN="Tara Haskins%2C DNP%2C MSN%2C RN%2C AHN-BC":MAILTO:info@agrisafe.org
END:VEVENT
END:VCALENDAR