BEGIN:VCALENDAR
VERSION:2.0
PRODID:-//AgriSafe Network - ECPv6.15.20//NONSGML v1.0//EN
CALSCALE:GREGORIAN
METHOD:PUBLISH
X-WR-CALNAME:AgriSafe Network
X-ORIGINAL-URL:https://www.agrisafe.org
X-WR-CALDESC:Events for AgriSafe Network
REFRESH-INTERVAL;VALUE=DURATION:PT1H
X-Robots-Tag:noindex
X-PUBLISHED-TTL:PT1H
BEGIN:VTIMEZONE
TZID:America/Chicago
BEGIN:DAYLIGHT
TZOFFSETFROM:-0600
TZOFFSETTO:-0500
TZNAME:CDT
DTSTART:20190310T080000
END:DAYLIGHT
BEGIN:STANDARD
TZOFFSETFROM:-0500
TZOFFSETTO:-0600
TZNAME:CST
DTSTART:20191103T070000
END:STANDARD
BEGIN:DAYLIGHT
TZOFFSETFROM:-0600
TZOFFSETTO:-0500
TZNAME:CDT
DTSTART:20200308T080000
END:DAYLIGHT
BEGIN:STANDARD
TZOFFSETFROM:-0500
TZOFFSETTO:-0600
TZNAME:CST
DTSTART:20201101T070000
END:STANDARD
BEGIN:DAYLIGHT
TZOFFSETFROM:-0600
TZOFFSETTO:-0500
TZNAME:CDT
DTSTART:20210314T080000
END:DAYLIGHT
BEGIN:STANDARD
TZOFFSETFROM:-0500
TZOFFSETTO:-0600
TZNAME:CST
DTSTART:20211107T070000
END:STANDARD
END:VTIMEZONE
BEGIN:VEVENT
DTSTART;TZID=America/Chicago:20201201T120000
DTEND;TZID=America/Chicago:20201201T130000
DTSTAMP:20260421T140906
CREATED:20210713T011733Z
LAST-MODIFIED:20210726T170909Z
UID:2286-1606824000-1606827600@www.agrisafe.org
SUMMARY:Ergonomic Safety for Farm Women
DESCRIPTION:It is no secret – women are playing an increased role in production agriculture. They account for about one-third of the management\, ownership and work on farms\, ranches and in crop production. A major challenge continues to be access to protective equipment that meets the ergonomic needs of women. This program is intended to help women in rural/agricultural communities identify ergonomic issues leading to musculoskeletal injuries in farm and ranch work and discover resources to aid in injury prevention. \nAt the end of the presentation\, participants will be able to: \n1. Identify work site hazards and potential musculoskeletal injuries. \n2. Identify wellness initiatives aimed at reducing risks related to musculoskeletal injuries. \n3. Locate three current evidenced based resources in the field of agricultural health and safety that address ergonomic safety. \n4. Utilize the individual AgHRA to look at current exposures and preventive methods for daily farm tasks. \n  \n\n\nRegistration Instructions: \n\n\n\nIf you don’t already have a profile with AgriSafe\, please set up a free account. This free account allows you access to our many training opportunities. Once you have signed up\, you can watch this webinar on-demand. \n\n\n  \n Watch this webinar on-demand.
URL:https://www.agrisafe.org/event/ergonomic-safety-for-farm-women/
CATEGORIES:Farmer/Worker Health,Fitness,Musculoskeletal,OSHA Standards,Women's Health
ORGANIZER;CN="Charlotte Halverson%2C RN%2C BSN%2C COHN-S":MAILTO:info@agrisafe.org
END:VEVENT
BEGIN:VEVENT
DTSTART;TZID=America/Chicago:20201202T120000
DTEND;TZID=America/Chicago:20201202T130000
DTSTAMP:20260421T140906
CREATED:20210713T005142Z
LAST-MODIFIED:20210713T005142Z
UID:2230-1606910400-1606914000@www.agrisafe.org
SUMMARY:Farm Theater: A Unique Approach to Health and Safety
DESCRIPTION:Summary: Farm Dinner Theater is an award winning intervention that is changing the actions of farm families for their health and safety. Based on a four year NIOSH research project\, Dr. Reed will walk the audience through the development\, history\, evaluation and evolution of the Farm Dinner Theater. Since the research project ended communities have used the free toolkit to guide them in hosting their own theaters. \nIntended audience: Anyone working in service to farm populations or other community groups. \nObjectives: At the end of this webinar participants will be able to- \n\nDescribe the history and concepts of didactic readers’ theater\nApply theater to their specific audience\nApply techniques for engaging community to support the theater\n\n  \n\n\nRegistration Instructions: \n\n\n\nIf you don’t already have a profile with AgriSafe\, please set up a free account. This free account allows you access to our many training opportunities. Once you have signed up\, you can watch this webinar on-demand. \n\n \n  \n Watch this webinar on-demand.
URL:https://www.agrisafe.org/event/farm-theater-a-unique-approach-to-health-and-safety/
CATEGORIES:Cognition,Mental Health
ORGANIZER;CN="Deborah B. Reed%2C MSPH%2C PhD%2C RN%2C FAAOHN%2C FAAN":MAILTO:info@agrisafe.org
END:VEVENT
BEGIN:VEVENT
DTSTART;TZID=America/Chicago:20201210T120000
DTEND;TZID=America/Chicago:20201210T130000
DTSTAMP:20260421T140906
CREATED:20210713T013609Z
LAST-MODIFIED:20210713T013618Z
UID:2283-1607601600-1607605200@www.agrisafe.org
SUMMARY:Discovering the Root of your Back Story – Prevention and Understanding of Back Injuries
DESCRIPTION:Back injuries are one of the most common forms of farm-related injuries\, so protecting the back is one of the most important things a producer can do to stay active on the farm. Men and women are both prone to work-related back pain and the first episode usually occurs between the ages of 20 and 40. Training will focus on effects of whole body vibration\, causes of back injuries/pain\, how to prevent back injuries/pain\, and other considerations. \nIntended Audience: This training is intended primarily for health and safety professionals including but not limited to owner/operators\, safety officers or specialists\, managers\, supervisors\, safety coordinators\, health safety and environmental interns and any person or persons who serve as safety personnel in an agricultural setting. \nObjectives: \nUpon completion of this training\, participants will be able to: \n\nIdentify causes of back injuries/pain\nExplain and utilize strategies to prevent back injuries/pain\nDescribe and utilize proper lifting techniques\nDescribe effects of whole body vibration (WBV)\nApply strategies for maintaining back health\nRecall ways to manage chronic pain\n\n\n\nRegistration Instructions: \n\n\n\nIf you don’t already have a profile with AgriSafe\, please set up a free account. This free account allows you access to our many training opportunities. Once you have signed up\, you can watch this webinar on-demand. \n\n \n  \n Watch this webinar on-demand.
URL:https://www.agrisafe.org/event/discovering-the-root-of-your-back-story-prevention-and-understanding-of-back-injuries/
CATEGORIES:Fitness,Musculoskeletal,OSHA Standards
ORGANIZER;CN="Dan Neenan%2C MBA%2C Paramedic":MAILTO:info@agrisafe.org
END:VEVENT
BEGIN:VEVENT
DTSTART;TZID=America/Chicago:20201216T120000
DTEND;TZID=America/Chicago:20201216T130000
DTSTAMP:20260421T140906
CREATED:20210629T221332Z
LAST-MODIFIED:20240719T194451Z
UID:2080-1608120000-1608123600@www.agrisafe.org
SUMMARY:Reducing the Risk of Adverse Pregnancy Outcomes and Perinatal Illness for Female Agricultural Producers
DESCRIPTION:Pregnancy and fertility are often not considered when women assume farm tasks. Pesticide and other chemical exposures\, zoonotic diseases and heavy lifting particularly during childbearing years\, present challenges. \nAt the end of the presentation\, participants will be able to: \n\nIdentify unique exposures/risks associated with farm tasks.\nIdentify at least four reproductive health and safety issues for women.\nLocate three current evidenced based resources in the field of agricultural health\nDevelop Hazard Map of work exposures.\nSelect appropriate PPE for farm tasks to reduce or eliminate exposures and or risks.\n\nIntended Audience: \nSupervisor or Managers: This training is intended primarily for health and safety professionals including but not limited to owner/operators\, safety officers or specialists\, managers\, supervisors\, safety coordinators\, health safety and environmental interns and any person or persons who serve as safety personnel in an agricultural setting. \nProducers: This training is intended primarily for agricultural producers including but not limited to farmers\, ranchers\, and any person or persons involved in some combination of raising field crops\, orchards\, vineyards\, horticulture\, or other livestock. \n\n\nRegistration Instructions: \n\n\n\nIf you don’t already have a profile with AgriSafe\, please set up a free account. This free account allows you access to our many training opportunities. Once you have signed up\, you can watch this webinar on-demand. \n\n \n  \n Watch this webinar on-demand.
URL:https://www.agrisafe.org/event/reducing-the-risk/
CATEGORIES:Farmer/Worker Health,Mental Health,OSHA Standards,Pesticide & Chemical Safety,Women's Health,Zoonotic Diseases
ORGANIZER;CN="Knesha Rose-Davison%2C MPH%2C CPH":MAILTO:info@agrisafe.org
END:VEVENT
END:VCALENDAR