BEGIN:VCALENDAR
VERSION:2.0
PRODID:-//AgriSafe Network - ECPv6.15.20//NONSGML v1.0//EN
CALSCALE:GREGORIAN
METHOD:PUBLISH
X-ORIGINAL-URL:https://www.agrisafe.org
X-WR-CALDESC:Events for AgriSafe Network
REFRESH-INTERVAL;VALUE=DURATION:PT1H
X-Robots-Tag:noindex
X-PUBLISHED-TTL:PT1H
BEGIN:VTIMEZONE
TZID:America/Chicago
BEGIN:DAYLIGHT
TZOFFSETFROM:-0600
TZOFFSETTO:-0500
TZNAME:CDT
DTSTART:20190310T080000
END:DAYLIGHT
BEGIN:STANDARD
TZOFFSETFROM:-0500
TZOFFSETTO:-0600
TZNAME:CST
DTSTART:20191103T070000
END:STANDARD
BEGIN:DAYLIGHT
TZOFFSETFROM:-0600
TZOFFSETTO:-0500
TZNAME:CDT
DTSTART:20200308T080000
END:DAYLIGHT
BEGIN:STANDARD
TZOFFSETFROM:-0500
TZOFFSETTO:-0600
TZNAME:CST
DTSTART:20201101T070000
END:STANDARD
BEGIN:DAYLIGHT
TZOFFSETFROM:-0600
TZOFFSETTO:-0500
TZNAME:CDT
DTSTART:20210314T080000
END:DAYLIGHT
BEGIN:STANDARD
TZOFFSETFROM:-0500
TZOFFSETTO:-0600
TZNAME:CST
DTSTART:20211107T070000
END:STANDARD
END:VTIMEZONE
BEGIN:VEVENT
DTSTART;TZID=America/Chicago:20200601T120000
DTEND;TZID=America/Chicago:20200601T130000
DTSTAMP:20260421T035237
CREATED:20210713T013003Z
LAST-MODIFIED:20210713T013003Z
UID:2261-1591012800-1591016400@www.agrisafe.org
SUMMARY:Sleepless in America
DESCRIPTION:Summary: The U.S. Center for Disease Control and Prevention now identifies sleep deficiency as a public health problem.  Sleep affects every moment of our daily lives\, from how we think and remember to how our bodies thrive or deteriorate. It determines how we deal with stress\, make choices related to safety\, and function as human beings. While most health education tends to focus on nutrition and activity\, sleep is arguably the single most important factor in maintaining a healthy lifestyle\, and lack of it causes a significantly reduced quality of life.  This presenter proposes that we prioritize sleep and improve daily sleep hygiene to enhance every facet of our well-being. \nIntended audience: All adults can benefit \nObjectives: \n\nParticipants will discover surprising functions of sleep and how lack of it affects the mind and body\nParticipants will learn daily habits that interfere with a good night of sleep\nParticipants will learn 30 sleep tips and tricks to customize a plan that impacts overall well-being.\n\n  \n\n\nRegistration Instructions: \n\n\n\nIf you don’t already have a profile with AgriSafe\, please set up a free account. This free account allows you access to our many training opportunities. Once you have signed up\, you can watch this webinar on-demand. \n\n\n  \n Watch this webinar on-demand.
URL:https://www.agrisafe.org/event/sleepless-in-america/
CATEGORIES:Farmer/Worker Health,Health Education and Promotion,Mental Health,Sleep,Veteran’s Health
ORGANIZER;CN="Susan Harris":MAILTO:info@agrisafe.org
END:VEVENT
BEGIN:VEVENT
DTSTART;TZID=America/Chicago:20200610T120000
DTEND;TZID=America/Chicago:20200610T130000
DTSTAMP:20260421T035237
CREATED:20210713T020022Z
LAST-MODIFIED:20220303T150043Z
UID:2281-1591790400-1591794000@www.agrisafe.org
SUMMARY:Eliminating Workplace Violence in the Field for Employers
DESCRIPTION:Thirty-six percent of the 3.4 million producers counted in the census are women. Education will focus on all women including farmworker women and their employers on reporting violent incidents to authorities\, making employees aware of their legal rights\, safe work practices\, medical referrals\, treatment\, and options including counseling if needed. \nIntended Audience: This training is intended primarily for health and safety professionals including but not limited to owner/operators\, safety officers or specialists\, managers\, supervisors\, safety coordinators\,  health safety and environmental interns and any person or persons who serve as safety personnel in an agricultural setting. \nObjectives Upon completion of this webinar\, participants will understand the following concepts: \n1. The scope and nature of workplace violence occurring in agriculture today. \n2. Employers’ responsibilities in addressing workplace violence and implementing preventive measures. \n3. Effective strategies and interventions that can make the workplace safer and more responsive to employee-victims. \n This training has expired. Let us know if you’d like us to schedule it again! \n\n\n                \n                        \n                            Repeat This Webinar\n                             \n                        \n                        X/TwitterThis field is for validation purposes and should be left unchanged.Title of Webinar(Required)Would you like to be contacted if we are able to schedule this webinar again?(Required)\n			\n					\n					Yes\n			\n			\n					\n					No\n			Email
URL:https://www.agrisafe.org/event/eliminating-workplace-violence-in-the-field-for-employers/
CATEGORIES:OSHA Standards,Social,Women's Health
ORGANIZER;CN="Knesha Rose-Davison%2C MPH%2C CPH":MAILTO:info@agrisafe.org
END:VEVENT
BEGIN:VEVENT
DTSTART;TZID=America/Chicago:20200617T120000
DTEND;TZID=America/Chicago:20200617T130000
DTSTAMP:20260421T035237
CREATED:20210713T015019Z
LAST-MODIFIED:20220303T150339Z
UID:2235-1592395200-1592398800@www.agrisafe.org
SUMMARY:Hazard Communications Standards
DESCRIPTION:This Hazard Communication Standard training program is intended for female workers and managers in the agricultural industry. This includes dairy farms and small farms that hire at-risk populations. The major focus of the program is on the identification of and the safe usage of chemicals and pesticides\, along with respiratory protection. \nAt the conclusion of the training\, participants will be able to: \n\nDescribe the purpose of OSHA’s Hazard Communication Standard (HCS)\nExplain the basic requirements of the Hazard Communication Standard\nDifferentiate between physical and health hazards of agricultural chemicals\nRecall the requirements of a written hazard communication program\nList the components of a hazard communication training program\nInterpret the information contained in Safety Data Sheets (SDS)\nDescribe the requirements and purpose of hazard warning labels.\n\nIntended Audience: \nSupervisor or Managers: This training is intended primarily for health and safety professionals including but not limited to owner/operators\, safety officers or specialists\, managers\, supervisors\, safety coordinators\, health safety and environmental interns and any person or persons who serve as safety personnel in an agricultural setting. \nProducers: This training is intended primarily for agricultural producers including but not limited to farmers\, ranchers\, and any person or persons involved in some combination of raising field crops\, orchards\, vineyards\, horticulture\, or other livestock. \n This training has expired. Let us know if you’d like us to schedule it again! \n\n                \n                        \n                            Repeat This Webinar\n                             \n                        \n                        LinkedInThis field is for validation purposes and should be left unchanged.Title of Webinar(Required)Would you like to be contacted if we are able to schedule this webinar again?(Required)\n			\n					\n					Yes\n			\n			\n					\n					No\n			Email
URL:https://www.agrisafe.org/event/hazard-communications-standards/
CATEGORIES:Hazards,OSHA Standards,Personal Protective Equipment,Pesticide & Chemical Safety
ORGANIZER;CN="Dan Neenan%2C MBA%2C Paramedic":MAILTO:info@agrisafe.org
END:VEVENT
BEGIN:VEVENT
DTSTART;TZID=America/Chicago:20200624T120000
DTEND;TZID=America/Chicago:20200624T130000
DTSTAMP:20260421T035237
CREATED:20210713T012041Z
LAST-MODIFIED:20240719T150824Z
UID:2278-1593000000-1593003600@www.agrisafe.org
SUMMARY:Respiratory Fit Testing in Agricultural Communities
DESCRIPTION:Summary\nRespiratory PPE fit testing helps assure the best protection against dangerous airborne particles. Agricultural workers face a myriad of challenges in obtaining a proper fit test and who can provide this service. Additionally\, there are gray areas of misunderstanding about the fit testing mandates in certain agricultural populations. \nIntended Audience:  Agricultural workers\, including women in agriculture; managers and owners of agricultural businesses; educational and healthcare organizations serving an agricultural population. \nObjectives\nUpon completion of this webinar\, participants in this webinar will: \n\nunderstand the difference between a respirator fit test and a fit check (seal check) procedure\ndetermine who should be fit tested for respiratory personal protective equipment (PPE)\nknow who can perform a fit test what tools are necessary for a fit test procedure\nlocate current reliable resources that provide information on respiratory fit testing\n\n  \n\n\nRegistration Instructions: \n\n\n\nIf you don’t already have a profile with AgriSafe\, please set up a free account. This free account allows you access to our many training opportunities. Once you have signed up\, you can watch this webinar on-demand. \n\n \n  \n Watch this webinar on-demand.
URL:https://www.agrisafe.org/event/respiratory-fit-testing-in-agricultural-communities/
CATEGORIES:Farmer/Worker Health,Hazards,Health Education and Promotion,OSHA Standards,Personal Protective Equipment,Respiratory Health
ORGANIZER;CN="Charlotte Halverson%2C RN%2C BSN%2C COHN-S":MAILTO:info@agrisafe.org
END:VEVENT
END:VCALENDAR