BEGIN:VCALENDAR
VERSION:2.0
PRODID:-//AgriSafe Network - ECPv6.15.20//NONSGML v1.0//EN
CALSCALE:GREGORIAN
METHOD:PUBLISH
X-WR-CALNAME:AgriSafe Network
X-ORIGINAL-URL:https://www.agrisafe.org
X-WR-CALDESC:Events for AgriSafe Network
REFRESH-INTERVAL;VALUE=DURATION:PT1H
X-Robots-Tag:noindex
X-PUBLISHED-TTL:PT1H
BEGIN:VTIMEZONE
TZID:America/Chicago
BEGIN:DAYLIGHT
TZOFFSETFROM:-0600
TZOFFSETTO:-0500
TZNAME:CDT
DTSTART:20190310T080000
END:DAYLIGHT
BEGIN:STANDARD
TZOFFSETFROM:-0500
TZOFFSETTO:-0600
TZNAME:CST
DTSTART:20191103T070000
END:STANDARD
BEGIN:DAYLIGHT
TZOFFSETFROM:-0600
TZOFFSETTO:-0500
TZNAME:CDT
DTSTART:20200308T080000
END:DAYLIGHT
BEGIN:STANDARD
TZOFFSETFROM:-0500
TZOFFSETTO:-0600
TZNAME:CST
DTSTART:20201101T070000
END:STANDARD
BEGIN:DAYLIGHT
TZOFFSETFROM:-0600
TZOFFSETTO:-0500
TZNAME:CDT
DTSTART:20210314T080000
END:DAYLIGHT
BEGIN:STANDARD
TZOFFSETFROM:-0500
TZOFFSETTO:-0600
TZNAME:CST
DTSTART:20211107T070000
END:STANDARD
END:VTIMEZONE
BEGIN:VEVENT
DTSTART;TZID=America/Chicago:20200518T120000
DTEND;TZID=America/Chicago:20200518T130000
DTSTAMP:20260421T020903
CREATED:20210713T004611Z
LAST-MODIFIED:20240709T162529Z
UID:2256-1589803200-1589806800@www.agrisafe.org
SUMMARY:Stress and Dairy Farming: Challenging Times in the Dairy Industry Pave the Way for Mental Health Struggles
DESCRIPTION:Summary: The dairy industry has been struggling with low milk prices\, infrastructure problems\, trade issues\, and isolation for several years. Small family farms have been going out of business faster than any time in recent history and even milk cooperatives that buy milk from the farms have claimed bankruptcy. At the start of 2020\, the end of the four-year milk price nightmare was starting to come to an end and producers saw the light at the end of the tunnel to start digging themselves out of. Then COVID-19 hit. This pandemic rocked the system in an unprecedented and unpredicted way. With this comes intense farm stress\, despair\, and desperation for many. Understanding how the system works – or doesn’t – is important because dairy producers work 24/7/365 to provide our families a safe and nutritious food. The very least we can give them is an attempt to understand and help them when they need it. \nIntended audience: Dairy producers\, those who work with dairy producers (i.e. nurses\, bankers\, feed salesmen\, etc.)\, and consumer \nObjectives: By the end of this presentation participants will be able to: \n\nExplain how milk gets to the store\, including the supply chains associated with the producer\, processor\, retailer\, and consumer.\nIdentify current and past market and industry stressors for dairy producers.\nDescribe the impact of this and other farm stress on a dairy producer’s livelihood and mental health.\n\n  \n This training has expired. Let us know if you’d like us to schedule it again! \n\n\n                \n                        \n                            Repeat This Webinar\n                             \n                        \n                        NameThis field is for validation purposes and should be left unchanged.Title of Webinar(Required)Would you like to be contacted if we are able to schedule this webinar again?(Required)\n			\n					\n					Yes\n			\n			\n					\n					No\n			Email
URL:https://www.agrisafe.org/event/stress-and-dairy-farming-challenging-times-in-the-dairy-industry-pave-the-way-for-mental-health-struggles/
CATEGORIES:Cognition,Mental Health
ORGANIZER;CN="Amanda Stone%2C PhD":MAILTO:info@agrisafe.org
END:VEVENT
BEGIN:VEVENT
DTSTART;TZID=America/Chicago:20200520T120000
DTEND;TZID=America/Chicago:20200520T130000
DTSTAMP:20260421T020903
CREATED:20210713T003720Z
LAST-MODIFIED:20210713T131222Z
UID:2222-1589976000-1589979600@www.agrisafe.org
SUMMARY:How Mediation Can Help Farmers
DESCRIPTION:Summary: Farming is a livelihood and a tradition for many families. It has its rewards\, but also its unique risks and pressures. Those may stem from the markets\, the weather\, financial arrangements\, family\, neighbors\, government regulations and more. Conflicts that arise when farming and its support systems fail to mesh add to the stress. How farmers resolve those conflicts can play a role in reducing stress. Learn how mediation engages farmers in problem solving that can meet their needs and make the world more manageable. \nIntended audience: Farmers and organizations that work with farmers. \nObjectives: By the end of this webinar participants will be able to- \n1. Explain what mediation is. \n2. Describe how mediation can help the agricultural community\, especially during the covid19 crisis. \n3. Provide examples of how mediation has helped farmers. \n4. Discuss what the Agricultural Mediation Program is. \n5. Identify available resources in each state. \n  \n\n\nRegistration Instructions: \n\n\n\nIf you don’t already have a profile with AgriSafe\, please set up a free account. This free account allows you access to our many training opportunities. Once you have signed up\, you can watch this webinar on-demand. \n\n\n  \n Watch this webinar on-demand.
URL:https://www.agrisafe.org/event/how-mediation-can-help-farmers/
CATEGORIES:Aging Farmers,Cognition,Farmer/Worker Health,Finances,Health Education and Promotion,Mental Health
ORGANIZER;CN="Kate Pigott%2C JD":MAILTO:info@agrisafe.org
END:VEVENT
END:VCALENDAR