BEGIN:VCALENDAR
VERSION:2.0
PRODID:-//AgriSafe Network - ECPv6.15.20//NONSGML v1.0//EN
CALSCALE:GREGORIAN
METHOD:PUBLISH
X-WR-CALNAME:AgriSafe Network
X-ORIGINAL-URL:https://www.agrisafe.org
X-WR-CALDESC:Events for AgriSafe Network
REFRESH-INTERVAL;VALUE=DURATION:PT1H
X-Robots-Tag:noindex
X-PUBLISHED-TTL:PT1H
BEGIN:VTIMEZONE
TZID:America/Chicago
BEGIN:DAYLIGHT
TZOFFSETFROM:-0600
TZOFFSETTO:-0500
TZNAME:CDT
DTSTART:20180311T080000
END:DAYLIGHT
BEGIN:STANDARD
TZOFFSETFROM:-0500
TZOFFSETTO:-0600
TZNAME:CST
DTSTART:20181104T070000
END:STANDARD
BEGIN:DAYLIGHT
TZOFFSETFROM:-0600
TZOFFSETTO:-0500
TZNAME:CDT
DTSTART:20190310T080000
END:DAYLIGHT
BEGIN:STANDARD
TZOFFSETFROM:-0500
TZOFFSETTO:-0600
TZNAME:CST
DTSTART:20191103T070000
END:STANDARD
BEGIN:DAYLIGHT
TZOFFSETFROM:-0600
TZOFFSETTO:-0500
TZNAME:CDT
DTSTART:20200308T080000
END:DAYLIGHT
BEGIN:STANDARD
TZOFFSETFROM:-0500
TZOFFSETTO:-0600
TZNAME:CST
DTSTART:20201101T070000
END:STANDARD
END:VTIMEZONE
BEGIN:VEVENT
DTSTART;TZID=America/Chicago:20191003T120000
DTEND;TZID=America/Chicago:20191003T130000
DTSTAMP:20260421T140908
CREATED:20210713T011029Z
LAST-MODIFIED:20210713T011029Z
UID:2274-1570104000-1570107600@www.agrisafe.org
SUMMARY:Agricultural All-Terrain Vehicle Safety
DESCRIPTION:All-terrain vehicle (ATV) crashes are one of the leading causes of death and injuries in the agriculture industry in the United States. In this presentation\, we will evaluate the current situation and possible solutions related to agricultural ATV safety. Potential injury preventative actions were evaluated based on the hierarchy of control\, including elimination or substitution\, engineering control\, administrative authority\, training\, and personal protective equipment. \nAt the end of the webinar\, participants will: \n– Understand Recreational vs. Agricultural ATV incidents\n– Identify strategies for elimination or substitution to prevent injury\n– Recognize engineering controls: Roll-Over Protective Structure (ROPS)\, Crush Prevention Device (CPD)\n– Describe administrative authority: United States\, Canada\, Europe\, Australia\, Israel\, and New Zealand\n– Identify Personal Protective Equipment (helmet) \n\n\nRegistration Instructions: \n\n\n\nIf you don’t already have a profile with AgriSafe\, please set up a free account. This free account allows you access to our many training opportunities. Once you have signed up\, you can watch this webinar on-demand. \n\n\n  \n Watch this webinar on-demand.
URL:https://www.agrisafe.org/event/agricultural-all-terrain-vehicle-safety/
CATEGORIES:Farm Machinery & Tractor Safety,Farmer/Worker Health,Hazards,Health Education and Promotion,Musculoskeletal,Personal Protective Equipment,Youth Safety and Health
ORGANIZER;CN="Farzaneh Khorsandi%2C PhD":MAILTO:info@agrisafe.org
END:VEVENT
BEGIN:VEVENT
DTSTART;TZID=America/Chicago:20191024T120000
DTEND;TZID=America/Chicago:20191024T130000
DTSTAMP:20260421T140908
CREATED:20210713T004510Z
LAST-MODIFIED:20220303T151211Z
UID:2275-1571918400-1571922000@www.agrisafe.org
SUMMARY:Providing Culturally Competent Care for Farmers and Farm Families\, With Emphasis on Mental Well-Being
DESCRIPTION:Summary: Alarming rates of suicide among production farmers have prompted public health officials to increase the awareness and cultural understanding of providing wholistic care for those in rural agricultural areas. Unique aspects of farm life and farming can contribute to higher levels of depressive symptoms and increased stress. Higher levels of depression\, in addition to suicide\, can also increase a farmer’s risk of injury and development of chronic disease\, impacting overall quality of life. The agrarian culture is one of strong work ethic\, self-sufficiency\, conservative views\, and adherence to gender roles\, which can make discussion of mental well-being distinctly different from clients who are not from the agrarian culture. The training module will seek to provide insight on the aspects of providing healthcare for farmers and farm families as it relates to the culture and occupational aspects of farming and farm life. \nObjectives: By the end of the webinar\, participants will be able to: \n\nHave a greater understanding of the agrarian culture.\nApply key concepts of the culture when proving healthcare for farmers and farm families.\nIdentify barriers of seeking mental wellness in a rural\, agricultural community\n\n  \n This training has expired. Let us know if you’d like us to schedule it again! \n\n\n                \n                        \n                            Repeat This Webinar\n                             \n                        \n                        InstagramThis field is for validation purposes and should be left unchanged.Title of Webinar(Required)Would you like to be contacted if we are able to schedule this webinar again?(Required)\n			\n					\n					Yes\n			\n			\n					\n					No\n			Email
URL:https://www.agrisafe.org/event/providing-culturally-competent-care-for-farmers-and-farm-families-with-emphasis-on-mental-well-being/
CATEGORIES:Cognition,Mental Health
ORGANIZER;CN="Cheryl Dean-Witt%2C PhD%2C RN":MAILTO:info@agrisafe.org
END:VEVENT
END:VCALENDAR