BEGIN:VCALENDAR
VERSION:2.0
PRODID:-//AgriSafe Network - ECPv6.15.20//NONSGML v1.0//EN
CALSCALE:GREGORIAN
METHOD:PUBLISH
X-ORIGINAL-URL:https://www.agrisafe.org
X-WR-CALDESC:Events for AgriSafe Network
REFRESH-INTERVAL;VALUE=DURATION:PT1H
X-Robots-Tag:noindex
X-PUBLISHED-TTL:PT1H
BEGIN:VTIMEZONE
TZID:America/Chicago
BEGIN:DAYLIGHT
TZOFFSETFROM:-0600
TZOFFSETTO:-0500
TZNAME:CDT
DTSTART:20180311T080000
END:DAYLIGHT
BEGIN:STANDARD
TZOFFSETFROM:-0500
TZOFFSETTO:-0600
TZNAME:CST
DTSTART:20181104T070000
END:STANDARD
BEGIN:DAYLIGHT
TZOFFSETFROM:-0600
TZOFFSETTO:-0500
TZNAME:CDT
DTSTART:20190310T080000
END:DAYLIGHT
BEGIN:STANDARD
TZOFFSETFROM:-0500
TZOFFSETTO:-0600
TZNAME:CST
DTSTART:20191103T070000
END:STANDARD
BEGIN:DAYLIGHT
TZOFFSETFROM:-0600
TZOFFSETTO:-0500
TZNAME:CDT
DTSTART:20200308T080000
END:DAYLIGHT
BEGIN:STANDARD
TZOFFSETFROM:-0500
TZOFFSETTO:-0600
TZNAME:CST
DTSTART:20201101T070000
END:STANDARD
END:VTIMEZONE
BEGIN:VEVENT
DTSTART;TZID=America/Chicago:20190814T120000
DTEND;TZID=America/Chicago:20190814T130000
DTSTAMP:20260422T173838
CREATED:20210713T002859Z
LAST-MODIFIED:20210713T002859Z
UID:2236-1565784000-1565787600@www.agrisafe.org
SUMMARY:Proactive and Reactive Society: Focus on Rural Mental Health
DESCRIPTION:Stress and anxiety over things we have no control over can overwhelm us to the point where we have no energy left to focus on the things we do have control over. Being 5% healthier may not seem like much of an improvement however\, it’s still better than the alternative which is no improvement. That often times turns into a worse-case scenario. Ted will emphasize simple tools to help break the stagnant cycle and how to strengthen family bonds during times of crisis. \nRural healthcare providers and safety professionals have an important role to play in supporting people experiencing stress or mental health challenges. Come listen as Ted Matthews talks about what we can do to be proactive and prepare ahead of crisis. Ted understands the demands farmers face because he counsels farmers in a plethora of areas from crisis intervention to helping farmers relate to their families and workers to better utilize their resources.  If you’re a rural health professional looking to integrate mental health counseling in your care\, take time to listen to Ted’s experiences.  He will help you rethink your approach to providing mental health support. \n\n\nRegistration Instructions: \n\n\n\nIf you don’t already have a profile with AgriSafe\, please set up a free account. This free account allows you access to our many training opportunities. Once you have signed up\, you can watch this webinar on-demand. \n\n\n Watch this webinar on-demand.
URL:https://www.agrisafe.org/event/proactive-and-reactive-society-focus-on-rural-mental-health/
CATEGORIES:Aging Farmers,Cognition,Farmer/Worker Health,Health Education and Promotion,Mental Health,Women's Health
ORGANIZER;CN="Ted Matthews":MAILTO:info@agrisafe.org
END:VEVENT
END:VCALENDAR