BEGIN:VCALENDAR
VERSION:2.0
PRODID:-//AgriSafe Network - ECPv6.15.20//NONSGML v1.0//EN
CALSCALE:GREGORIAN
METHOD:PUBLISH
X-WR-CALNAME:AgriSafe Network
X-ORIGINAL-URL:https://www.agrisafe.org
X-WR-CALDESC:Events for AgriSafe Network
REFRESH-INTERVAL;VALUE=DURATION:PT1H
X-Robots-Tag:noindex
X-PUBLISHED-TTL:PT1H
BEGIN:VTIMEZONE
TZID:America/Chicago
BEGIN:DAYLIGHT
TZOFFSETFROM:-0600
TZOFFSETTO:-0500
TZNAME:CDT
DTSTART:20160313T080000
END:DAYLIGHT
BEGIN:STANDARD
TZOFFSETFROM:-0500
TZOFFSETTO:-0600
TZNAME:CST
DTSTART:20161106T070000
END:STANDARD
BEGIN:DAYLIGHT
TZOFFSETFROM:-0600
TZOFFSETTO:-0500
TZNAME:CDT
DTSTART:20170312T080000
END:DAYLIGHT
BEGIN:STANDARD
TZOFFSETFROM:-0500
TZOFFSETTO:-0600
TZNAME:CST
DTSTART:20171105T070000
END:STANDARD
BEGIN:DAYLIGHT
TZOFFSETFROM:-0600
TZOFFSETTO:-0500
TZNAME:CDT
DTSTART:20180311T080000
END:DAYLIGHT
BEGIN:STANDARD
TZOFFSETFROM:-0500
TZOFFSETTO:-0600
TZNAME:CST
DTSTART:20181104T070000
END:STANDARD
END:VTIMEZONE
BEGIN:VEVENT
DTSTART;TZID=America/Chicago:20170917T120000
DTEND;TZID=America/Chicago:20170917T130000
DTSTAMP:20260421T072235
CREATED:20210629T223830Z
LAST-MODIFIED:20240701T210945Z
UID:2299-1505649600-1505653200@www.agrisafe.org
SUMMARY:Staying Cool in Your Region's Heat: How to manage\, identify\, and reduce heat illnesses and sun exposure
DESCRIPTION:[Illustration: Word cloud\, with the most prominent phrase being “heat wave\,” along with dozens of varying sizes of words and phrases\, including\, “infant heat stroke\,” “elderly\,” and “heat index.”] \nThis session will include information on heat exposure\, ways to reduce the chances of experiencing heat related illness\, sun exposure\, safety\, and identification of aspects that can be screened as skin cancer. It will also help participants identify if they or someone they are working with is experiencing heat stress\, heat exhaustion or heat stroke. \nObjectives:  \n\nParticipants will gain knowledge in identifying signs and symptoms of heat stress\, heat exhaustion and heat stroke along with treatments that can be provided when identified.\nParticipants will have an increased knowledge of how heat index can be used to help plan and reduce heat stress\, heat exhaustion and heat stroke.\nParticipants will gain knowledge on how to identify questionable areas on skin that need to be future evaluated due to skin exposure along with ways to prevent skin damage.\n\n This training has expired. Let us know if you’d like us to schedule it again! \n\n\n                \n                        \n                            Repeat This Webinar\n                             \n                        \n                        FacebookThis field is for validation purposes and should be left unchanged.Title of Webinar(Required)Would you like to be contacted if we are able to schedule this webinar again?(Required)\n			\n					\n					Yes\n			\n			\n					\n					No\n			Email
URL:https://www.agrisafe.org/event/staying-cool-in-your-regions-heat-how-to-manage-identify-and-reduce-heat-illnesses-and-sun-exposure/
CATEGORIES:Hazards,Heat Related Illnesses
ORGANIZER;CN="Jessica Wilburn%2C RN%2C MSN%2C CEN":MAILTO:info@agrisafe.org
END:VEVENT
BEGIN:VEVENT
DTSTART;TZID=America/Chicago:20170920T120000
DTEND;TZID=America/Chicago:20170920T130000
DTSTAMP:20260421T072235
CREATED:20210713T015504Z
LAST-MODIFIED:20210713T023002Z
UID:2247-1505908800-1505912400@www.agrisafe.org
SUMMARY:Children and Youth: Living\, Working and Playing Safely on Farms
DESCRIPTION:Join us as we discuss “Putting Farm Safety Into Practice\,” featuring the newly released Agricultural Youth Work Guidelines\, which help parents and supervisors assign age appropriate tasks to youth. We’ll also discuss non-working children and visitors to farms and ranches\, and ways to keep them safe. \nFarms and ranches are great places to live\, work and play\, and there are numerous benefits to growing up on them. However\, agricultural worksites are among the most dangerous in the U.S.\, resulting in numerous injuries and fatalities to youth. For working youth\, too many of these injuries and deaths are the result of performing work that does not match their abilities. \n\n\nRegistration Instructions: \n\n\n\nIf you don’t already have a profile with AgriSafe\, please set up a free account. This free account allows you access to our many training opportunities. Once you have signed up\, you can watch this webinar on-demand. \n\n\n  \n Watch this webinar on-demand.
URL:https://www.agrisafe.org/event/children-and-youth-living-working-and-playing-safely-on-farms/
CATEGORIES:Cognition,Youth Safety and Health
ORGANIZER;CN="Marsha Salwedel%2C Ed.D":MAILTO:info@agrisafe.org
END:VEVENT
BEGIN:VEVENT
DTSTART;TZID=America/Chicago:20170921T120000
DTEND;TZID=America/Chicago:20170921T130000
DTSTAMP:20260421T072235
CREATED:20210713T011311Z
LAST-MODIFIED:20220303T144117Z
UID:2298-1505995200-1505998800@www.agrisafe.org
SUMMARY:Addressing the Epidemic of ATV Injuries and Deaths: Safety Training Materials and Educational Demonstrations
DESCRIPTION:ATVs are used in agriculture as a substitute for pick-up trucks\, horses\, and just moving about. In 2015\, there were 340 deaths and over 97\,000 injuries reported involving ATVs that were being used for recreation and work purposes. This webinar will discuss the burden of ATV incidents and provide links to ATV safety training materials that are currently available. Information on ATV safety simulators will be presented. A blueprint will be provided to participants for creating a low-cost\, portable\, hands-on ATV safety demonstration. \nAt the end of the webinar\, participants will be able to: \n\nUnderstand the burden of ATV injuries and fatalities in the agricultural community.\nBe able to access up-to-date educational materials on the safe use of ATVs and on proper personal protective equipment.\nUnderstand how ATV simulators can be used as an educational tool to convey safety messages.\nHave all the information needed to create a low-cost ATV demonstration.\n\n This training has expired. Let us know if you’d like us to schedule it again! \n\n                \n                        \n                            Repeat This Webinar\n                             \n                        \n                        CommentsThis field is for validation purposes and should be left unchanged.Title of Webinar(Required)Would you like to be contacted if we are able to schedule this webinar again?(Required)\n			\n					\n					Yes\n			\n			\n					\n					No\n			Email
URL:https://www.agrisafe.org/event/addressing-the-epidemic-of-atv-injuries-and-deaths-safety-training-materials-and-educational-demonstrations/
CATEGORIES:Farm Machinery & Tractor Safety,Hazards
ORGANIZER;CN="Aaron M. Yoder%2C PhD":MAILTO:info@agrisafe.org
END:VEVENT
END:VCALENDAR