BEGIN:VCALENDAR
VERSION:2.0
PRODID:-//AgriSafe Network - ECPv6.15.20//NONSGML v1.0//EN
CALSCALE:GREGORIAN
METHOD:PUBLISH
X-WR-CALNAME:AgriSafe Network
X-ORIGINAL-URL:https://www.agrisafe.org
X-WR-CALDESC:Events for AgriSafe Network
REFRESH-INTERVAL;VALUE=DURATION:PT1H
X-Robots-Tag:noindex
X-PUBLISHED-TTL:PT1H
BEGIN:VTIMEZONE
TZID:America/Chicago
BEGIN:DAYLIGHT
TZOFFSETFROM:-0600
TZOFFSETTO:-0500
TZNAME:CDT
DTSTART:20150308T080000
END:DAYLIGHT
BEGIN:STANDARD
TZOFFSETFROM:-0500
TZOFFSETTO:-0600
TZNAME:CST
DTSTART:20151101T070000
END:STANDARD
BEGIN:DAYLIGHT
TZOFFSETFROM:-0600
TZOFFSETTO:-0500
TZNAME:CDT
DTSTART:20160313T080000
END:DAYLIGHT
BEGIN:STANDARD
TZOFFSETFROM:-0500
TZOFFSETTO:-0600
TZNAME:CST
DTSTART:20161106T070000
END:STANDARD
BEGIN:DAYLIGHT
TZOFFSETFROM:-0600
TZOFFSETTO:-0500
TZNAME:CDT
DTSTART:20170312T080000
END:DAYLIGHT
BEGIN:STANDARD
TZOFFSETFROM:-0500
TZOFFSETTO:-0600
TZNAME:CST
DTSTART:20171105T070000
END:STANDARD
END:VTIMEZONE
BEGIN:VEVENT
DTSTART;TZID=America/Chicago:20160330T120000
DTEND;TZID=America/Chicago:20160330T130000
DTSTAMP:20260421T205254
CREATED:20210629T222416Z
LAST-MODIFIED:20220303T145929Z
UID:2245-1459339200-1459342800@www.agrisafe.org
SUMMARY:Don't Get Stuck! Preventing Needle Stick Injuries in Agricultural Settings
DESCRIPTION:Needlestick injuries in agriculture are common although not as recognized as those in human clinical settings. Farmers\, ranchers\, veterinarians\, and on-site workers are susceptible to needlesticks on the job. These injuries can be serious and may require medical attention. \nAt the end of the webinar\, participants will be able to: \n\nBe aware of the type of products that livestock producers and veterinarians are exposed to.\nRecognize the epidemiologic features associated with needlestick related injuries.\nUse and apply preventive practices to reduce needlestick related injuries.\n\n This training has expired. Let us know if you’d like us to schedule it again! \n\n\n                \n                        \n                            Repeat This Webinar\n                             \n                        \n                        CompanyThis field is for validation purposes and should be left unchanged.Title of Webinar(Required)Would you like to be contacted if we are able to schedule this webinar again?(Required)\n			\n					\n					Yes\n			\n			\n					\n					No\n			Email
URL:https://www.agrisafe.org/event/dont-get-stuck-preventing-needle-stick-injuries-in-agricultural-settings/
CATEGORIES:Farmer/Worker Health,Hazards
ORGANIZER;CN="Jeff Bender%2C DVM%2C MS DACVPM":MAILTO:info@agrisafe.org
END:VEVENT
END:VCALENDAR