BEGIN:VCALENDAR
VERSION:2.0
PRODID:-//AgriSafe Network - ECPv6.15.20//NONSGML v1.0//EN
CALSCALE:GREGORIAN
METHOD:PUBLISH
X-ORIGINAL-URL:https://www.agrisafe.org
X-WR-CALDESC:Events for AgriSafe Network
REFRESH-INTERVAL;VALUE=DURATION:PT1H
X-Robots-Tag:noindex
X-PUBLISHED-TTL:PT1H
BEGIN:VTIMEZONE
TZID:America/Chicago
BEGIN:DAYLIGHT
TZOFFSETFROM:-0600
TZOFFSETTO:-0500
TZNAME:CDT
DTSTART:20230312T080000
END:DAYLIGHT
BEGIN:STANDARD
TZOFFSETFROM:-0500
TZOFFSETTO:-0600
TZNAME:CST
DTSTART:20231105T070000
END:STANDARD
BEGIN:DAYLIGHT
TZOFFSETFROM:-0600
TZOFFSETTO:-0500
TZNAME:CDT
DTSTART:20240310T080000
END:DAYLIGHT
BEGIN:STANDARD
TZOFFSETFROM:-0500
TZOFFSETTO:-0600
TZNAME:CST
DTSTART:20241103T070000
END:STANDARD
BEGIN:DAYLIGHT
TZOFFSETFROM:-0600
TZOFFSETTO:-0500
TZNAME:CDT
DTSTART:20250309T080000
END:DAYLIGHT
BEGIN:STANDARD
TZOFFSETFROM:-0500
TZOFFSETTO:-0600
TZNAME:CST
DTSTART:20251102T070000
END:STANDARD
END:VTIMEZONE
BEGIN:VEVENT
DTSTART;TZID=America/Chicago:20240529T120000
DTEND;TZID=America/Chicago:20240529T130000
DTSTAMP:20260422T005911
CREATED:20240423T210403Z
LAST-MODIFIED:20260408T153812Z
UID:18916-1716984000-1716987600@www.agrisafe.org
SUMMARY:Webinar: Avoiding “Sticking" Situations in Agriculture: A Discussion on Sharps Safety
DESCRIPTION:Summary: We will review needlestick injuries in animal agriculture. This includes type of injuries and associated costs. This includes a review of veterinary medicines associated with needlesticks and best practices to reduce needlestick injuries in an agricultural context. \nObjectives: At the end of this webinar participants will be able to: \n\nHighlight potential risks associated with needlestick injuries\nBe aware of veterinary products that may cause injuries or illness\nProvide guidance on proper administration and delivery of veterinary pharmaceuticals\nReview appropriate syringe and needle disposal in the agricultural context\n\n Watch the Recording Here
URL:https://www.agrisafe.org/event/webinar-avoiding-sticking-situations-in-agriculture-a-discussion-on-sharps-safety/
CATEGORIES:Farmer/Worker Health,Zoonotic Diseases
ATTACH;FMTTYPE=image/png:https://www.agrisafe.org/wp-content/uploads/2024/04/vet-giving-horse-shot.png
ORGANIZER;CN="Jeff Bender%2C DVM%2C MS DACVPM":MAILTO:info@agrisafe.org
END:VEVENT
END:VCALENDAR