BEGIN:VCALENDAR
VERSION:2.0
PRODID:-//AgriSafe Network - ECPv6.15.20//NONSGML v1.0//EN
CALSCALE:GREGORIAN
METHOD:PUBLISH
X-ORIGINAL-URL:https://www.agrisafe.org
X-WR-CALDESC:Events for AgriSafe Network
REFRESH-INTERVAL;VALUE=DURATION:PT1H
X-Robots-Tag:noindex
X-PUBLISHED-TTL:PT1H
BEGIN:VTIMEZONE
TZID:America/Chicago
BEGIN:DAYLIGHT
TZOFFSETFROM:-0600
TZOFFSETTO:-0500
TZNAME:CDT
DTSTART:20200308T080000
END:DAYLIGHT
BEGIN:STANDARD
TZOFFSETFROM:-0500
TZOFFSETTO:-0600
TZNAME:CST
DTSTART:20201101T070000
END:STANDARD
BEGIN:DAYLIGHT
TZOFFSETFROM:-0600
TZOFFSETTO:-0500
TZNAME:CDT
DTSTART:20210314T080000
END:DAYLIGHT
BEGIN:STANDARD
TZOFFSETFROM:-0500
TZOFFSETTO:-0600
TZNAME:CST
DTSTART:20211107T070000
END:STANDARD
BEGIN:DAYLIGHT
TZOFFSETFROM:-0600
TZOFFSETTO:-0500
TZNAME:CDT
DTSTART:20220313T080000
END:DAYLIGHT
BEGIN:STANDARD
TZOFFSETFROM:-0500
TZOFFSETTO:-0600
TZNAME:CST
DTSTART:20221106T070000
END:STANDARD
END:VTIMEZONE
BEGIN:VEVENT
DTSTART;TZID=America/Chicago:20211215T120000
DTEND;TZID=America/Chicago:20211215T133000
DTSTAMP:20260421T184656
CREATED:20211104T165506Z
LAST-MODIFIED:20211104T165506Z
UID:5468-1639569600-1639575000@www.agrisafe.org
SUMMARY:QPR
DESCRIPTION:Over the last decade\, farmers and farm families have experienced increasing pressures resulting in high levels of stress\, mental health\, and suicide. QPR training teaches laypeople and professionals to recognize and respond to mental health crises using the approach of Question\, Persuade\, and Refer. This training is not recorded\, so it must be watched live. \nIn this 1.5 hour QPR training we will provide: \n\nInformation on the unique challenges farmers face that can lead to stress\, depression\, and suicide.\nExamples implementing each QPR component with someone at risk for suicide.\nInformation on how to help someone at risk of suicide.\n\nIntended Audience: Participants need to be 18 years of age or older. \nInterested in hosting a QPR training session for your organization? Contact Linda Emanuel (lemanuel@agrisafe.org) for more information! \n Register
URL:https://www.agrisafe.org/event/qpr-3/
CATEGORIES:Cognition,Mental Health,QPR
ATTACH;FMTTYPE=image/png:https://www.agrisafe.org/wp-content/uploads/2021/09/QPR-Virtual-Training-Banner.png
ORGANIZER;CN="Tara Haskins%2C DNP%2C MSN%2C RN%2C AHN-BC":MAILTO:info@agrisafe.org
END:VEVENT
END:VCALENDAR