BEGIN:VCALENDAR
VERSION:2.0
PRODID:-//AgriSafe Network - ECPv6.15.20//NONSGML v1.0//EN
CALSCALE:GREGORIAN
METHOD:PUBLISH
X-WR-CALNAME:AgriSafe Network
X-ORIGINAL-URL:https://www.agrisafe.org
X-WR-CALDESC:Events for AgriSafe Network
REFRESH-INTERVAL;VALUE=DURATION:PT1H
X-Robots-Tag:noindex
X-PUBLISHED-TTL:PT1H
BEGIN:VTIMEZONE
TZID:America/Chicago
BEGIN:DAYLIGHT
TZOFFSETFROM:-0600
TZOFFSETTO:-0500
TZNAME:CDT
DTSTART:20200308T080000
END:DAYLIGHT
BEGIN:STANDARD
TZOFFSETFROM:-0500
TZOFFSETTO:-0600
TZNAME:CST
DTSTART:20201101T070000
END:STANDARD
BEGIN:DAYLIGHT
TZOFFSETFROM:-0600
TZOFFSETTO:-0500
TZNAME:CDT
DTSTART:20210314T080000
END:DAYLIGHT
BEGIN:STANDARD
TZOFFSETFROM:-0500
TZOFFSETTO:-0600
TZNAME:CST
DTSTART:20211107T070000
END:STANDARD
BEGIN:DAYLIGHT
TZOFFSETFROM:-0600
TZOFFSETTO:-0500
TZNAME:CDT
DTSTART:20220313T080000
END:DAYLIGHT
BEGIN:STANDARD
TZOFFSETFROM:-0500
TZOFFSETTO:-0600
TZNAME:CST
DTSTART:20221106T070000
END:STANDARD
END:VTIMEZONE
BEGIN:VEVENT
DTSTART;TZID=America/Chicago:20210506T120000
DTEND;TZID=America/Chicago:20210506T130000
DTSTAMP:20260423T031335
CREATED:20210713T012255Z
LAST-MODIFIED:20220303T152104Z
UID:2220-1620302400-1620306000@www.agrisafe.org
SUMMARY:What to Expect While Expecting- For Female Producers & Farmworkers in Ag
DESCRIPTION:Summary: Pregnancy and fertility are often not considered when women assume farm tasks. Pesticide and other chemical exposures\, zoonotic diseases and heavy lifting particularly during childbearing years\, present challenges. \nObjectives: At the end of the presentation\, participants will be able to:\n– Identify unique exposures/risks associated with farm tasks.\n– Identify at least four reproductive health and safety issues for women.\n– Locate three current evidenced based resources in the field of agricultural health\n– Develop Hazard Map of work exposures.\n– Select appropriate PPE for farm tasks to reduce or eliminate exposures and or risks. \nIntended Audience: Producers- This training is intended primarily for agricultural producers including but not limited to farmers\, ranchers\, and any person or persons involved in some combination of raising field crops\, orchards\, vineyards\, poultry\, or other livestock. \n  \n This training has expired. Let us know if you’d like us to schedule it again! \n\n\n                \n                        \n                            Repeat This Webinar\n                             \n                        \n                        X/TwitterThis field is for validation purposes and should be left unchanged.Title of Webinar(Required)Would you like to be contacted if we are able to schedule this webinar again?(Required)\n			\n					\n					Yes\n			\n			\n					\n					No\n			Email
URL:https://www.agrisafe.org/event/what-to-expect-while-expecting-for-female-producers-farmworkers-in-ag/
CATEGORIES:Farmer/Worker Health,Hazards,Mental Health,OSHA Standards,Pesticide & Chemical Safety,Women's Health,Zoonotic Diseases
ORGANIZER;CN="Knesha Rose-Davison%2C MPH%2C CPH":MAILTO:info@agrisafe.org
END:VEVENT
END:VCALENDAR