BEGIN:VCALENDAR
VERSION:2.0
PRODID:-//AgriSafe Network - ECPv6.15.20//NONSGML v1.0//EN
CALSCALE:GREGORIAN
METHOD:PUBLISH
X-WR-CALNAME:AgriSafe Network
X-ORIGINAL-URL:https://www.agrisafe.org
X-WR-CALDESC:Events for AgriSafe Network
REFRESH-INTERVAL;VALUE=DURATION:PT1H
X-Robots-Tag:noindex
X-PUBLISHED-TTL:PT1H
BEGIN:VTIMEZONE
TZID:America/Chicago
BEGIN:DAYLIGHT
TZOFFSETFROM:-0600
TZOFFSETTO:-0500
TZNAME:CDT
DTSTART:20220313T080000
END:DAYLIGHT
BEGIN:STANDARD
TZOFFSETFROM:-0500
TZOFFSETTO:-0600
TZNAME:CST
DTSTART:20221106T070000
END:STANDARD
BEGIN:DAYLIGHT
TZOFFSETFROM:-0600
TZOFFSETTO:-0500
TZNAME:CDT
DTSTART:20230312T080000
END:DAYLIGHT
BEGIN:STANDARD
TZOFFSETFROM:-0500
TZOFFSETTO:-0600
TZNAME:CST
DTSTART:20231105T070000
END:STANDARD
BEGIN:DAYLIGHT
TZOFFSETFROM:-0600
TZOFFSETTO:-0500
TZNAME:CDT
DTSTART:20240310T080000
END:DAYLIGHT
BEGIN:STANDARD
TZOFFSETFROM:-0500
TZOFFSETTO:-0600
TZNAME:CST
DTSTART:20241103T070000
END:STANDARD
END:VTIMEZONE
BEGIN:VEVENT
DTSTART;TZID=America/Chicago:20230712T120000
DTEND;TZID=America/Chicago:20230712T133000
DTSTAMP:20260422T073211
CREATED:20230516T134155Z
LAST-MODIFIED:20230720T202941Z
UID:14848-1689163200-1689168600@www.agrisafe.org
SUMMARY:QPR for Farmers and Farm Families
DESCRIPTION:What is QPR? QPR training teaches laypeople and professionals to recognize and respond to mental health crises using the approach of Question\, Persuade and Refer. \nTo attend this training participants must be 18 years of age or older. \nIn this 1.5-hour QPR training\, we will provide:\n– Information on the unique challenges farmers face that can lead to stress\, depression\, and suicide.\n– Examples implementing each QPR component with someone at risk for suicide.\n– Information on how to help someone at risk of suicide. \nRegistration spots are limited\, so please only register if you can attend the event. No recording of this training will be available. Interested in hosting a QPR training session for your organization? Contact Tara Haskins (thaskins@agrisafe.org) for more information! \nThis training event has already occurred. \n Upcoming Training Dates
URL:https://www.agrisafe.org/event/qpr-for-farmers-and-farm-families-19/
CATEGORIES:Cognition,Mental Health,QPR
ATTACH;FMTTYPE=image/png:https://www.agrisafe.org/wp-content/uploads/2021/09/QPR-Virtual-Training-Banner.png
END:VEVENT
BEGIN:VEVENT
DTSTART;TZID=America/Chicago:20230713T120000
DTEND;TZID=America/Chicago:20230713T130000
DTSTAMP:20260422T073211
CREATED:20230531T145505Z
LAST-MODIFIED:20230717T130010Z
UID:15022-1689249600-1689253200@www.agrisafe.org
SUMMARY:Webinar: Animal Depopulation Resiliency Check-in Tool
DESCRIPTION:Summary: Animal depopulation is associated with distressing psychological impacts on people. These impacts affect many stakeholders including veterinarians\, producers\, public health officials\, and others who make decisions about and carry out depopulation. The Animal Depopulation Resiliency Check-in Tool (ADRCT) is a five-question public health protocol for stakeholders who are preparing for\, participating in\, and recovering from animal depopulation. \nADRCT questions have been developed in veterinary clinical environments over the last 20 years. Over the last 3 years\, through USDA APHIS National Animal Disease Preparedness and Response Program funding awarded to the American Association of Swine Veterinarians\, the tool has been reviewed by experts in human traumatology and data collected from depopulation stakeholders. This webinar will review the tool including how to use it and preliminary feedback about the tool gathered thus far. \nIntended Audience: Veterinarians\, physicians\, nurses\, Extension staff\, agricultural safety\, and health professionals\, farm managers\, farm workers\, and anyone else who may be involved with a depopulation event in their community. \nObjectives: At the end of this webinar\, participants will be able to… \n\nUnderstand the prevalence of trauma-related symptoms after potentially traumatic events\nDescribe the human stressors of animal depopulation\nKnow the five questions in the Animal Depopulation Resiliency Check-in Tool\nBe able to apply the Animal Depopulation Resiliency Check-in Tool safely\nUnderstand the resiliency flexibility sequence\n\n Watch the Recording Here  \n 
URL:https://www.agrisafe.org/event/webinar-animal-depopulation-resiliency-check-in-tool/
CATEGORIES:Farmer/Worker Health,Mental Health
ATTACH;FMTTYPE=image/png:https://www.agrisafe.org/wp-content/uploads/2023/05/Vet-and-chicken-1.png
END:VEVENT
END:VCALENDAR