BEGIN:VCALENDAR
VERSION:2.0
PRODID:-//AgriSafe Network - ECPv6.15.20//NONSGML v1.0//EN
CALSCALE:GREGORIAN
METHOD:PUBLISH
X-ORIGINAL-URL:https://www.agrisafe.org
X-WR-CALDESC:Events for AgriSafe Network
REFRESH-INTERVAL;VALUE=DURATION:PT1H
X-Robots-Tag:noindex
X-PUBLISHED-TTL:PT1H
BEGIN:VTIMEZONE
TZID:America/Chicago
BEGIN:DAYLIGHT
TZOFFSETFROM:-0600
TZOFFSETTO:-0500
TZNAME:CDT
DTSTART:20220313T080000
END:DAYLIGHT
BEGIN:STANDARD
TZOFFSETFROM:-0500
TZOFFSETTO:-0600
TZNAME:CST
DTSTART:20221106T070000
END:STANDARD
BEGIN:DAYLIGHT
TZOFFSETFROM:-0600
TZOFFSETTO:-0500
TZNAME:CDT
DTSTART:20230312T080000
END:DAYLIGHT
BEGIN:STANDARD
TZOFFSETFROM:-0500
TZOFFSETTO:-0600
TZNAME:CST
DTSTART:20231105T070000
END:STANDARD
BEGIN:DAYLIGHT
TZOFFSETFROM:-0600
TZOFFSETTO:-0500
TZNAME:CDT
DTSTART:20240310T080000
END:DAYLIGHT
BEGIN:STANDARD
TZOFFSETFROM:-0500
TZOFFSETTO:-0600
TZNAME:CST
DTSTART:20241103T070000
END:STANDARD
END:VTIMEZONE
BEGIN:VEVENT
DTSTART;TZID=America/Chicago:20230216T120000
DTEND;TZID=America/Chicago:20230216T133000
DTSTAMP:20260421T201613
CREATED:20230105T165253Z
LAST-MODIFIED:20230302T191106Z
UID:13353-1676548800-1676554200@www.agrisafe.org
SUMMARY:QPR for Farmers and Farm Families
DESCRIPTION:What is QPR? QPR training teaches laypeople and professionals to recognize and respond to mental health crises using the approach of Question\, Persuade and Refer. \nTo attend this training participants must be 18 years of age or older. \nIn this 1.5-hour QPR training\, we will provide:\n– Information on the unique challenges farmers face that can lead to stress\, depression\, and suicide.\n– Examples implementing each QPR component with someone at risk for suicide.\n– Information on how to help someone at risk of suicide. \nRegistration spots are limited\, so please only register if you can attend the event. No recording of this training will be available. Interested in hosting a QPR training session for your organization? Contact Tara Haskins (thaskins@agrisafe.org) for more information! \nThis training event has already occurred. \n Upcoming Training Dates
URL:https://www.agrisafe.org/event/qpr-for-farmers-and-farm-families-14/
CATEGORIES:Cognition,Mental Health,QPR
ATTACH;FMTTYPE=image/png:https://www.agrisafe.org/wp-content/uploads/2021/09/QPR-Virtual-Training-Banner.png
END:VEVENT
BEGIN:VEVENT
DTSTART;TZID=America/Chicago:20230221T120000
DTEND;TZID=America/Chicago:20230221T133000
DTSTAMP:20260421T201613
CREATED:20221212T144727Z
LAST-MODIFIED:20240619T154616Z
UID:13190-1676980800-1676986200@www.agrisafe.org
SUMMARY:The LandLogic Model: Why is the land so important to farmers and how do I incorporate it into my clinical practice?
DESCRIPTION:All seats have been filled for this training event.  If you would like to be notified when this training is offered again\, please email Tara Haskins (thaskins@agrisafe.org). \nSummary: Driven by positive feedback from farmers and ranchers\, this training discusses cultural adaptations to Cognitive Behavioral Therapy designed for clinical use with members of the agricultural community. Based on the agrarian imperative (Rosmann\, 2010)\, clinical techniques and skills are proposed that intentionally incorporate a client’s attachment to the land in order to improve therapeutic trust\, client engagement\, and promote positive behavioral health outcomes. Training materials and client worksheets based on the LandLogic Model(TM) will be provided to participants including the FARM Tool and Barbed Wire Thinking. \nObjectives: Upon completion of this training\, participants should be able to…\n– Define key terms such as cultural adaptations of evidence-based practices\, agrarian imperative\, and ecological validity as they relate to agricultural-based clients.\n– Discuss the impact of the agrarian imperative as a cultural consideration when building therapeutic trust in a clinical setting with agricultural-based clients.\n– Demonstrate evidence-based clinical skills and techniques that are for use when working with agricultural-based clients utilizing the LandLogic Model.\n– Understand how the LandLogic Model could be utilized in a behavioral health integration model. \nIntended Audience: healthcare professionals and behavioral health professionals that provide some type of counseling services to farming communities\, including faith leaders that provide support through spiritual counseling services \nQualifications: Participants must attend BOTH live training dates (Feb. 21 and Feb 28.) for the entire session to receive continuing education. This class size is limited to 35 participants\, so please only register if you plan on attending.  \n  \nContinuing Education Information: \nThe Midwest Center for Occupational Health and Safety offers 0.30 CEU or 3.0 contact hours of participation. This course is eligible for 3.0 CPH Recertification Credits and is sponsored by the University of Minnesota School of Public Health\, an approved provider of CPH Recertification Credits by the National Board of Public Health Examiners. The following groups of professionals hxave been able to use these CEUs in the past; Industrial Hygiene (CIH)\, Certified Public Health Professional(CPH)\, Certified Safety Professional (CSP)\, Nursing (RN\, LPN)\, Social Work (LSW)\, Occupational Therapy (OT)\, Physical Therapy (PT)\, Audiology (ABA)\, and others. Please contact your accrediting agency regarding any questions about receiving credits. \n\n\n\n\nThis live activity\, The LandLogic Model: Why is the land important to farmers & ranchers\, and how do I incorporate it into my clinical practice? with a beginning date of 2/21/2023 has been reviewed and is acceptable for up to 3.0 Live credit per session by the American Academy of Family Physicians. Physicians should only claim the credit commensurate with the extent of their participation in the activity.
URL:https://www.agrisafe.org/event/landlogic-model/2023-02-21/
CATEGORIES:Mental Health
ATTACH;FMTTYPE=image/jpeg:https://www.agrisafe.org/wp-content/uploads/2022/12/9A7C9AA4F2AB4EDCAC677E0A40BC1FEC.jpg
END:VEVENT
END:VCALENDAR