BEGIN:VCALENDAR
VERSION:2.0
PRODID:-//AgriSafe Network - ECPv6.15.20//NONSGML v1.0//EN
CALSCALE:GREGORIAN
METHOD:PUBLISH
X-ORIGINAL-URL:https://www.agrisafe.org
X-WR-CALDESC:Events for AgriSafe Network
REFRESH-INTERVAL;VALUE=DURATION:PT1H
X-Robots-Tag:noindex
X-PUBLISHED-TTL:PT1H
BEGIN:VTIMEZONE
TZID:America/Chicago
BEGIN:DAYLIGHT
TZOFFSETFROM:-0600
TZOFFSETTO:-0500
TZNAME:CDT
DTSTART:20210314T080000
END:DAYLIGHT
BEGIN:STANDARD
TZOFFSETFROM:-0500
TZOFFSETTO:-0600
TZNAME:CST
DTSTART:20211107T070000
END:STANDARD
BEGIN:DAYLIGHT
TZOFFSETFROM:-0600
TZOFFSETTO:-0500
TZNAME:CDT
DTSTART:20220313T080000
END:DAYLIGHT
BEGIN:STANDARD
TZOFFSETFROM:-0500
TZOFFSETTO:-0600
TZNAME:CST
DTSTART:20221106T070000
END:STANDARD
BEGIN:DAYLIGHT
TZOFFSETFROM:-0600
TZOFFSETTO:-0500
TZNAME:CDT
DTSTART:20230312T080000
END:DAYLIGHT
BEGIN:STANDARD
TZOFFSETFROM:-0500
TZOFFSETTO:-0600
TZNAME:CST
DTSTART:20231105T070000
END:STANDARD
END:VTIMEZONE
BEGIN:VEVENT
DTSTART;TZID=America/Chicago:20220216T120000
DTEND;TZID=America/Chicago:20220216T130000
DTSTAMP:20260421T141330
CREATED:20220124T225601Z
LAST-MODIFIED:20240719T194736Z
UID:6466-1645012800-1645016400@www.agrisafe.org
SUMMARY:Webinar: What to Expect While Expecting- For Female Producers & Farmworkers in Ag
DESCRIPTION:Summary: Pregnancy and fertility are often not considered when women assume farm tasks. Pesticide and other chemical exposures\, zoonotic diseases and heavy lifting particularly during childbearing years\, present challenges. \nObjectives: At the end of the presentation\, participants will be able to: \n\nIdentify unique exposures/risks associated with farm tasks.\nIdentify at least four reproductive health and safety issues for women.\nLocate three current evidenced-based resources in the field of agricultural health.\nDevelop Hazard Map of work exposures.\nSelect appropriate PPE for farm tasks to reduce or eliminate exposures and or risks.\n\nIntended Audience: Producers- This training is intended primarily for agricultural producers including but not limited to farmers\, ranchers\, and any person or persons involved in some combination of raising field crops\, orchards\, vineyards\, poultry\, or other livestock. \n Watch the Recording Here
URL:https://www.agrisafe.org/event/webinar-what-to-expect-while-expecting-for-female-producers-farmworkers-in-ag/
CATEGORIES:Farmer/Worker Health,Hazards,Mental Health,OSHA Standards,Pesticide & Chemical Safety,Women's Health,Zoonotic Diseases
ATTACH;FMTTYPE=image/png:https://www.agrisafe.org/wp-content/uploads/2022/01/SRC-Mainpage-300-x-225-px-121321-1.png
ORGANIZER;CN="Knesha Rose-Davison%2C MPH%2C CPH":MAILTO:info@agrisafe.org
END:VEVENT
END:VCALENDAR