BEGIN:VCALENDAR
VERSION:2.0
PRODID:-//AgriSafe Network - ECPv6.15.20//NONSGML v1.0//EN
CALSCALE:GREGORIAN
METHOD:PUBLISH
X-ORIGINAL-URL:https://www.agrisafe.org
X-WR-CALDESC:Events for AgriSafe Network
REFRESH-INTERVAL;VALUE=DURATION:PT1H
X-Robots-Tag:noindex
X-PUBLISHED-TTL:PT1H
BEGIN:VTIMEZONE
TZID:America/Chicago
BEGIN:DAYLIGHT
TZOFFSETFROM:-0600
TZOFFSETTO:-0500
TZNAME:CDT
DTSTART:20180311T080000
END:DAYLIGHT
BEGIN:STANDARD
TZOFFSETFROM:-0500
TZOFFSETTO:-0600
TZNAME:CST
DTSTART:20181104T070000
END:STANDARD
BEGIN:DAYLIGHT
TZOFFSETFROM:-0600
TZOFFSETTO:-0500
TZNAME:CDT
DTSTART:20190310T080000
END:DAYLIGHT
BEGIN:STANDARD
TZOFFSETFROM:-0500
TZOFFSETTO:-0600
TZNAME:CST
DTSTART:20191103T070000
END:STANDARD
BEGIN:DAYLIGHT
TZOFFSETFROM:-0600
TZOFFSETTO:-0500
TZNAME:CDT
DTSTART:20200308T080000
END:DAYLIGHT
BEGIN:STANDARD
TZOFFSETFROM:-0500
TZOFFSETTO:-0600
TZNAME:CST
DTSTART:20201101T070000
END:STANDARD
END:VTIMEZONE
BEGIN:VEVENT
DTSTART;TZID=America/Chicago:20190605T120000
DTEND;TZID=America/Chicago:20190605T130000
DTSTAMP:20260423T014901
CREATED:20210713T013149Z
LAST-MODIFIED:20210713T013149Z
UID:2269-1559736000-1559739600@www.agrisafe.org
SUMMARY:AgriSafe Think Tank: Defining the Rural Health Care Professional Role In Assuring Total Farmer Health
DESCRIPTION:Healthy minds and bodies are an outcome of Total Farmer Health. AgriSafe intends to learn from you so that future trainings can be relevant to your professional needs. AgriSafe held a virtual town hall to help formulate best practices for rural health care providers in response to the mental health crisis impacting farm families. Emphasis was placed on caring for the agricultural producer. Various health care professionals\, mental health leaders\, and other stakeholders joined this session to share their perspectives on how best to equip health care providers. \n  \n\n\nRegistration Instructions: \n\n\n\nIf you don’t already have a profile with AgriSafe\, please set up a free account. This free account allows you access to our many training opportunities. Once you have signed up\, you can watch this webinar on-demand. \n\n\n  \n Watch this webinar on-demand.
URL:https://www.agrisafe.org/event/agrisafe-think-tank-defining-the-rural-health-care-professional-role-in-assuring-total-farmer-health/
CATEGORIES:Farmer/Worker Health,Healthcare,Mental Health
ORGANIZER;CN="Natalie Roy%2C MPH":MAILTO:info@agrisafe.org
END:VEVENT
END:VCALENDAR