BEGIN:VCALENDAR
VERSION:2.0
PRODID:-//AgriSafe Network - ECPv6.15.20//NONSGML v1.0//EN
CALSCALE:GREGORIAN
METHOD:PUBLISH
X-WR-CALNAME:AgriSafe Network
X-ORIGINAL-URL:https://www.agrisafe.org
X-WR-CALDESC:Events for AgriSafe Network
REFRESH-INTERVAL;VALUE=DURATION:PT1H
X-Robots-Tag:noindex
X-PUBLISHED-TTL:PT1H
BEGIN:VTIMEZONE
TZID:America/Chicago
BEGIN:DAYLIGHT
TZOFFSETFROM:-0600
TZOFFSETTO:-0500
TZNAME:CDT
DTSTART:20240310T080000
END:DAYLIGHT
BEGIN:STANDARD
TZOFFSETFROM:-0500
TZOFFSETTO:-0600
TZNAME:CST
DTSTART:20241103T070000
END:STANDARD
BEGIN:DAYLIGHT
TZOFFSETFROM:-0600
TZOFFSETTO:-0500
TZNAME:CDT
DTSTART:20250309T080000
END:DAYLIGHT
BEGIN:STANDARD
TZOFFSETFROM:-0500
TZOFFSETTO:-0600
TZNAME:CST
DTSTART:20251102T070000
END:STANDARD
BEGIN:DAYLIGHT
TZOFFSETFROM:-0600
TZOFFSETTO:-0500
TZNAME:CDT
DTSTART:20260308T080000
END:DAYLIGHT
BEGIN:STANDARD
TZOFFSETFROM:-0500
TZOFFSETTO:-0600
TZNAME:CST
DTSTART:20261101T070000
END:STANDARD
END:VTIMEZONE
BEGIN:VEVENT
DTSTART;TZID=America/Chicago:20250128T120000
DTEND;TZID=America/Chicago:20250128T130000
DTSTAMP:20260421T173210
CREATED:20241230T212258Z
LAST-MODIFIED:20260408T155350Z
UID:23037-1738065600-1738069200@www.agrisafe.org
SUMMARY:Webinar: Keep Rural Communities Healthy: The Role of HPV Vaccination
DESCRIPTION:Summary: This webinar will focus on opportunities to increase HPV vaccination coverage with rural communities to prevent HPV cancers. We will provide an overview of HPV epidemiology and share efforts by the St. Jude HPV Cancer Prevention Program\, including the implementation of six priority action steps\, and other strategies for improvement. These steps involve promoting HPV vaccination starting at age 9\, compiling and adapting existing resources for rural communities\, training healthcare providers in rural areas\, exploring policy influences on rural  HPV vaccination\, developing targeted messages for rural communities\, and updating data on HPV vaccination and HPV cancers in rural areas. Participants will gain valuable insights into effective strategies and resources tailored for rural communities. \nIntended Audience: Healthcare providers and professionals serving rural communities\, public health officials and policymakers involved in rural health\, rural health advocates\, and community leaders. educators and outreach coordinators working in rural health programs\, members of organizations dedicated to immunization and cancer prevention in rural areas \nObjectives: At the end of this webinar participants will be able to… \n\nUnderstand the current landscape of HPV epidemiology and its impact on rural communities.\nIdentify and utilize existing resources and best practices to address HPV vaccination in rural settings.\nLearn strategies for training healthcare providers to promote HPV vaccination in rural areas effectively.\nExplore policy influences and develop targeted messages that resonate with rural audiences to increase HPV vaccination coverage.\n\nMeet the Presenter: Heather M. Brandt\, PhD\, Director\, HPV Cancer Prevention Program St. Jude Children’s Research Hospital \n Watch the Recording  \nContinuing Nursing Education: This nursing continuing professional development activity was approved by VTL Center for Professional Development\, an accredited approver by the American Nurses Credentialing Center’s Commission on Accreditation.
URL:https://www.agrisafe.org/event/webinar-keep-rural-communities-healthy-the-role-of-hpv-vaccination/
CATEGORIES:ANCC,CHW,Continuing Education,Health Education and Promotion,Women's Health
ATTACH;FMTTYPE=image/png:https://www.agrisafe.org/wp-content/uploads/2024/12/HPV-Vaccine.png
END:VEVENT
BEGIN:VEVENT
DTSTART;TZID=America/Chicago:20250130T120000
DTEND;TZID=America/Chicago:20250130T130000
DTSTAMP:20260421T173210
CREATED:20250109T192718Z
LAST-MODIFIED:20260408T155454Z
UID:23160-1738238400-1738242000@www.agrisafe.org
SUMMARY:Webinar: Advancing Safety Skills in Forestry Settings with Virtual Reality
DESCRIPTION:Summary:  The use of virtual and augmented reality simulators for safety training and health curricula is increasing and more available in fire safety\, mining\, aviation\, and healthcare. The next generation of learners will engage in experiential learning throughout their educational journey\, beginning in the classroom\, and extending to their mobile devices and on-site activities. This session will describe the advantages and benefits of applying virtual reality (VR) training in the workplace. Lessons learned from piloting a VR training module to increase worker skills and knowledge about the hazards\, risks\, and controls during high-risk activities in forest settings will be described. \nIntended Audience: Anyone interested in advancing safety skills in the workplace using virtual reality. \nObjectives: At the end of this webinar participants will be able to… \n\nDescribe the benefits of virtual reality immersion experience for workers\nIdentify the technological components of VR training\nExplain the forestry hazards and controls that are most relevant for VR safety training\n\n Register  \nMeet the Presenter: Nancy J. Simcox\, MS\, Associate Teaching Professor\, Director\, Occupational Safety and Health Continuing Education Program\, Department of Environmental and Occupational Health Sciences\, University of Washington School of Public Health
URL:https://www.agrisafe.org/event/webinar-advancing-safety-skills-in-forestry-settings-with-virtual-reality/
CATEGORIES:Farmer/Worker Health,Health Education and Promotion
ATTACH;FMTTYPE=image/png:https://www.agrisafe.org/wp-content/uploads/2025/01/VR-Safety-Photo.png
END:VEVENT
END:VCALENDAR