BEGIN:VCALENDAR
VERSION:2.0
PRODID:-//AgriSafe Network - ECPv6.15.20//NONSGML v1.0//EN
CALSCALE:GREGORIAN
METHOD:PUBLISH
X-WR-CALNAME:AgriSafe Network
X-ORIGINAL-URL:https://www.agrisafe.org
X-WR-CALDESC:Events for AgriSafe Network
REFRESH-INTERVAL;VALUE=DURATION:PT1H
X-Robots-Tag:noindex
X-PUBLISHED-TTL:PT1H
BEGIN:VTIMEZONE
TZID:America/Chicago
BEGIN:DAYLIGHT
TZOFFSETFROM:-0600
TZOFFSETTO:-0500
TZNAME:CDT
DTSTART:20230312T080000
END:DAYLIGHT
BEGIN:STANDARD
TZOFFSETFROM:-0500
TZOFFSETTO:-0600
TZNAME:CST
DTSTART:20231105T070000
END:STANDARD
BEGIN:DAYLIGHT
TZOFFSETFROM:-0600
TZOFFSETTO:-0500
TZNAME:CDT
DTSTART:20240310T080000
END:DAYLIGHT
BEGIN:STANDARD
TZOFFSETFROM:-0500
TZOFFSETTO:-0600
TZNAME:CST
DTSTART:20241103T070000
END:STANDARD
BEGIN:DAYLIGHT
TZOFFSETFROM:-0600
TZOFFSETTO:-0500
TZNAME:CDT
DTSTART:20250309T080000
END:DAYLIGHT
BEGIN:STANDARD
TZOFFSETFROM:-0500
TZOFFSETTO:-0600
TZNAME:CST
DTSTART:20251102T070000
END:STANDARD
END:VTIMEZONE
BEGIN:VEVENT
DTSTART;TZID=America/Chicago:20241203T120000
DTEND;TZID=America/Chicago:20241203T130000
DTSTAMP:20260421T203507
CREATED:20241105T220454Z
LAST-MODIFIED:20260312T144155Z
UID:22220-1733227200-1733230800@www.agrisafe.org
SUMMARY:Webinar: Resources to Support Disaster Preparedness and Response and Violence Prevention in Rural Communities
DESCRIPTION:Summary: This presentation will share information and resources about disaster preparedness and response and violence prevention in rural communities. Presenters from the Rural Health Information Hub (RHIhub) and the NORC Walsh Center for Rural Analysis will discuss the Emergency Preparedness and Response Toolkit\, Violence and Abuse topic guide\, and other prevention-related resources for rural communities and leaders\, emergency preparedness and response professionals\, healthcare professionals\, first responders\, local public health departments\, human and social services organizations\, hospitals and other healthcare facilities\, and others working to help and support rural communities recover from disasters and violence.  \n  \nIntended Audience: Rural communities and leaders\, emergency preparedness and response professionals\, healthcare professionals\, first responders\, local public health departments\, human and social services organizations\, hospitals and other healthcare facilities\, and others working to help and support rural communities recover \n  \nOutcomes: At the end of this webinar\, participants will… \n-Understand what types of information and resources are available in the Emergency Preparedness and Response Toolkit and in the Violence and Abuse Topic Guide \n-Be aware of the lessons learned and key points from a set of 31 case studies related to rural disaster response and recovery \n-Learn where to find additional resources related to violence and abuse prevention and support in rural communities \n  \nMeet the Presenters: \n     -Alana Knudson\, PhD\, Senior Fellow\, NORC at the University of Chicago Director\, NORC Walsh Center for Rural Health Analysis \n     -Makenzie Atherton\, MPH\, Content Development Coordinator\, Rural Health Information Hub \n     -Sarah Dauterive\, MLIS\, Information Specialist\, RHIhub \n  \n Watch the Recording Here
URL:https://www.agrisafe.org/event/webinar-resources-to-support-disaster-preparedness-and-response-and-violence-prevention-in-rural-communities/
CATEGORIES:Floods,Health Education and Promotion,Mental Health
ATTACH;FMTTYPE=image/png:https://www.agrisafe.org/wp-content/uploads/2024/11/Disaster-Prepardeness.png
END:VEVENT
END:VCALENDAR