BEGIN:VCALENDAR
VERSION:2.0
PRODID:-//AgriSafe Network - ECPv6.15.20//NONSGML v1.0//EN
CALSCALE:GREGORIAN
METHOD:PUBLISH
X-WR-CALNAME:AgriSafe Network
X-ORIGINAL-URL:https://www.agrisafe.org
X-WR-CALDESC:Events for AgriSafe Network
REFRESH-INTERVAL;VALUE=DURATION:PT1H
X-Robots-Tag:noindex
X-PUBLISHED-TTL:PT1H
BEGIN:VTIMEZONE
TZID:America/Chicago
BEGIN:DAYLIGHT
TZOFFSETFROM:-0600
TZOFFSETTO:-0500
TZNAME:CDT
DTSTART:20220313T080000
END:DAYLIGHT
BEGIN:STANDARD
TZOFFSETFROM:-0500
TZOFFSETTO:-0600
TZNAME:CST
DTSTART:20221106T070000
END:STANDARD
BEGIN:DAYLIGHT
TZOFFSETFROM:-0600
TZOFFSETTO:-0500
TZNAME:CDT
DTSTART:20230312T080000
END:DAYLIGHT
BEGIN:STANDARD
TZOFFSETFROM:-0500
TZOFFSETTO:-0600
TZNAME:CST
DTSTART:20231105T070000
END:STANDARD
BEGIN:DAYLIGHT
TZOFFSETFROM:-0600
TZOFFSETTO:-0500
TZNAME:CDT
DTSTART:20240310T080000
END:DAYLIGHT
BEGIN:STANDARD
TZOFFSETFROM:-0500
TZOFFSETTO:-0600
TZNAME:CST
DTSTART:20241103T070000
END:STANDARD
END:VTIMEZONE
BEGIN:VEVENT
DTSTART;TZID=America/Chicago:20230808T120000
DTEND;TZID=America/Chicago:20230808T130000
DTSTAMP:20260424T095644
CREATED:20230711T200019Z
LAST-MODIFIED:20230811T191006Z
UID:15539-1691496000-1691499600@www.agrisafe.org
SUMMARY:Webinar: Talking About Ticks- Lyme Disease
DESCRIPTION:Summary: As people spend more time outdoors\, so do many insects and pests. Among them are ticks\, which are small bloodsucking insects. The deer tick (also known as the black-legged tick) is found mainly in the Eastern and upper Midwestern regions of the U.S. It can cause conditions such as Lyme disease – the most common vector-borne disease in the United States. This webinar will cover the things you need to know to prevent tick bites when working outdoors\, how to remove a tick if bitten\, as well as the symptoms that can result from tick bites that may indicate Lyme Disease. \nIntended Audience: This course is intended for Ag professionals\, educators\, and individuals involved in working and recreation outdoors. \nObjectives: At the end of this webinar\, participants will be able to: \n\nGain an understanding of tick-borne disease control measures to reduce exposure risks among ag workers.\nDescribe Lyme Disease and its regional variation.\nDescribe symptoms of the different types of Lyme Disease.\nIdentify workers’ rights and employers’ responsibilities for the workplace.\n\n Watch the Recording Here  \nThis material was produced under grant number SH-36995-HA1 from the Occupational Safety and Health Administration\, U.S. Department of Labor. It does not necessarily reflect the views or policies of the U.S. Department of Labor\, nor does mention of trade names\, commercial products\, or organizations imply endorsement by the U.S. Government.
URL:https://www.agrisafe.org/event/webinar-talking-about-ticks-lyme-disease-3/
CATEGORIES:Farmer/Worker Health,Health Education and Promotion,OSHA Standards,Zoonotic Diseases
ATTACH;FMTTYPE=image/jpeg:https://www.agrisafe.org/wp-content/uploads/2022/11/lyme-disease-.jpeg
END:VEVENT
BEGIN:VEVENT
DTSTART;TZID=America/Chicago:20230824T120000
DTEND;TZID=America/Chicago:20230824T130000
DTSTAMP:20260424T095644
CREATED:20230725T171312Z
LAST-MODIFIED:20230824T183224Z
UID:15812-1692878400-1692882000@www.agrisafe.org
SUMMARY:Webinar: AgriSafe’s FarmResponse: Looking Back at the First Year
DESCRIPTION:Summary: Launched in February 2022\, AgriSafe’s FarmResponse is an on-demand interactive course through AgriSafe’s Learning Lab. The FarmResponse course addresses farm and ranching cultural competencies for healthcare providers and specialists by exploring the effects of financial stress\, land ownership and legacy issues\, substance use\, suicide\, and the work of agriculture on mental wellbeing. The curriculum is based on the Total Farmer Health model as it relates to factors for mental health in agriculture. The goal is to train those who serve in agricultural communities to understand the impact of farming culture on farmer mental health and health-seeking behaviors. This session will present the first year evaluation data of over 500 FarmResponse learners. Come and learn more about this exciting professional development resource. AgriSafe’s FarmResponse program lead will be there to answer your questions about bringing FarmResponse to your healthcare providers. \nIntended Audience: Governmental departments\, Farm stress initiatives and organizations\, healthcare professionals\, academia \nObjectives: At the end of this webinar\, participants will be able to: \n\nDescribe the FarmResponse training.\nExplain the benefits of FarmResponse training.\nDiscuss the findings of the FarmResponse evaluation data.\nDiscuss program offerings and future initiatives from FarmResponse.\n\n Watch the Recording Here
URL:https://www.agrisafe.org/event/webinar-agrisafes-farmresponse-looking-back-at-the-first-year/
CATEGORIES:Farmer/Worker Health,Health Education and Promotion,Mental Health
ATTACH;FMTTYPE=image/png:https://www.agrisafe.org/wp-content/uploads/2023/07/1.png
END:VEVENT
END:VCALENDAR