BEGIN:VCALENDAR
VERSION:2.0
PRODID:-//AgriSafe Network - ECPv6.15.20//NONSGML v1.0//EN
CALSCALE:GREGORIAN
METHOD:PUBLISH
X-WR-CALNAME:AgriSafe Network
X-ORIGINAL-URL:https://www.agrisafe.org
X-WR-CALDESC:Events for AgriSafe Network
REFRESH-INTERVAL;VALUE=DURATION:PT1H
X-Robots-Tag:noindex
X-PUBLISHED-TTL:PT1H
BEGIN:VTIMEZONE
TZID:America/Chicago
BEGIN:DAYLIGHT
TZOFFSETFROM:-0600
TZOFFSETTO:-0500
TZNAME:CDT
DTSTART:20220313T080000
END:DAYLIGHT
BEGIN:STANDARD
TZOFFSETFROM:-0500
TZOFFSETTO:-0600
TZNAME:CST
DTSTART:20221106T070000
END:STANDARD
BEGIN:DAYLIGHT
TZOFFSETFROM:-0600
TZOFFSETTO:-0500
TZNAME:CDT
DTSTART:20230312T080000
END:DAYLIGHT
BEGIN:STANDARD
TZOFFSETFROM:-0500
TZOFFSETTO:-0600
TZNAME:CST
DTSTART:20231105T070000
END:STANDARD
BEGIN:DAYLIGHT
TZOFFSETFROM:-0600
TZOFFSETTO:-0500
TZNAME:CDT
DTSTART:20240310T080000
END:DAYLIGHT
BEGIN:STANDARD
TZOFFSETFROM:-0500
TZOFFSETTO:-0600
TZNAME:CST
DTSTART:20241103T070000
END:STANDARD
END:VTIMEZONE
BEGIN:VEVENT
DTSTART;TZID=America/Chicago:20230223T120000
DTEND;TZID=America/Chicago:20230223T130000
DTSTAMP:20260425T114354
CREATED:20230216T192036Z
LAST-MODIFIED:20230223T195410Z
UID:14013-1677153600-1677157200@www.agrisafe.org
SUMMARY:Webinar: Exploring Health and Safety for Black Farmers: Racism\, Land Access\, Mental Health\, and Resources
DESCRIPTION:Summary: The number of Black farmers in the United States has declined over the last century. One hundred years ago\, farmers identifying as Black or mixed race made up about 14 percent of total ag producers. According to a 2017 United States Department of Agriculture (USDA) census\, of the 3.4 million farmers across the country\, 1.3%\, or only 45\,508\, identify as Black compared to 95% who identify as Caucasian. This session will address significant challenges of Black\, mixed race\, and BIPOC ag producers in the United States\, programs to address racism and build equity\, identify critical concerns in health and safety\, including mental health\, and share community-based resources for rural residents\, growers\, farmers\, farmworkers\, and owner/operators. \nIntended Audience: Agricultural farmers\, ranchers\, supervisors\, farmworkers\, farmworker organizations\, health and safety professionals\, trainers\, promotores\, rural healthcare providers\, extension agents\, and others who work in agriculture. \nObjectives: \n\nDiscuss issues of racism and land loss faced by Black and mixed-race producers in the United States.\nIdentify four emerging health challenges to ag workers in rural/agricultural communities.\nShare community-based resources that provide information for rural residents\, growers\, farmers\, farmworkers\, and owner/operators.\n\n Watch the Recording Here  \n Disclaimer: Support of this webinar on Diversity\, Equity\, Inclusion\, and Accessibility is due to the generous support of ButcherBox. We want to extend a special thanks to our sponsors and partners\, who make our work possible through their dedication and funding.
URL:https://www.agrisafe.org/event/webinar-exploring-health-and-safety-for-black-farmers-racism-land-access-mental-health-and-resources/
CATEGORIES:BIPOC Farmers,Farmer/Worker Health,Health Education and Promotion
ATTACH;FMTTYPE=image/png:https://www.agrisafe.org/wp-content/uploads/2023/02/Learning-Lab-Feature-Card-28.png
ORGANIZER;CN="Knesha Rose-Davison%2C MPH%2C CPH":MAILTO:info@agrisafe.org
END:VEVENT
END:VCALENDAR