BEGIN:VCALENDAR
VERSION:2.0
PRODID:-//AgriSafe Network - ECPv6.15.20//NONSGML v1.0//EN
CALSCALE:GREGORIAN
METHOD:PUBLISH
X-ORIGINAL-URL:https://www.agrisafe.org
X-WR-CALDESC:Events for AgriSafe Network
REFRESH-INTERVAL;VALUE=DURATION:PT1H
X-Robots-Tag:noindex
X-PUBLISHED-TTL:PT1H
BEGIN:VTIMEZONE
TZID:America/Chicago
BEGIN:DAYLIGHT
TZOFFSETFROM:-0600
TZOFFSETTO:-0500
TZNAME:CDT
DTSTART:20210314T080000
END:DAYLIGHT
BEGIN:STANDARD
TZOFFSETFROM:-0500
TZOFFSETTO:-0600
TZNAME:CST
DTSTART:20211107T070000
END:STANDARD
BEGIN:DAYLIGHT
TZOFFSETFROM:-0600
TZOFFSETTO:-0500
TZNAME:CDT
DTSTART:20220313T080000
END:DAYLIGHT
BEGIN:STANDARD
TZOFFSETFROM:-0500
TZOFFSETTO:-0600
TZNAME:CST
DTSTART:20221106T070000
END:STANDARD
BEGIN:DAYLIGHT
TZOFFSETFROM:-0600
TZOFFSETTO:-0500
TZNAME:CDT
DTSTART:20230312T080000
END:DAYLIGHT
BEGIN:STANDARD
TZOFFSETFROM:-0500
TZOFFSETTO:-0600
TZNAME:CST
DTSTART:20231105T070000
END:STANDARD
END:VTIMEZONE
BEGIN:VEVENT
DTSTART;VALUE=DATE:20220220
DTEND;VALUE=DATE:20220227
DTSTAMP:20260425T055845
CREATED:20210719T201517Z
LAST-MODIFIED:20210719T201813Z
UID:3640-1645315200-1645919999@www.agrisafe.org
SUMMARY:Grain Bin Safety Week
DESCRIPTION:Did you know that between 1960 and 2019\, 60% of documented grain entrapment cases were fatal? \nInitiated by Nationwide in 2014\, Grain Bin Safety Week is an annual campaign recurring the third full week of February to promote grain bin safety on farms and commercial grain-handling facilities. \nA collaborative effort with industry leaders and agricultural professionals\, Grain Bin Safety Week was created to raise awareness about grain bin dangers\, provide education and share best safety practices. Together\, we hope to reduce the number of preventable injuries and deaths associated with grain handling and storage. \n Learn More
URL:https://www.agrisafe.org/event/grain-bin-safety-week/
CATEGORIES:Grain and Confined Space Safety,Hazards
ATTACH;FMTTYPE=image/jpeg:https://www.agrisafe.org/wp-content/uploads/2021/07/think-GBS-Social-Card-2020_Learn-More-Static.jpg
END:VEVENT
END:VCALENDAR