BEGIN:VCALENDAR
VERSION:2.0
PRODID:-//AgriSafe Network - ECPv6.15.20//NONSGML v1.0//EN
CALSCALE:GREGORIAN
METHOD:PUBLISH
X-WR-CALNAME:AgriSafe Network
X-ORIGINAL-URL:https://www.agrisafe.org
X-WR-CALDESC:Events for AgriSafe Network
REFRESH-INTERVAL;VALUE=DURATION:PT1H
X-Robots-Tag:noindex
X-PUBLISHED-TTL:PT1H
BEGIN:VTIMEZONE
TZID:America/Chicago
BEGIN:DAYLIGHT
TZOFFSETFROM:-0600
TZOFFSETTO:-0500
TZNAME:CDT
DTSTART:20200308T080000
END:DAYLIGHT
BEGIN:STANDARD
TZOFFSETFROM:-0500
TZOFFSETTO:-0600
TZNAME:CST
DTSTART:20201101T070000
END:STANDARD
BEGIN:DAYLIGHT
TZOFFSETFROM:-0600
TZOFFSETTO:-0500
TZNAME:CDT
DTSTART:20210314T080000
END:DAYLIGHT
BEGIN:STANDARD
TZOFFSETFROM:-0500
TZOFFSETTO:-0600
TZNAME:CST
DTSTART:20211107T070000
END:STANDARD
BEGIN:DAYLIGHT
TZOFFSETFROM:-0600
TZOFFSETTO:-0500
TZNAME:CDT
DTSTART:20220313T080000
END:DAYLIGHT
BEGIN:STANDARD
TZOFFSETFROM:-0500
TZOFFSETTO:-0600
TZNAME:CST
DTSTART:20221106T070000
END:STANDARD
END:VTIMEZONE
BEGIN:VEVENT
DTSTART;TZID=America/Chicago:20211206T150000
DTEND;TZID=America/Chicago:20211206T160000
DTSTAMP:20260425T102329
CREATED:20211104T175311Z
LAST-MODIFIED:20241204T222146Z
UID:5476-1638802800-1638806400@www.agrisafe.org
SUMMARY:Webinar: Hazard Mapping in the Ag Classroom (Invest in Your Health: Train the Trainer Series)
DESCRIPTION:Summary: A Hazard Map is a visual representation of the workplace where there are hazards that could cause injuries or illness. The Hazard Mapping method draws on what students know from their farming experience. Participants will learn about the Hazard Mapping curriculum and will be given access to all teacher and student materials after completing the webinar. \nIntended Audience: Teachers\, Extension staff\, 4H and FFA leaders\, and others who work with young adults. \nObjectives: At the conclusion of the program\, participants/educators will be able to: \n\nExamine the hazards in agricultural production\nIdentify and locate hazards so that those hazards can be targeted for elimination\nEmbrace a participatory process that involves as many students as possible\nRespect the vast array of skills\, experience\, and know-how that students have about their farm jobs and their dangers\nCollectively and creatively pool our knowledge and prioritize what problems to eliminate\n\n\n\nRegistration Instructions: \n\n\n\nIf you don’t already have a profile with AgriSafe\, please set up a free account. This free account allows you access to our many training opportunities. Once you have signed up\, you can watch this webinar on-demand. \n\n\n Watch the Recording Here
URL:https://www.agrisafe.org/event/invest-in-your-health-hazard-mapping-in-the-ag-classroom-2/
CATEGORIES:Cognition,Hazards,Health Education and Promotion,Youth Safety and Health
ORGANIZER;CN="Natalie Roy%2C MPH":MAILTO:info@agrisafe.org
END:VEVENT
BEGIN:VEVENT
DTSTART;TZID=America/Chicago:20211207T120000
DTEND;TZID=America/Chicago:20211207T130000
DTSTAMP:20260425T102329
CREATED:20211029T152716Z
LAST-MODIFIED:20241204T221738Z
UID:5389-1638878400-1638882000@www.agrisafe.org
SUMMARY:Webinar: Hazard Communications Standards
DESCRIPTION:Summary: This Hazard Communications Standards training program is intended for female workers and managers in the agricultural industry. This includes dairy farms and small farms that hire at-risk populations. The major focus of the program is on the identification of and the safe usage of chemicals and pesticides\, along with respiratory protection. \nObjectives: At the conclusion of the training\, participants will be able to: \n\nDescribe the purpose of OSHA’s Hazard Communication Standard (HCS)\nExplain the basic requirements of the Hazard Communication Standard\nDifferentiate between physical and health hazards of agricultural chemicals\nRecall the requirements of a written hazard communication program\nList the components of a hazard communication training program\nInterpret the information contained in Safety Data Sheets (SDS)\nDescribe the requirements and purpose of hazard warning labels.\n\nIntended Audience: \n\nSupervisor or Managers: This training is intended primarily for health and safety professionals including but not limited to owner/operators\, safety officers or specialists\, managers\, supervisors\, safety coordinators\, health safety and environmental interns\, and any person or persons who serve as safety personnel in an agricultural setting.\nProducers: This training is intended primarily for agricultural producers including but not limited to farmers\, ranchers\, and any person or persons involved in some combination of raising field crops\, orchards\, vineyards\, horticulture\, or other livestock.\n\n\n\nRegistration Instructions: \n\n\n\nIf you don’t already have a profile with AgriSafe\, please set up a free account. This free account allows you access to our many training opportunities. Once you have signed up\, you can watch this webinar on-demand. \n\n \n Watch the Recording Here
URL:https://www.agrisafe.org/event/hazard-communications-standards-2/
CATEGORIES:Hazards,OSHA Standards,Personal Protective Equipment,Pesticide & Chemical Safety
ORGANIZER;CN="Dan Neenan%2C MBA%2C Paramedic":MAILTO:info@agrisafe.org
END:VEVENT
END:VCALENDAR