BEGIN:VCALENDAR
VERSION:2.0
PRODID:-//AgriSafe Network - ECPv6.15.20//NONSGML v1.0//EN
CALSCALE:GREGORIAN
METHOD:PUBLISH
X-ORIGINAL-URL:https://www.agrisafe.org
X-WR-CALDESC:Events for AgriSafe Network
REFRESH-INTERVAL;VALUE=DURATION:PT1H
X-Robots-Tag:noindex
X-PUBLISHED-TTL:PT1H
BEGIN:VTIMEZONE
TZID:America/Chicago
BEGIN:DAYLIGHT
TZOFFSETFROM:-0600
TZOFFSETTO:-0500
TZNAME:CDT
DTSTART:20250309T080000
END:DAYLIGHT
BEGIN:STANDARD
TZOFFSETFROM:-0500
TZOFFSETTO:-0600
TZNAME:CST
DTSTART:20251102T070000
END:STANDARD
BEGIN:DAYLIGHT
TZOFFSETFROM:-0600
TZOFFSETTO:-0500
TZNAME:CDT
DTSTART:20260308T080000
END:DAYLIGHT
BEGIN:STANDARD
TZOFFSETFROM:-0500
TZOFFSETTO:-0600
TZNAME:CST
DTSTART:20261101T070000
END:STANDARD
BEGIN:DAYLIGHT
TZOFFSETFROM:-0600
TZOFFSETTO:-0500
TZNAME:CDT
DTSTART:20270314T080000
END:DAYLIGHT
BEGIN:STANDARD
TZOFFSETFROM:-0500
TZOFFSETTO:-0600
TZNAME:CST
DTSTART:20271107T070000
END:STANDARD
END:VTIMEZONE
BEGIN:VEVENT
DTSTART;TZID=America/Chicago:20260106T120000
DTEND;TZID=America/Chicago:20260106T130000
DTSTAMP:20260420T022804
CREATED:20251224T185532Z
LAST-MODIFIED:20260410T200406Z
UID:25031-1767700800-1767704400@www.agrisafe.org
SUMMARY:Webinar: Avian Influenza Prevention Measures for Dairy Workers - Roundtable Discussion with Stakeholders
DESCRIPTION:Summary:  Join this free webinar to learn the latest information on avian influenza threats affecting workers and animals in the dairy industry. Hear from industry leaders and public health researchers as they share current insights\, risks\, and prevention strategies. \nMeet the Presenters: Matthew Nonneman\, PhD\, CIH\, Professor\, UNMC Department of Environmental\, Agricultural and Occupational Health and Kris Bousquet\, Executive Director\, Nebraska State Dairy Association \n Register  \nTo register for this training\, you must have a free account in the AgriSafe Learning Lab. If you do not have an account\, please create one here.
URL:https://www.agrisafe.org/event/webinar-avian-influenza-prevention-measures-for-dairy-workers-roundtable-discussion-with-stakeholders/
CATEGORIES:Farmer/Worker Health,Hazards,Health Education and Promotion
ATTACH;FMTTYPE=image/png:https://www.agrisafe.org/wp-content/uploads/2025/12/Dairy-Cows.png
END:VEVENT
BEGIN:VEVENT
DTSTART;TZID=America/Chicago:20260108T120000
DTEND;TZID=America/Chicago:20260108T130000
DTSTAMP:20260420T022804
CREATED:20251120T222006Z
LAST-MODIFIED:20251120T222343Z
UID:24954-1767873600-1767877200@www.agrisafe.org
SUMMARY:Webinar: Empowering Farmers and Ranchers with Disabilities through Assistive Technology
DESCRIPTION:Summary: Join this session to learn how assistive technology is transforming agriculture for farmers and ranchers with disabilities—and how\, together\, we can build more inclusive rural communities. \nObjectives: During this presentation\, attendees will learn… \n Physical and cognitive disabilities can create real obstacles in daily farm operations. \n This might include mobility issues—like climbing onto a tractor or navigating rough terrain—or sensory impairments like limited vision or hearing. Cognitive disabilities\, such as those caused by brain injuries or conditions like PTSD\, can affect decision-making and time management. \n Beyond the physical\, there are economic and social challenges. \n Adaptive equipment can be costly\, and many rural communities lack support services. There’s also the stigma. Isolation. A lack of understanding. We will discuss that despite these challenges\, many farmers persevere—especially when given the right tools. \nIntended Audience: All people working with or in the agriculture community\, especially those with disabilities or working with people with disabilities. \nMeet the Presenter: Cindy Kovar\, BS\, CPST\, CarFit Technician & Coordinator\, AARP Certified Instructor \n Register  \nTo register for this training\, you must have a free account in the AgriSafe Learning Lab. If you do not have an account\, please create one here.
URL:https://www.agrisafe.org/event/webinar-empowering-farmers-and-ranchers-with-disabilities-through-assistive-technology/
CATEGORIES:Farmer/Worker Health,Hazards,Health Education and Promotion
ATTACH;FMTTYPE=image/png:https://www.agrisafe.org/wp-content/uploads/2025/11/Person-in-wheel-chair-in-field.png
END:VEVENT
BEGIN:VEVENT
DTSTART;TZID=America/Chicago:20260113T120000
DTEND;TZID=America/Chicago:20260113T130000
DTSTAMP:20260420T022804
CREATED:20251224T185815Z
LAST-MODIFIED:20251224T185832Z
UID:25034-1768305600-1768309200@www.agrisafe.org
SUMMARY:Webinar: Avian Influenza Prevention Measures for Poultry Workers - Roundtable Discussion with Stakeholders
DESCRIPTION:Summary:  Join this free webinar to learn the latest information on avian influenza threats affecting workers and animals in the poultry industry. Hear from industry leaders and public health researchers as they share current insights\, risks\, and prevention strategies. \nMeet the Presenters: Matthew Nonneman\, PhD\, CIH\, Professor\, UNMC Department of Environmental\, Agricultural and Occupational Health\, and Mathew Spencer\, CSP\, SHRM-CP\, Vice President HR & Safety Programs\, U.S. Poultry & Egg Association \n Register  \nTo register for this training\, you must have a free account in the AgriSafe Learning Lab. If you do not have an account\, please create one here.
URL:https://www.agrisafe.org/event/webinar-avian-influenza-prevention-measures-for-dairy-workers-roundtable-discussion-with-stakeholders-2/
CATEGORIES:Farmer/Worker Health,Hazards,Health Education and Promotion,Zoonotic Diseases
ATTACH;FMTTYPE=image/png:https://www.agrisafe.org/wp-content/uploads/2025/12/Poultry-farm.png
END:VEVENT
END:VCALENDAR