BEGIN:VCALENDAR
VERSION:2.0
PRODID:-//AgriSafe Network - ECPv6.15.20//NONSGML v1.0//EN
CALSCALE:GREGORIAN
METHOD:PUBLISH
X-WR-CALNAME:AgriSafe Network
X-ORIGINAL-URL:https://www.agrisafe.org
X-WR-CALDESC:Events for AgriSafe Network
REFRESH-INTERVAL;VALUE=DURATION:PT1H
X-Robots-Tag:noindex
X-PUBLISHED-TTL:PT1H
BEGIN:VTIMEZONE
TZID:America/Chicago
BEGIN:DAYLIGHT
TZOFFSETFROM:-0600
TZOFFSETTO:-0500
TZNAME:CDT
DTSTART:20240310T080000
END:DAYLIGHT
BEGIN:STANDARD
TZOFFSETFROM:-0500
TZOFFSETTO:-0600
TZNAME:CST
DTSTART:20241103T070000
END:STANDARD
BEGIN:DAYLIGHT
TZOFFSETFROM:-0600
TZOFFSETTO:-0500
TZNAME:CDT
DTSTART:20250309T080000
END:DAYLIGHT
BEGIN:STANDARD
TZOFFSETFROM:-0500
TZOFFSETTO:-0600
TZNAME:CST
DTSTART:20251102T070000
END:STANDARD
BEGIN:DAYLIGHT
TZOFFSETFROM:-0600
TZOFFSETTO:-0500
TZNAME:CDT
DTSTART:20260308T080000
END:DAYLIGHT
BEGIN:STANDARD
TZOFFSETFROM:-0500
TZOFFSETTO:-0600
TZNAME:CST
DTSTART:20261101T070000
END:STANDARD
END:VTIMEZONE
BEGIN:VEVENT
DTSTART;TZID=America/Chicago:20250926T110000
DTEND;TZID=America/Chicago:20250926T120000
DTSTAMP:20260420T022439
CREATED:20250722T220007Z
LAST-MODIFIED:20260331T180104Z
UID:24454-1758884400-1758888000@www.agrisafe.org
SUMMARY:Webinar: Safe Operation of ATVs and UTVs for Agriculture
DESCRIPTION:Summary: Explore the leading causes of injuries and fatalities involving ATVs and UTVs in agricultural settings. Learn practical safety strategies and best practices to help prevent accidents and protect the agricultural community. \nObjectives: At the end of this webinar\, participants will be able to: \n To raise ATV and UTV owners and operators’ awareness of the hazards and promote safe operation of these machines. \nIntended audience: Farmers\, ranchers\, parents\, agriculture production workers\, healthcare providers\, emergency medical services\, public health officials\, government and legislative leaders\, administrators. \nMeet the Presenter: Bernard W Kennett (Bernie)\,Contract Instructor\, New York Center for Agricultural Medicine and Health “NYCAMH” \n Watch the Recording  \nTo register for this training\, you must have a free account in the AgriSafe Learning Lab. If you do not have an account\, please create one here.
URL:https://www.agrisafe.org/event/webinar-safe-operation-of-atvs-and-utvs-for-agriculture/
CATEGORIES:Continuing Education,ERC,Farm Machinery & Tractor Safety,Farmer/Worker Health,Hazards,Health Education and Promotion,National Farm Safety and Health Week,Spanish Language
ATTACH;FMTTYPE=image/png:https://www.agrisafe.org/wp-content/uploads/2025/07/Friday-ATV-and-UTV-Safety-for-Workers-and-Families-in-Agriculture.png
END:VEVENT
BEGIN:VEVENT
DTSTART;TZID=America/Chicago:20250926T130000
DTEND;TZID=America/Chicago:20250926T140000
DTSTAMP:20260420T022439
CREATED:20250722T220317Z
LAST-MODIFIED:20250926T193456Z
UID:24456-1758891600-1758895200@www.agrisafe.org
SUMMARY:Webinar: Wheels of Misfortune: Off-Road Vehicles on Public Roadways
DESCRIPTION:Summary: Off-road vehicles\, including all-terrain vehicles (ATVs) and utility task vehicles (UTVs) are extremely popular and a common source of injury and death in rural areas\, especially farms and ranches. While the use of ATVs/UTVs on public roadways increases the likelihood of a crash with another vehicle\, the majority of roadway deaths and an even higher proportion of injuries on public roads are single ATV/UTV crashes not involving another motor vehicle. \nATVs/UTVs are designed for off-road use only\, and manufacturers have strongly stated that they should not be operated on public roadways. In fact\, the majority of deaths associated with these vehicles occur on public roads. Despite this\, an increasing number of states\, counties\, and municipalities across the country are passing laws allowing ATVs/UTVs to operate on public roadways for transportation and recreational purposes. During this presentation\, we will discuss the safety issues surrounding ATVs/UTVs on public roads and\, in particular\, the design elements of ATVs/UTVs that place their operators at greater risk on public roads. We will discuss how rural families can help protect themselves\, their families\, and employees from ATV/UTV-related crashes and injury. \nObjectives: At the end of this webinar\, participants will be able to: \n List at least three design features of ATVs and UTVs that contribute to crashes and subsequent injury\, and be able to discuss how these features make ATVs/UTVs vulnerable to problems on both paved and unpaved roads. \n Identify at least three other factors that contribute to ATV/UTV-related crashes and injuries\, and how they might decrease the risk to themselves\, their families\, and employees. \n Understand and appreciate ATV/UTV safety messages they might share with others\, and how they could be effective advocates for informed safety legislation regarding ATVs/UTVs. \nIntended audience: Farmers\, ranchers\, parents\, agriculture production workers\, healthcare providers\, emergency medical services\, public health officials\, government and legislative leaders\, administrators \nMeet the Presenter: Charles Jennissen\, MD\, Clinical Professor and Pediatric Emergency Medicine Physician\, University of Iowa Carver College of Medicine \n Watch the Recording  \nTo register for this training\, you must have a free account in the AgriSafe Learning Lab. If you do not have an account\, please create one here.
URL:https://www.agrisafe.org/event/webinar-wheels-of-misfortune-off-road-vehicles-on-public-roadways/
CATEGORIES:Continuing Education,ERC,Farm Machinery & Tractor Safety,Farmer/Worker Health,Hazards,Health Education and Promotion,National Farm Safety and Health Week,Spanish Language
ATTACH;FMTTYPE=image/png:https://www.agrisafe.org/wp-content/uploads/2025/07/ATV-on-road.png
END:VEVENT
END:VCALENDAR