BEGIN:VCALENDAR
VERSION:2.0
PRODID:-//AgriSafe Network - ECPv6.15.20//NONSGML v1.0//EN
CALSCALE:GREGORIAN
METHOD:PUBLISH
X-WR-CALNAME:AgriSafe Network
X-ORIGINAL-URL:https://www.agrisafe.org
X-WR-CALDESC:Events for AgriSafe Network
REFRESH-INTERVAL;VALUE=DURATION:PT1H
X-Robots-Tag:noindex
X-PUBLISHED-TTL:PT1H
BEGIN:VTIMEZONE
TZID:America/Chicago
BEGIN:DAYLIGHT
TZOFFSETFROM:-0600
TZOFFSETTO:-0500
TZNAME:CDT
DTSTART:20240310T080000
END:DAYLIGHT
BEGIN:STANDARD
TZOFFSETFROM:-0500
TZOFFSETTO:-0600
TZNAME:CST
DTSTART:20241103T070000
END:STANDARD
BEGIN:DAYLIGHT
TZOFFSETFROM:-0600
TZOFFSETTO:-0500
TZNAME:CDT
DTSTART:20250309T080000
END:DAYLIGHT
BEGIN:STANDARD
TZOFFSETFROM:-0500
TZOFFSETTO:-0600
TZNAME:CST
DTSTART:20251102T070000
END:STANDARD
BEGIN:DAYLIGHT
TZOFFSETFROM:-0600
TZOFFSETTO:-0500
TZNAME:CDT
DTSTART:20260308T080000
END:DAYLIGHT
BEGIN:STANDARD
TZOFFSETFROM:-0500
TZOFFSETTO:-0600
TZNAME:CST
DTSTART:20261101T070000
END:STANDARD
END:VTIMEZONE
BEGIN:VEVENT
DTSTART;TZID=America/Chicago:20250925T110000
DTEND;TZID=America/Chicago:20250925T120000
DTSTAMP:20260420T022440
CREATED:20250722T215333Z
LAST-MODIFIED:20250925T213138Z
UID:24449-1758798000-1758801600@www.agrisafe.org
SUMMARY:Webinar: Confined Spaces in Agriculture
DESCRIPTION:Summary: During this webinar\, we will explore the dangers of confined spaces in agriculture\, including grain bins and manure pits\, and the hazards involved in working with each. \nObjectives: At the end of this webinar\, participants will be able to… \n Raise awareness regarding the high incidence of farm injuries and fatalities. \n Increase knowledge of the serious nature of agricultural injuries. \n Increase knowledge of the circumstances that lead to agricultural injuries and fatalities. \n Increase knowledge regarding the difficulties associated with conducting an on the farm incidents. \n Learn how to treat a patient with near-drowning in manure pits. \n Learn to treat someone overcome by Carbon dioxide\, H2S\, and low oxygen. \nIntended audience: Farmers\, ranchers\, agribusiness employers/employees\, and safety personnel \nMeet the Presenter: Dan Neenan\, MBA\, Paramedic\, Fire Instructor\, Director\, National Education Center for Agricultural Safety \n Watch the Recording  \nTo register for this training\, you must have a free account in the AgriSafe Learning Lab. If you do not have an account\, please create one here.
URL:https://www.agrisafe.org/event/webinar-confined-spaces-in-agriculture/
CATEGORIES:Continuing Education,ERC,Farmer/Worker Health,Grain and Confined Space Safety,Health Education and Promotion,National Farm Safety and Health Week,Spanish Language
ATTACH;FMTTYPE=image/png:https://www.agrisafe.org/wp-content/uploads/2025/07/Thursday-Agricultural-Confined-Spaces.png
ORGANIZER;CN="Dan Neenan%2C MBA%2C Paramedic":MAILTO:info@agrisafe.org
END:VEVENT
BEGIN:VEVENT
DTSTART;TZID=America/Chicago:20250925T130000
DTEND;TZID=America/Chicago:20250925T140000
DTSTAMP:20260420T022440
CREATED:20250722T215728Z
LAST-MODIFIED:20250925T213043Z
UID:24451-1758805200-1758808800@www.agrisafe.org
SUMMARY:Webinar: AgriSafe Natural Disaster Recovery Response Think Tank
DESCRIPTION:Summary: Join AgriSafe for a dynamic and collaborative session focused on strengthening disaster readiness\, response\, and recovery efforts in agricultural and rural communities. This think tank will explore existing resources\, highlight critical gaps in infrastructure and preparedness\, and facilitate a collective dialogue on how to build more resilient systems. Natural disasters can strike without warning\, and being prepared can save lives\, livelihoods\, and communities. Your voice matters in shaping effective responses before\, during\, and after a disaster. We hope you’ll be part of the conversation.   \nObjectives: At the end of this webinar\, participants will be able to… \n Understand the current challenges and infrastructure gaps in rural disaster response.   \n Identify and describe at least three key resources available for natural disaster recovery.   \n Contribute to a collaborative effort to improve disaster preparedness and support systems in agricultural communities.   \n Intended Audience: Agricultural workers\, rural residents\, Extension professionals\, health and safety advocates\, emergency preparedness personnel\, and anyone invested in the well-being of agricultural communities \nMeet the Presenter: Natalie Roy\, MPH\, Chief Executive Officer\, AgriSafe Network \n Watch the Recording  \nTo register for this training\, you must have a free account in the AgriSafe Learning Lab. If you do not have an account\, please create one here.
URL:https://www.agrisafe.org/event/webinar-agrisafe-natural-disaster-recovery-response-think-tank/
CATEGORIES:Continuing Education,ERC,Farmer/Worker Health,Floods,Health Education and Promotion,National Farm Safety and Health Week,Spanish Language
ATTACH;FMTTYPE=image/png:https://www.agrisafe.org/wp-content/uploads/2025/07/Thursday-AgriSafe-Think-Tank.png
ORGANIZER;CN="Natalie Roy%2C MPH":MAILTO:info@agrisafe.org
END:VEVENT
END:VCALENDAR