BEGIN:VCALENDAR
VERSION:2.0
PRODID:-//AgriSafe Network - ECPv6.15.20//NONSGML v1.0//EN
CALSCALE:GREGORIAN
METHOD:PUBLISH
X-WR-CALNAME:AgriSafe Network
X-ORIGINAL-URL:https://www.agrisafe.org
X-WR-CALDESC:Events for AgriSafe Network
REFRESH-INTERVAL;VALUE=DURATION:PT1H
X-Robots-Tag:noindex
X-PUBLISHED-TTL:PT1H
BEGIN:VTIMEZONE
TZID:America/Chicago
BEGIN:DAYLIGHT
TZOFFSETFROM:-0600
TZOFFSETTO:-0500
TZNAME:CDT
DTSTART:20240310T080000
END:DAYLIGHT
BEGIN:STANDARD
TZOFFSETFROM:-0500
TZOFFSETTO:-0600
TZNAME:CST
DTSTART:20241103T070000
END:STANDARD
BEGIN:DAYLIGHT
TZOFFSETFROM:-0600
TZOFFSETTO:-0500
TZNAME:CDT
DTSTART:20250309T080000
END:DAYLIGHT
BEGIN:STANDARD
TZOFFSETFROM:-0500
TZOFFSETTO:-0600
TZNAME:CST
DTSTART:20251102T070000
END:STANDARD
BEGIN:DAYLIGHT
TZOFFSETFROM:-0600
TZOFFSETTO:-0500
TZNAME:CDT
DTSTART:20260308T080000
END:DAYLIGHT
BEGIN:STANDARD
TZOFFSETFROM:-0500
TZOFFSETTO:-0600
TZNAME:CST
DTSTART:20261101T070000
END:STANDARD
END:VTIMEZONE
BEGIN:VEVENT
DTSTART;TZID=America/Chicago:20250924T110000
DTEND;TZID=America/Chicago:20250924T120000
DTSTAMP:20260420T022440
CREATED:20250722T214049Z
LAST-MODIFIED:20260312T145405Z
UID:24441-1758711600-1758715200@www.agrisafe.org
SUMMARY:Webinar: Communication Coaching to Support Farm Harmony Across Generations
DESCRIPTION:Summary: Communication coaching is a specific program with a method that works with the members of farm teams and farm families to make decision making\, goal setting\, and conversations in general\, better. This presentation will address generational differences\, share communication teaching ideas\, and discuss a specific 4-session coaching program that participants may be interested in adapting. \nObjectives: At the end of this webinar\, participants will: \n Be able to consider generational differences and perspectives\, and how communication skills can support people to have better conversations. \n Learn about a specific coaching program designed to identify specific problems and opportunities. \n Learn about activities and strategies used by coaches. \n Understand the benefit of sharing specific communication skills in the interest of promoting harmony across the members of a farm team. \nIntended audience: \n\nService providers who work with farmers on succession\, provide technical assistance\, and recognize that oftentimes nothing can happen without first addressing human needs.\nFarmers interested in a big-picture look at farm coaching (this is not a communication workshop).\n\nMeet the Presenter: Leslie Forstadt\, PhD\, Extension Professor and Human Development Specialist\, University of Maine Cooperative Extension \n Watch the Recording  \nTo register for this training\, you must have a free account in the AgriSafe Learning Lab. If you do not have an account\, please create one here.
URL:https://www.agrisafe.org/event/webinar-communication-coaching-to-support-farm-harmony-across-generations/
CATEGORIES:Cognition,Continuing Education,ERC,Health Education and Promotion,Mental Health,National Farm Safety and Health Week,Spanish Language
ATTACH;FMTTYPE=image/png:https://www.agrisafe.org/wp-content/uploads/2025/07/Wednesday-Communication-Coaching-to-Support-Farm-Harmony-Across-Generations-option-2.png
END:VEVENT
BEGIN:VEVENT
DTSTART;TZID=America/Chicago:20250924T130000
DTEND;TZID=America/Chicago:20250924T140000
DTSTAMP:20260420T022440
CREATED:20250722T214629Z
LAST-MODIFIED:20260312T144853Z
UID:24443-1758718800-1758722400@www.agrisafe.org
SUMMARY:Webinar: Too Young to Plow Alone: Keeping Youth Safe on the Farm with AYWG & HAYWG
DESCRIPTION:Summary: This webinar will focus on practical strategies to ensure the safety and well-being of youth working on farms\, using the Agricultural Youth Work Guidelines (AYWG) and the Hired Agricultural Youth Work Guidelines (HAYWG). This will underscore the importance of aligning job tasks with a child’s developmental abilities\, rather than age alone\, to prevent injury and promote a safe working environment. \nThrough real-life examples\, current data\, and evidence-based guidelines\, this session will help participants evaluate tasks\, implement safer work practices\, and understand federal and state labor laws related to youth in agriculture. Special attention is given to preventing injuries involving tractors\, machinery\, and hazardous work that young children may not be developmentally ready to perform \nObjectives: At the end of this webinar\, participants will be able to… \n Recognize the Risks: Identify the leading causes of youth injury and fatality on farms\, especially related to age-inappropriate tasks. \n Understand the Guidelines: Gain familiarity with the Agricultural Youth Work Guidelines (AYWG) and the Hired Agricultural Youth Work Guidelines (HAYWG) tools for matching farm tasks with a youth’s age and developmental stage. \n Apply Development-Based Safety Practices: Use evidence-based resources to determine whether a young person is physically\, cognitively\, and emotionally prepared to safely perform specific agricultural tasks. \n Comply with Labor Laws: Understand how to comply with the Fair Labor Standards Act (FLSA) and any relevant state laws regarding youth employment in agriculture. \n Implement Practical Safety Steps: Learn actionable strategies to reduce risks on the farm\, such as supervision protocols\, training\, safety checklists\, and equipment restrictions for young workers. \n Promote a Culture of Safety: Encourage a mindset that prioritizes youth safety and supports long-term injury prevention and responsible mentorship on farms. \nIntended Audience: Farm parents and agricultural employers who hire youth workers. \nMeet the Presenter: Melissa Ploeckelman Brown\, Outreach Specialist\, National Children’s Center for Rural and Agricultural Health and Safety (NCCRAHS) \n Watch the Recording  \nTo register for this training\, you must have a free account in the AgriSafe Learning Lab. If you do not have an account\, please create one here.
URL:https://www.agrisafe.org/event/webinar-too-young-to-plow-alone-keeping-youth-safe-on-the-farm-with-aywg-haywg/
CATEGORIES:Continuing Education,ERC,Farm Machinery & Tractor Safety,Farmer/Worker Health,Health Education and Promotion,National Farm Safety and Health Week,Spanish Language,Youth Safety and Health
ATTACH;FMTTYPE=image/png:https://www.agrisafe.org/wp-content/uploads/2025/07/NFSWH25-teen-work.png
ORGANIZER;CN="Melissa Ploeckelman Brown":MAILTO:info@agrisafe.org
END:VEVENT
END:VCALENDAR