BEGIN:VCALENDAR
VERSION:2.0
PRODID:-//AgriSafe Network - ECPv6.15.20//NONSGML v1.0//EN
CALSCALE:GREGORIAN
METHOD:PUBLISH
X-WR-CALNAME:AgriSafe Network
X-ORIGINAL-URL:https://www.agrisafe.org
X-WR-CALDESC:Events for AgriSafe Network
REFRESH-INTERVAL;VALUE=DURATION:PT1H
X-Robots-Tag:noindex
X-PUBLISHED-TTL:PT1H
BEGIN:VTIMEZONE
TZID:America/Chicago
BEGIN:DAYLIGHT
TZOFFSETFROM:-0600
TZOFFSETTO:-0500
TZNAME:CDT
DTSTART:20230312T080000
END:DAYLIGHT
BEGIN:STANDARD
TZOFFSETFROM:-0500
TZOFFSETTO:-0600
TZNAME:CST
DTSTART:20231105T070000
END:STANDARD
BEGIN:DAYLIGHT
TZOFFSETFROM:-0600
TZOFFSETTO:-0500
TZNAME:CDT
DTSTART:20240310T080000
END:DAYLIGHT
BEGIN:STANDARD
TZOFFSETFROM:-0500
TZOFFSETTO:-0600
TZNAME:CST
DTSTART:20241103T070000
END:STANDARD
BEGIN:DAYLIGHT
TZOFFSETFROM:-0600
TZOFFSETTO:-0500
TZNAME:CDT
DTSTART:20250309T080000
END:DAYLIGHT
BEGIN:STANDARD
TZOFFSETFROM:-0500
TZOFFSETTO:-0600
TZNAME:CST
DTSTART:20251102T070000
END:STANDARD
END:VTIMEZONE
BEGIN:VEVENT
DTSTART;VALUE=DATE:20241229
DTEND;VALUE=DATE:20241230
DTSTAMP:20260420T194302
CREATED:20221130T142321Z
LAST-MODIFIED:20250102T192416Z
UID:13091-1735430400-1735516799@www.agrisafe.org
SUMMARY:FarmResponse
DESCRIPTION:FarmResponse® is an On-Demand 3.5-hour continuing education course developed by national experts from the AgriStress Response® Network. AgriSafe’s FarmResponse course provides the full range of competencies necessary to provide appropriate mental healthcare for agricultural producers and their families. This knowledge is critical for a healthcare professional to effectively care for a farmer’s total health. \n\nPeople that live in or are licensed to practice in certain states are eligible to take FarmResponse for free. Review the states currently participating and submit an inquiry form to take FarmResponse for free! \n\n\n\n Learn More
URL:https://www.agrisafe.org/event/farmresponse/
CATEGORIES:ANCC,Continuing Education,ERC,Mental Health
END:VEVENT
END:VCALENDAR