BEGIN:VCALENDAR
VERSION:2.0
PRODID:-//AgriSafe Network - ECPv6.15.20//NONSGML v1.0//EN
CALSCALE:GREGORIAN
METHOD:PUBLISH
X-WR-CALNAME:AgriSafe Network
X-ORIGINAL-URL:https://www.agrisafe.org
X-WR-CALDESC:Events for AgriSafe Network
REFRESH-INTERVAL;VALUE=DURATION:PT1H
X-Robots-Tag:noindex
X-PUBLISHED-TTL:PT1H
BEGIN:VTIMEZONE
TZID:America/Chicago
BEGIN:DAYLIGHT
TZOFFSETFROM:-0600
TZOFFSETTO:-0500
TZNAME:CDT
DTSTART:20230312T080000
END:DAYLIGHT
BEGIN:STANDARD
TZOFFSETFROM:-0500
TZOFFSETTO:-0600
TZNAME:CST
DTSTART:20231105T070000
END:STANDARD
BEGIN:DAYLIGHT
TZOFFSETFROM:-0600
TZOFFSETTO:-0500
TZNAME:CDT
DTSTART:20240310T080000
END:DAYLIGHT
BEGIN:STANDARD
TZOFFSETFROM:-0500
TZOFFSETTO:-0600
TZNAME:CST
DTSTART:20241103T070000
END:STANDARD
BEGIN:DAYLIGHT
TZOFFSETFROM:-0600
TZOFFSETTO:-0500
TZNAME:CDT
DTSTART:20250309T080000
END:DAYLIGHT
BEGIN:STANDARD
TZOFFSETFROM:-0500
TZOFFSETTO:-0600
TZNAME:CST
DTSTART:20251102T070000
END:STANDARD
END:VTIMEZONE
BEGIN:VEVENT
DTSTART;TZID=America/Chicago:20240916T110000
DTEND;TZID=America/Chicago:20240916T120000
DTSTAMP:20260421T015443
CREATED:20240718T141428Z
LAST-MODIFIED:20241230T214027Z
UID:19976-1726484400-1726488000@www.agrisafe.org
SUMMARY:NFSHW24: Skid Loader Safety
DESCRIPTION:Summary: Skid loaders are useful and versatile machines in the hands of appropriate operators. To utilize them to their utmost\, we must understand there is inherent risk in the operation of the machine. This class will talk over some of the basics of skid loader operation including why there should be no passengers\, proper transport\, safety features\, and blind spots.  \nIntended Audience: Employees that drive Skid Steers and their supervisors \nObjectives: At the end of this webinar\, participants will be able to… \n\nDiscuss statistics regarding skid loader accidents (injuries & fatalities) \nRecognize the need for operators to understand the manual \nDiscuss maintenance\, upkeep\, and repair \nDiscuss the need for proper securement when transporting \nReview various warning labels \nDiscuss crush and pinch points \n\nPresenter: Dan Neenan\, MBA\, Paramedic\,Director – National Education Center for Agricultural Safety  \n  \n Watch the Recording  \n  \nThis material was produced under grant #SH-000099-SH3 from the Occupational Safety and Health Administration\, U.S. Department of Labor. It does not necessarily reflect the views or policies of the U.S. Department of Labor\, nor does mention of trade names\, commercial products\, or organizations imply endorsement by the U.S. Government. \n  \n\nContinuing Education:\nThe University of Cincinnati\, Department of Environmental and Public Health Sciences\, Education and Research Center offers XX contact hours for this activity. Upon completing the evaluation\, learners will receive a certificate of completion. This course can meet continuing education requirements for a variety of professionals including: BGC criteria for IH/CIH professionals\, BCSP criteria for safety professionals\, CPH criteria for public health professionals. Please contact your accrediting agency regarding questions about receiving credits for this activity. \n\n 
URL:https://www.agrisafe.org/event/nfshw24-skid-loader-safety/
LOCATION:NFSHW2024
CATEGORIES:Continuing Education,ERC,Farm Machinery & Tractor Safety,Farmer/Worker Health,National Farm Safety and Health Week
ATTACH;FMTTYPE=image/png:https://www.agrisafe.org/wp-content/uploads/2024/07/Skid-Loader-Safety.png
ORGANIZER;CN="Dan Neenan%2C MBA%2C Paramedic":MAILTO:info@agrisafe.org
END:VEVENT
BEGIN:VEVENT
DTSTART;TZID=America/Chicago:20240916T130000
DTEND;TZID=America/Chicago:20240916T140000
DTSTAMP:20260421T015443
CREATED:20240718T141438Z
LAST-MODIFIED:20260408T154101Z
UID:19990-1726491600-1726495200@www.agrisafe.org
SUMMARY:NFSHW24: Sharing the Road: Agricultural Equipment and the Driving Public
DESCRIPTION:Summary: A collision between agriculture equipment and a passenger vehicles on a roadway often result in serious injury or fatalities. Ag equipment is much larger and heavier than personal vehicles.  As agriculture changes\, even in rural areas\, there are fewer residents that are familiar with ag equipment and may not have an understanding how the equipment on the roadway can affect them.  A decision to pass\, follow closely\, or failure to provide space when meeting equipment on a two-lane road can have consequences.  Furthermore\, as metropolitan areas expand further into agriculture communities\, farmers will meet even more personal vehicles in places they are not expecting them that are not aware of the precautions that they need to take when meeting or passing ag equipment.  Farmers also have responsibility when driving on rural roadways\, they need to be aware of vehicles around them\, how much of the road they are taking up\, and that they are using the equipment’s lighting and signage properly. This webinar is to provide an understanding of where the interaction between agriculture machines and non-rural traffic is occurring\, what are some of the more common types of incidents that are occurring\, and what resources are available to reduce ag equipment and regular vehicle incidents.  \nIntended Audience:  Driving public\, producers\, and ag service providers  \nObjectives: At the end of this webinar\, participants will be able to… \n\nTypes of roadway incidents involving ag equipment that occur \nWhere many of these incidents occur \nThe lighting and marking available on modern agricultural equipment \nWhat resources are available to help producers be seen on roadways. \n\nPresenter: Ed Brokesh\, PhD\, MBA\, BS Ag Engineering\nAssistant Professor\, Carl and Melinda Helwig Bio and Ag Engineering Department\, Kansas State University  \n  \n Watch the Recording Here  \n  \n\nContinuing Education: The University of Cincinnati\, Department of Environmental and Public Health Sciences\, Education and Research Center offers 1. 0 contact hours for this activity. Upon completing the evaluation\, learners will receive a certificate of completion. This course can meet continuing education requirements for a variety of professionals including: BGC criteria for IH/CIH professionals\, BCSP criteria for safety professionals\, CPH criteria for public health professionals. Please contact your accrediting agency regarding questions about receiving credits for this activity. \n\n  \n  \nA special thank you to our NFSHW sponsors: \n\n\n\n\n        \n            \n                                \n                                        \n                        \n                            \n                            Western Center for Agricultural Health and SafetyNational Corn Growers AssociationSouthwest Center for Ag Health\, Injury Prevention\, and EducationAgri-Services AgencyGreenPoint AgSouthernCoastalCenterforAgHSPork CheckoffNational Corn Growers AssociationCHSSuccessful FarmingMorning AgClipsSoutheast Center for Agricultural Health and Injury Prevention
URL:https://www.agrisafe.org/event/nfshw24-sharing-the-road-agricultural-equipment-and-the-driving-public/
LOCATION:NFSHW2024
CATEGORIES:Continuing Education,ERC,Farm Machinery & Tractor Safety,Farmer/Worker Health,National Farm Safety and Health Week
ATTACH;FMTTYPE=image/png:https://www.agrisafe.org/wp-content/uploads/2024/07/Sharing-the-Roadway.png
END:VEVENT
END:VCALENDAR