BEGIN:VCALENDAR
VERSION:2.0
PRODID:-//AgriSafe Network - ECPv6.15.20//NONSGML v1.0//EN
CALSCALE:GREGORIAN
METHOD:PUBLISH
X-WR-CALNAME:AgriSafe Network
X-ORIGINAL-URL:https://www.agrisafe.org
X-WR-CALDESC:Events for AgriSafe Network
REFRESH-INTERVAL;VALUE=DURATION:PT1H
X-Robots-Tag:noindex
X-PUBLISHED-TTL:PT1H
BEGIN:VTIMEZONE
TZID:America/Chicago
BEGIN:DAYLIGHT
TZOFFSETFROM:-0600
TZOFFSETTO:-0500
TZNAME:CDT
DTSTART:20240310T080000
END:DAYLIGHT
BEGIN:STANDARD
TZOFFSETFROM:-0500
TZOFFSETTO:-0600
TZNAME:CST
DTSTART:20241103T070000
END:STANDARD
BEGIN:DAYLIGHT
TZOFFSETFROM:-0600
TZOFFSETTO:-0500
TZNAME:CDT
DTSTART:20250309T080000
END:DAYLIGHT
BEGIN:STANDARD
TZOFFSETFROM:-0500
TZOFFSETTO:-0600
TZNAME:CST
DTSTART:20251102T070000
END:STANDARD
BEGIN:DAYLIGHT
TZOFFSETFROM:-0600
TZOFFSETTO:-0500
TZNAME:CDT
DTSTART:20260308T080000
END:DAYLIGHT
BEGIN:STANDARD
TZOFFSETFROM:-0500
TZOFFSETTO:-0600
TZNAME:CST
DTSTART:20261101T070000
END:STANDARD
END:VTIMEZONE
BEGIN:VEVENT
DTSTART;TZID=America/Chicago:20251105T120000
DTEND;TZID=America/Chicago:20251105T130000
DTSTAMP:20260419T214440
CREATED:20251020T160520Z
LAST-MODIFIED:20260312T143234Z
UID:24846-1762344000-1762347600@www.agrisafe.org
SUMMARY:Webinar: New World Screwworm - Information for Healthcare Providers
DESCRIPTION:Summary: This session will review the clinical features\, specimen handling\, epidemiologic clues\, and reporting steps for New World screwworm myiasis so clinicians can recognize when to consider this rare but serious parasitic infestation\, emphasizing that common wound etiologies remain far more likely and that screwworm should be a low-probability diagnosis except when compatible wounds\, visible larvae\, and recent travel/exposure to endemic areas are present. \nObjectives: At the end of this presentation\, participants will be able to… \n Recognize key signs of New World screwworm myiasis and when to suspect it. \n Manage initial bedside care: remove larvae\, care for the wound\, and preserve specimens. \n Report suspected cases and communicate relevant travel or animal-exposure history to appropriate officials \nIntended Audience: Healthcare professionals\, community health workers\, and anyone interested in learning more about the topic \nMeet the Presenter: Andrew Hennenfent\, DVM\, MPH\, DACVPM\, State Public Health Veterinarian\, Iowa Department of Health and Human Services \nTo register for this training\, you must have a free account in the AgriSafe Learning Lab. If you do not have an account\, please create one here. \n Register  \n  \nContinuing Education Information\nContinuing Medical Education: This activity has been planned and implemented in accordance with the accreditation requirements and policies of the Accreditation Council for Continuing Medical Education (ACCME) through the joint providership of the Minnesota Medical Association and AgriSafe Network. The Minnesota Medical Association (MMA) is accredited by the Accreditation Council for Continuing Medical Education to provide continuing medical education for physicians. The Minnesota Medical Association designates this live activity for a maximum of 1 AMA PRA Category 1 Credit™. Physicians should claim only the credit commensurate with the extent of their participation in the activity. \n  \n\nContinuing Education for Multiple Disciplines: The University of Cincinnati\, Department of Environmental and Public Health Sciences\, Education and Research Center offers contact hours for this activity. Upon completing the evaluation\, learners will receive a certificate of completion. This course can meet continuing education requirements for a variety of professionals including: BGC criteria for IH/CIH professionals\, BCSP criteria for safety professionals\, and CPH criteria for public health professionals. \nPlease contact your accrediting agency regarding questions about receiving credits for this activity. \n 
URL:https://www.agrisafe.org/event/webinar-new-world-screwworm-information-for-healthcare-providers/
CATEGORIES:Continuing Education,ERC,Health Education and Promotion,Zoonotic Diseases
ATTACH;FMTTYPE=image/png:https://www.agrisafe.org/wp-content/uploads/2025/10/New-World-Screwworm-Webinar-Promo-Image.png
END:VEVENT
BEGIN:VEVENT
DTSTART;TZID=America/Chicago:20251113T130000
DTEND;TZID=America/Chicago:20251113T140000
DTSTAMP:20260419T214440
CREATED:20250910T151338Z
LAST-MODIFIED:20260413T194227Z
UID:24770-1763038800-1763042400@www.agrisafe.org
SUMMARY:Webinar: Naloxone Training: Responding to Opioid Overdose
DESCRIPTION:Summary: Overdose deaths are a leading cause of injury-related death in the United States and the majority of overdose deaths involve opioids. This epidemic is impacting communities all across the country. Naloxone is a life-saving medication that can reverse an overdose from opioids when given in time. This session is designed to prepare communities and non-medical public and safety professionals to recognize and respond to an opioid overdose. Participants will learn the warning signs of opioid overdose and how to intervene safely using naloxone. \nIntended Audience: All communities\, academia\, workplace employers and employees \nObjectives: At the end of this webinar participants will be able to… \n\nIdentify risk factors for opioid intentional and nonintentional overdose\nRecognize the signs of opioid overdose\nRespond effectively to an opioid overdose\nCorrectly administer intranasal naloxone\n\nPresenter: Tara Haskins\, DNP\, MSN\, RN\, AHN-BC\, Total Farmer Health Director\, AgriSafe Network \n  \n Register Here  \n\nContinuing Education Information: \nFor Multiple Disciplines: This course is jointly provided by the University of Michigan Center for Occupational Health and Safety Engineering. \n \nFor Community Health Workers: CHW and/or CHW-I CEUs are available through the University of Texas at Tyler Health Science Center\, Center for Community & Rural Health Education. See individual course for additional information.
URL:https://www.agrisafe.org/event/webinar-naloxone-training-responding-to-opioid-overdose-3/
CATEGORIES:Continuing Education,ERC,Mental Health,Opioids
ATTACH;FMTTYPE=image/png:https://www.agrisafe.org/wp-content/uploads/2024/02/opioid-crisis.png
ORGANIZER;CN="Tara Haskins%2C DNP%2C MSN%2C RN%2C AHN-BC":MAILTO:info@agrisafe.org
END:VEVENT
BEGIN:VEVENT
DTSTART;TZID=America/Chicago:20251117T140000
DTEND;TZID=America/Chicago:20251117T153000
DTSTAMP:20260419T214440
CREATED:20250904T130714Z
LAST-MODIFIED:20251023T152127Z
UID:24719-1763388000-1763393400@www.agrisafe.org
SUMMARY:Webinar: Conversations on Access to Lethal Means (CALM) Training
DESCRIPTION:Summary: CALM (Conversations on Access to Lethal Means) is a suicide prevention training that encourages the safe storage of lethal means (firearms and medications) during a suicidal crisis. By temporarily putting time and distance between a suicidal person and highly lethal means\, a life may be saved. CALM: Counseling on Access to Lethal Means was originally created as a workshop designed for mental health professionals. \nConversations on Access to Lethal Means were developed for communities because everyone can benefit from this training. This training is not anti-gun or anti-drug and is designed to be a specific effective part of suicide prevention. \nIntended Audience: All communities of interest in suicide prevention \nObjectives: At the end of this webinar\, participants will be able to… \n\nIncrease their knowledge about suicide facts\nLearn how to inquire about the accessibility of lethal means\nLearn how to suggest safe storage\nAppraise results of lethal means reduction in countries outside the U.S.\nPractice their new skills through group discussion\n\nPresenters: Olivia Bury\, MA\, LPC\, Behavioral Health Coordinator \n  \n Register Here  \n  \nContinuing Education Information:\nFor Multiple Disciplines: This course is jointly provided by the University of Michigan Center for Occupational Health and Safety Engineering. \n \n  \nFor Community Health Workers: CHW and/or CHW-I CEUs are available through the University of Texas at Tyler Health Science Center\, Center for Community & Rural Health Education. See individual courses for additional information.
URL:https://www.agrisafe.org/event/webinar-conversations-on-access-to-lethal-means-calm-training-3/
CATEGORIES:CALM,CHW,Continuing Education,ERC,Farmer/Worker Health,Mental Health
ATTACH;FMTTYPE=image/jpeg:https://www.agrisafe.org/wp-content/uploads/2024/05/CALM-Image-7.2.24.jpg
END:VEVENT
END:VCALENDAR