BEGIN:VCALENDAR
VERSION:2.0
PRODID:-//AgriSafe Network - ECPv6.15.20//NONSGML v1.0//EN
CALSCALE:GREGORIAN
METHOD:PUBLISH
X-ORIGINAL-URL:https://www.agrisafe.org
X-WR-CALDESC:Events for AgriSafe Network
REFRESH-INTERVAL;VALUE=DURATION:PT1H
X-Robots-Tag:noindex
X-PUBLISHED-TTL:PT1H
BEGIN:VTIMEZONE
TZID:America/Chicago
BEGIN:DAYLIGHT
TZOFFSETFROM:-0600
TZOFFSETTO:-0500
TZNAME:CDT
DTSTART:20220313T080000
END:DAYLIGHT
BEGIN:STANDARD
TZOFFSETFROM:-0500
TZOFFSETTO:-0600
TZNAME:CST
DTSTART:20221106T070000
END:STANDARD
BEGIN:DAYLIGHT
TZOFFSETFROM:-0600
TZOFFSETTO:-0500
TZNAME:CDT
DTSTART:20230312T080000
END:DAYLIGHT
BEGIN:STANDARD
TZOFFSETFROM:-0500
TZOFFSETTO:-0600
TZNAME:CST
DTSTART:20231105T070000
END:STANDARD
BEGIN:DAYLIGHT
TZOFFSETFROM:-0600
TZOFFSETTO:-0500
TZNAME:CDT
DTSTART:20240310T080000
END:DAYLIGHT
BEGIN:STANDARD
TZOFFSETFROM:-0500
TZOFFSETTO:-0600
TZNAME:CST
DTSTART:20241103T070000
END:STANDARD
END:VTIMEZONE
BEGIN:VEVENT
DTSTART;TZID=America/Chicago:20231026T120000
DTEND;TZID=America/Chicago:20231026T130000
DTSTAMP:20260424T135500
CREATED:20231006T165400Z
LAST-MODIFIED:20241127T155610Z
UID:16877-1698321600-1698325200@www.agrisafe.org
SUMMARY:Webinar: A Review of the Literature for Forestry Health and Safety: The Last Ten Years
DESCRIPTION:Summary: Foresters and loggers work in the most hazardous industries with high job-related injury\, illness\, and fatality rates. This workforce faces unique environmental exposures\, ergonomic challenges\, and health disparities across all ages. The last comprehensive literature review in forestry health and safety for NIOSH was completed in 2012. Under a NIOSH IPA project\, AgriSafe conducted a forestry health and safety literature review for publications from 2012 to 2022.  \nThe objectives of this review were: \n\nUncover the health and safety issues currently facing the forestry and logging workforce.\nIdentify any new trends or topics in the literature.\nIdentify areas of training and health needs.\nIdentify healthcare access issues impacting the forestry workforce.\n\nFinal results of this project will be shared with the audience. Findings in this project will contribute to NIOSH’s priorities for forestry occupational health and safety and the literature. The literature review will inform and prioritize future forestry training needs through AgriSafe’s OSHA forestry training projects. \nObjectives: At the end of this webinar\, participants will be able to: \n\nSummarize the findings of the literature review.\nIdentify areas of training and health needs in health and safety for forestry workers.\n\nIntended Audience: This course is intended for agricultural safety/forestry professionals working in the industry\, extension\, academia\, or safety centers and workers in forestry and logging\, including logging owners and first-line supervisors/managers of forestry workers. \n Watch the Recording Here
URL:https://www.agrisafe.org/event/webinar-a-review-of-the-literature-for-forestry-health-and-safety-the-last-ten-years/
CATEGORIES:Forestry
ATTACH;FMTTYPE=image/jpeg:https://www.agrisafe.org/wp-content/uploads/2023/10/Logs-with-Douglas-Fir-Background-scaled.jpg
ORGANIZER;CN="Knesha Rose-Davison%2C MPH%2C CPH":MAILTO:info@agrisafe.org
END:VEVENT
END:VCALENDAR