BEGIN:VCALENDAR
VERSION:2.0
PRODID:-//AgriSafe Network - ECPv6.15.20//NONSGML v1.0//EN
CALSCALE:GREGORIAN
METHOD:PUBLISH
X-WR-CALNAME:AgriSafe Network
X-ORIGINAL-URL:https://www.agrisafe.org
X-WR-CALDESC:Events for AgriSafe Network
REFRESH-INTERVAL;VALUE=DURATION:PT1H
X-Robots-Tag:noindex
X-PUBLISHED-TTL:PT1H
BEGIN:VTIMEZONE
TZID:America/Chicago
BEGIN:DAYLIGHT
TZOFFSETFROM:-0600
TZOFFSETTO:-0500
TZNAME:CDT
DTSTART:20220313T080000
END:DAYLIGHT
BEGIN:STANDARD
TZOFFSETFROM:-0500
TZOFFSETTO:-0600
TZNAME:CST
DTSTART:20221106T070000
END:STANDARD
BEGIN:DAYLIGHT
TZOFFSETFROM:-0600
TZOFFSETTO:-0500
TZNAME:CDT
DTSTART:20230312T080000
END:DAYLIGHT
BEGIN:STANDARD
TZOFFSETFROM:-0500
TZOFFSETTO:-0600
TZNAME:CST
DTSTART:20231105T070000
END:STANDARD
BEGIN:DAYLIGHT
TZOFFSETFROM:-0600
TZOFFSETTO:-0500
TZNAME:CDT
DTSTART:20240310T080000
END:DAYLIGHT
BEGIN:STANDARD
TZOFFSETFROM:-0500
TZOFFSETTO:-0600
TZNAME:CST
DTSTART:20241103T070000
END:STANDARD
END:VTIMEZONE
BEGIN:VEVENT
DTSTART;TZID=America/Chicago:20230405T120000
DTEND;TZID=America/Chicago:20230405T130000
DTSTAMP:20260423T110453
CREATED:20230302T190232Z
LAST-MODIFIED:20230420T181446Z
UID:14121-1680696000-1680699600@www.agrisafe.org
SUMMARY:Webinar: Talking About Ticks- Lyme Disease
DESCRIPTION:Summary: As people spend more time outdoors\, so do many insects and pests. Among them are ticks\, which are small bloodsucking insects. The deer tick (also known as the black-legged tick) is found mainly in the Eastern and upper Midwestern regions of the U.S. It can cause conditions such as Lyme disease – the most common vector-borne disease in the United States. This webinar will cover the things you need to know to prevent tick bites when working outdoors\, how to remove a tick if bitten\, as well as the symptoms that can result from tick bites that may indicate Lyme Disease. \nIntended Audience: This course is intended for Ag professionals\, educators\, and individuals involved in working and recreation outdoors. \nObjectives: At the end of this webinar\, participants will be able to: \n\nGain an understanding of tick-borne disease control measures to reduce exposure risks among ag workers.\nDescribe Lyme Disease and its regional variation.\nDescribe symptoms of the different types of Lyme Disease.\nIdentify workers’ rights and employers’ responsibilities for the workplace.\n\n Watch the Recording Here  \nThis material was produced under grant number SH-36995-HA1 from the Occupational Safety and Health Administration\, U.S. Department of Labor. It does not necessarily reflect the views or policies of the U.S. Department of Labor\, nor does mention of trade names\, commercial products\, or organizations imply endorsement by the U.S. Government.
URL:https://www.agrisafe.org/event/webinar-talking-about-ticks-lyme-disease-2/
CATEGORIES:Farmer/Worker Health,Forestry,Health Education and Promotion,OSHA Standards
ATTACH;FMTTYPE=image/jpeg:https://www.agrisafe.org/wp-content/uploads/2022/11/lyme-disease-.jpeg
END:VEVENT
BEGIN:VEVENT
DTSTART;TZID=America/Chicago:20230405T120000
DTEND;TZID=America/Chicago:20230405T133000
DTSTAMP:20260423T110453
CREATED:20230120T150656Z
LAST-MODIFIED:20230414T144701Z
UID:13605-1680696000-1680701400@www.agrisafe.org
SUMMARY:QPR for Farmers and Farm Families
DESCRIPTION:What is QPR? QPR training teaches laypeople and professionals to recognize and respond to mental health crises using the approach of Question\, Persuade and Refer. \nTo attend this training participants must be 18 years of age or older. \nIn this 1.5-hour QPR training\, we will provide:\n– Information on the unique challenges farmers face that can lead to stress\, depression\, and suicide.\n– Examples implementing each QPR component with someone at risk for suicide.\n– Information on how to help someone at risk of suicide. \nRegistration spots are limited\, so please only register if you can attend the event. No recording of this training will be available. Interested in hosting a QPR training session for your organization? Contact Tara Haskins (thaskins@agrisafe.org) for more information! \n Upcoming Training Dates
URL:https://www.agrisafe.org/event/qpr-for-farmers-and-farm-families-16/
CATEGORIES:Cognition,Mental Health,QPR
ATTACH;FMTTYPE=image/png:https://www.agrisafe.org/wp-content/uploads/2021/09/QPR-Virtual-Training-Banner.png
END:VEVENT
END:VCALENDAR