BEGIN:VCALENDAR
VERSION:2.0
PRODID:-//AgriSafe Network - ECPv6.15.20//NONSGML v1.0//EN
CALSCALE:GREGORIAN
METHOD:PUBLISH
X-WR-CALNAME:AgriSafe Network
X-ORIGINAL-URL:https://www.agrisafe.org
X-WR-CALDESC:Events for AgriSafe Network
REFRESH-INTERVAL;VALUE=DURATION:PT1H
X-Robots-Tag:noindex
X-PUBLISHED-TTL:PT1H
BEGIN:VTIMEZONE
TZID:America/Chicago
BEGIN:DAYLIGHT
TZOFFSETFROM:-0600
TZOFFSETTO:-0500
TZNAME:CDT
DTSTART:20220313T080000
END:DAYLIGHT
BEGIN:STANDARD
TZOFFSETFROM:-0500
TZOFFSETTO:-0600
TZNAME:CST
DTSTART:20221106T070000
END:STANDARD
BEGIN:DAYLIGHT
TZOFFSETFROM:-0600
TZOFFSETTO:-0500
TZNAME:CDT
DTSTART:20230312T080000
END:DAYLIGHT
BEGIN:STANDARD
TZOFFSETFROM:-0500
TZOFFSETTO:-0600
TZNAME:CST
DTSTART:20231105T070000
END:STANDARD
BEGIN:DAYLIGHT
TZOFFSETFROM:-0600
TZOFFSETTO:-0500
TZNAME:CDT
DTSTART:20240310T080000
END:DAYLIGHT
BEGIN:STANDARD
TZOFFSETFROM:-0500
TZOFFSETTO:-0600
TZNAME:CST
DTSTART:20241103T070000
END:STANDARD
END:VTIMEZONE
BEGIN:VEVENT
DTSTART;VALUE=DATE:20230319
DTEND;VALUE=DATE:20230324
DTSTAMP:20260423T110443
CREATED:20220712T172943Z
LAST-MODIFIED:20220712T172943Z
UID:9877-1679184000-1679615999@www.agrisafe.org
SUMMARY:2023 AgrAbility National Training Workshop
DESCRIPTION:Save the date for the 2023 NTW!\nJoin AgrAbility March 19-23\, 2023\, at The Centennial Hotel in Spokane\, Washington. \n Learn More
URL:https://www.agrisafe.org/event/2023-agrability-national-training-workshop/
CATEGORIES:Farm Machinery & Tractor Safety,Farmer/Worker Health,Health Education and Promotion
ATTACH;FMTTYPE=image/jpeg:https://www.agrisafe.org/wp-content/uploads/2022/04/tractor.jpg
END:VEVENT
BEGIN:VEVENT
DTSTART;TZID=America/Chicago:20230323T120000
DTEND;TZID=America/Chicago:20230323T130000
DTSTAMP:20260423T110443
CREATED:20230302T190600Z
LAST-MODIFIED:20230420T183757Z
UID:14123-1679572800-1679576400@www.agrisafe.org
SUMMARY:Webinar: A Bird's Eye View of  Avian Influenza
DESCRIPTION:Summary: In this short webinar\, you will learn about the basics of avian influenza\, learn about the HPAI outbreak in 2022\, how outbreak control works\, and what people should do if they suspect a bird is potentially ill with avian influenza. \nIntended Audience: Poultry producers\, health care providers\, veterinarians\, Extension and university staff\, farmers and growers\, and other ag safety and health professionals. \nObjectives: At the end of this webinar\, participants will be able to… \n\nDescribe avian influenza and why we should care\nLearn from the 2022 Highly Pathogenic Avian Influenza outbreak\nUnderstand how HPAI outbreak and control works in the real world\nIdentify links and resources related to avian influenza\n\n  \n Watch Here  \n  \n\n 
URL:https://www.agrisafe.org/event/webinar-a-birds-eye-view-of-avian-influenza/
CATEGORIES:Farmer/Worker Health,Zoonotic Diseases
ATTACH;FMTTYPE=image/png:https://www.agrisafe.org/wp-content/uploads/2023/03/marketing-image-29.png
END:VEVENT
END:VCALENDAR